{"text_format":"1","workbook":"xlsx","n_sheets":1,"sheets":["All. 9 - RIEPILOGO PER UGBTEP"],"not_rendered":{"charts":0,"images":0,"macros":1,"external_links":8,"defined_names":2,"comments":0,"pivot_tables":0},"unopened":[],"bounds":{"document_bytes":16777216,"sheet_cells":100000,"rows_first":2000,"rows_last":500,"rows_between":2000,"halvings":0,"cell_chars":16384,"cell_head_chars":4096},"cells_cut":0,"cells_raw":0,"read":"whole","date_system":"1900"}

{"sheet":"All. 9 - RIEPILOGO PER UGBTEP","index":0,"n_rows":712,"n_cols":26,"rows_kept":712,"cut":false,"hidden":false,"merged":[]}
["Anno","CAPITOLO DI SPESA","DETERMINA N.     DEL","CIG","OGGETTO DEL CONTRATTO","IMPORTO A BASE D'ASTA","AMMONTARE INCENTIVO \nPER SINGOLO CONTRATTO \n(2% -1,90%)",0.8,0.2,"quota 80% \nRELATIVA ALL'UFFICIO che ha predisposto l'allegato 10 (es. UUCR,  SPI, … ALTRO) anno in corso","quota 80% \nRELATIVA ALL'UFFICIO che ha predisposto l'allegato 10 (es. UUCR,  SPI, … ALTRO) anno in corso","Tipo incarico","importo unitario liquidato","percentuale di ripartizione dell'incentivo in base al tipo di incarico svolto","QUOTA LIQUIDATA NEL 2019","QUOTA LIQUIDATA NEL 2020",2022,2023,2024,2025]
[2021,1273,"49 del 06/04/2021","ZD131375B9"," contratto a consumo con la società Eltime s.r.l. per forniture di beni e servizi complementari al funzionamento del sistema di gestione presenze",30000,{"$f":"+F2*0.02","v":600},{"$f":"+G2*0.8","v":480},{"$f":"+G2*0.2","v":120},{"$f":"+K2","v":148.80000000000001},{"$f":"+M2+M3+M4+M5","v":148.80000000000001},"Inc. Pred. Doc",{"$f":"+H2*N2","v":24},0.05]
[2021,1273,"49 del 06/04/2021","ZD131375B9"," contratto a consumo con la società Eltime s.r.l. per forniture di beni e servizi complementari al funzionamento del sistema di gestione presenze",30000,{"$f":"+F3*0.02","v":600},{"$f":"+G3*0.8","v":480},{"$f":"+G3*0.2","v":120},null,null,"Coll. Inc. Pred. Doc",{"$f":"+H3*N3","v":48},0.1]
[2021,1273,"49 del 06/04/2021","ZD131375B9"," contratto a consumo con la società Eltime s.r.l. per forniture di beni e servizi complementari al funzionamento del sistema di gestione presenze",30000,600,480,120,null,null,"RUP Affidamento",{"$f":"+H4*N4","v":48},0.1]
[2021,1273,"49 del 06/04/2021","ZD131375B9"," contratto a consumo con la società Eltime s.r.l. per forniture di beni e servizi complementari al funzionamento del sistema di gestione presenze",30000,600,480,120,null,null,"Coll RUP Aff.",{"$f":"+H5*N5","v":28.799999999999997},0.06]
[2020,1273,"194 DEL 05/11/2020","85032808A2","acquisizione dei servizi di assistenza e manutenzione in scadenza per gli apparati di Centro Stella",120000,{"$f":"+F6*0.02","v":2400},{"$f":"+G6*0.8","v":1920},{"$f":"+G6*0.2","v":480},{"$f":"+K6","v":595.20000000000005},{"$f":"+M6+M7+M8+M9","v":595.20000000000005},"Inc. Pred. Doc",{"$f":"+H6*N6","v":96},0.05]
[2020,1273,"194 DEL 05/11/2020","85032808A2","acquisizione dei servizi di assistenza e manutenzione in scadenza per gli apparati di Centro Stella",120000,{"$f":"+F7*0.02","v":2400},{"$f":"+G7*0.8","v":1920},{"$f":"+G7*0.2","v":480},null,null,"Coll. Inc. Pred. Doc",{"$f":"+H7*N7","v":192},0.1]
[2020,1273,"194 DEL 05/11/2020","85032808A2","acquisizione dei servizi di assistenza e manutenzione in scadenza per gli apparati di Centro Stella",120000,2400,1920,480,null,null,"RUP Affidamento",{"$f":"+H8*N8","v":192},0.1]
[2020,1273,"194 DEL 05/11/2020","85032808A2","acquisizione dei servizi di assistenza e manutenzione in scadenza per gli apparati di Centro Stella",120000,2400,1920,480,null,null,"Coll RUP Aff.",{"$f":"+H9*N9","v":115.19999999999999},0.06]
[2021,1273,"45 del 25/03/2021","8684198AE3","fornitura di licenze Azure Microsoft",125230.05,2504.6010000000001,2003.6808000000001,500.92020000000002,{"$f":"+K10","v":621.14104800000007},{"$f":"+M10+M11+M12+M13","v":621.14104800000007},"Inc. Pred. Doc",{"$f":"+H10*N10","v":100.18404000000001},0.05]
[2021,1273,"45 del 25/03/2021","8684198AE3","fornitura di licenze Azure Microsoft",125230.05,2504.6010000000001,2003.6808000000001,{"$f":"+G11*0.2","v":500.92020000000002},null,null,"Coll. Inc. Pred. Doc",{"$f":"+H11*N11","v":200.36808000000002},0.1]
[2021,1273,"45 del 25/03/2021","8684198AE3","fornitura di licenze Azure Microsoft",125230.05,2504.6010000000001,2003.6808000000001,500.92020000000002,null,null,"RUP Affidamento",{"$f":"+H12*N12","v":200.36808000000002},0.1]
[2021,1273,"45 del 25/03/2021","8684198AE3","fornitura di licenze Azure Microsoft",125230.05,2504.6010000000001,2003.6808000000001,500.92020000000002,null,null,"Coll RUP Aff.",{"$f":"+H13*N13","v":120.220848},0.06]
[2021,1273,"111 del 19/08/2021","8859356BD7 "," Affidamento dei Servizi di supporto \"Microsoft Services Premier Support\" - Premier standard (2021-2022)",59500,1190,952,238,{"$f":"+K14","v":295.12},{"$f":"+M14+M15+M16+M17","v":295.12},"Inc. Pred. Doc.",{"$f":"+H14*N14","v":47.6},0.05]
[2021,1273,"111 del 19/08/2021","8859356BD7 "," Affidamento dei Servizi di supporto \"Microsoft Services Premier Support\" - Premier standard (2021-2022)",59500,1190,952,{"$f":"+G15*0.2","v":238},null,null,"Coll. Inc. Pred. Doc.",{"$f":"+H15*N15","v":95.2},0.1]
[2021,1273,"111 del 19/08/2021","8859356BD7 "," Affidamento dei Servizi di supporto \"Microsoft Services Premier Support\" - Premier standard (2021-2022)",59500,1190,952,238,null,null,"RUP Affidamento",{"$f":"+H16*N16","v":95.2},0.1]
[2021,1273,"111 del 19/08/2021","8859356BD7 "," Affidamento dei Servizi di supporto \"Microsoft Services Premier Support\" - Premier standard (2021-2022)",59500,1190,952,238,null,null,"Coll RUP Aff.",{"$f":"+H17*N17","v":57.12},0.06]
[2021,1273,"112 del 19/08/2021"," Z2B32CBD2D ","Affidamento dei servizi della suite Sebina, quota parte biblioteca aggiuntiva Polo RMG per la Biblioteca del Consiglio di Stato (e i Tar collegati) fino al 30 aprile 2022, con servizio di assistenza on site per complessive 140 ore",11667,233.34,186.67200000000003,46.668000000000006,{"$f":"+K18","v":57.868320000000011},{"$f":"+M18+M19+M20+M21","v":57.868320000000011},"Inc. Pred. Doc.",{"$f":"+H18*N18","v":9.3336000000000023},0.05]
[2021,1273,"112 del 19/08/2021"," Z2B32CBD2D ","Affidamento dei servizi della suite Sebina, quota parte biblioteca aggiuntiva Polo RMG per la Biblioteca del Consiglio di Stato (e i Tar collegati) fino al 30 aprile 2022, con servizio di assistenza on site per complessive 140 ore",11667,233.34,186.67200000000003,{"$f":"+G19*0.2","v":46.668000000000006},null,null,"Coll. Inc. Pred. Doc.",{"$f":"+H19*N19","v":18.667200000000005},0.1]
[2021,1273,"112 del 19/08/2021"," Z2B32CBD2D ","Affidamento dei servizi della suite Sebina, quota parte biblioteca aggiuntiva Polo RMG per la Biblioteca del Consiglio di Stato (e i Tar collegati) fino al 30 aprile 2022, con servizio di assistenza on site per complessive 140 ore",11667,233.34,186.67200000000003,46.668000000000006,null,null,"RUP Affidamento",{"$f":"+H20*N20","v":18.667200000000005},0.1]
[2021,1273,"112 del 19/08/2021"," Z2B32CBD2D ","Affidamento dei servizi della suite Sebina, quota parte biblioteca aggiuntiva Polo RMG per la Biblioteca del Consiglio di Stato (e i Tar collegati) fino al 30 aprile 2022, con servizio di assistenza on site per complessive 140 ore",11667,233.34,186.67200000000003,46.668000000000006,null,null,"Coll RUP Aff.",{"$f":"+H21*N21","v":11.200320000000001},0.06]
[2021,1273,"125 del 16/09/2021"," 890781517C ","adesione alla Convenzione Consip Telefonia edizione 8, dei servizi di Telefonia Mobile per le Pubbliche Amministrazioni ",230000,{"$f":"+F22*1.9/100","v":4370},3496,874,{"$f":"+K22","v":489.44},{"$f":"+M22+M23+M24+M25","v":489.44},"Inc. Pred. Doc.",{"$f":"+H22*N22","v":69.92},0.02]
[2021,1273,"125 del 16/09/2021"," 890781517C ","adesione alla Convenzione Consip Telefonia edizione 8, dei servizi di Telefonia Mobile per le Pubbliche Amministrazioni ",230000,{"$f":"+F23*1.9/100","v":4370},3496,{"$f":"+G23*0.2","v":874},null,null,"Coll. Inc. Pred. Doc.",{"$f":"+H23*N23","v":34.96},0.01]
[2021,1273,"125 del 16/09/2021"," 890781517C ","adesione alla Convenzione Consip Telefonia edizione 8, dei servizi di Telefonia Mobile per le Pubbliche Amministrazioni ",230000,4370,3496,874,null,null,"RUP Affidamento",{"$f":"+H24*N24","v":279.68},0.08]
[2021,1273,"125 del 16/09/2021"," 890781517C ","adesione alla Convenzione Consip Telefonia edizione 8, dei servizi di Telefonia Mobile per le Pubbliche Amministrazioni ",230000,4370,3496,874,null,null,"Coll RUP Aff.",{"$f":"+H25*N25","v":104.88},0.03]
[2021,1273,"161 del 11/11/2021",897532200,"Servizi di banca dati De Jure (Giuffrè)",270000,{"$f":"+F26*1.9/100","v":5130},{"$f":"+G26*0.8","v":4104},1026,{"$f":"+K26","v":1272.24},{"$f":"+M26+M27+M28+M29","v":1272.24},"Inc. Pred. Doc",{"$f":"+H26*N26","v":205.20000000000002},0.05]
[2021,1273,"161 del 11/11/2021",897532200,"Servizi di banca dati De Jure (Giuffrè)",270000,{"$f":"+F27*1.9/100","v":5130},4104,{"$f":"+G27*0.2","v":1026},null,null,"Coll. Inc. Pred. Doc",{"$f":"+H27*N27","v":410.40000000000003},0.1]
[2021,1273,"161 del 11/11/2021",897532200,"Servizi di banca dati De Jure (Giuffrè)",270000,5130,4104,1026,null,null,"RUP Affidamento",{"$f":"+H28*N28","v":410.40000000000003},0.1]
[2021,1273,"161 del 11/11/2021",897532200,"Servizi di banca dati De Jure (Giuffrè)",270000,5130,4104,1026,null,null,"Coll RUP Aff.",{"$f":"+H29*N29","v":246.23999999999998},0.06]
[2020,1273,"243 del 28/12/2020","8565699e6a","Servizi di banca dati lex italia",125000,{"$f":"+F30*0.02","v":2500},{"$f":"+G30*0.8","v":2000},500,{"$f":"+K30","v":620},{"$f":"+M30+M31+M32+M33","v":620},"Inc. Pred. Doc",{"$f":"+H30*N30","v":100},0.05]
[2020,1273,"243 del 28/12/2020","8565699e6a","Servizi di banca dati lex italia",125000,{"$f":"+F31*0.02","v":2500},2000,{"$f":"+G31*0.2","v":500},null,null,"Coll. Inc. Pred. Doc",{"$f":"+H31*N31","v":200},0.1]
[2020,1273,"243 del 28/12/2020","8565699e6a","Servizi di banca dati lex italia",125000,2500,2000,500,null,null,"RUP Affidamento",{"$f":"+H32*N32","v":200},0.1]
[2020,1273,"243 del 28/12/2020","8565699e6a","Servizi di banca dati lex italia",125000,2500,2000,500,null,null,"Coll RUP Aff.",{"$f":"+H33*N33","v":120},0.06]
[2020,1273,"220 DEL 07/12/2020","8549604C67","soluzione Portale e Content Management per il sito internet istituzionale della Giustizia amministrativa Liferay DXP e del relativo servizio di supporto specialistico accessorio a consumo”",203500,4070,3256,814,{"$f":"+K34","v":1009.3600000000001},{"$f":"+M34+M35+M37+M38+M36","v":1009.3600000000001},"Inc. Pred. Doc",{"$f":"+H34*N34","v":162.80000000000001},0.05]
[2020,1273,"220 DEL 07/12/2020","8549604C67","soluzione Portale e Content Management per il sito internet istituzionale della Giustizia amministrativa Liferay DXP e del relativo servizio di supporto specialistico accessorio a consumo”",203500,{"$f":"+F35*0.02","v":4070},{"$f":"+G35*0.8","v":3256},{"$f":"+G35*0.2","v":814},null,null,"Coll. Inc. Pred. Doc",{"$f":"+H35*N35","v":211.64000000000001},6.5000000000000002E-2]
[2020,1273,"220 DEL 07/12/2020","8549604C67","soluzione Portale e Content Management per il sito internet istituzionale della Giustizia amministrativa Liferay DXP e del relativo servizio di supporto specialistico accessorio a consumo”",203500,{"$f":"+F36*0.02","v":4070},{"$f":"+G36*0.8","v":3256},{"$f":"+G36*0.2","v":814},null,null,"Coll. Inc. Pred. Doc",{"$f":"+H36*N36","v":113.96000000000001},3.5000000000000003E-2]
[2020,1273,"220 DEL 07/12/2020","8549604C67","soluzione Portale e Content Management per il sito internet istituzionale della Giustizia amministrativa Liferay DXP e del relativo servizio di supporto specialistico accessorio a consumo”",203500,4070,3256,814,null,null,"RUP Affidamento",{"$f":"+H37*N37","v":325.60000000000002},0.1]
[2020,1273,"220 DEL 07/12/2020","8549604C67","soluzione Portale e Content Management per il sito internet istituzionale della Giustizia amministrativa Liferay DXP e del relativo servizio di supporto specialistico accessorio a consumo”",203500,4070,3256,814,null,null,"Coll RUP Aff.",{"$f":"+H38*N38","v":195.35999999999999},0.06]
[2021,1273,"91 del 06/07/2021"," Z10325D5F5","Fornitura Toner Stampanti",13000,260,208,52,{"$f":"+K39","v":64.48},{"$f":"+M39+M40+M41+M42+M43","v":64.48},"Inc. Pred. Doc",{"$f":"+H39*N39","v":10.4},0.05]
[2021,1273,"91 del 06/07/2021"," Z10325D5F5","Fornitura Toner Stampanti",13000,{"$f":"+F40*0.02","v":260},{"$f":"+G40*0.8","v":208},{"$f":"+G40*0.2","v":52},null,null,"Coll. Inc. Pred. Doc",{"$f":"+H40*N40","v":13.52},6.5000000000000002E-2]
[2021,1273,"91 del 06/07/2021"," Z10325D5F5","Fornitura Toner Stampanti",13000,260,208,52,null,null,"Coll. Inc. Pred. Doc",{"$f":"+H41*N41","v":7.2800000000000011},3.5000000000000003E-2]
[2021,1273,"91 del 06/07/2021"," Z10325D5F5","Fornitura Toner Stampanti",13000,260,208,52,null,null,"RUP Affidamento",{"$f":"+H42*N42","v":20.8},0.1]
[2021,1273,"91 del 06/07/2021"," Z10325D5F5","Fornitura Toner Stampanti",13000,260,208,52,null,null,"Coll RUP Aff.",{"$f":"+H43*N43","v":12.48},0.06]
[2021,1273,"175 del 01/12/2021","ZE23431F56","Acquisto stampanti multifunzione per dotazione domestica magistrati (l'acquisto è stato inserito sul cap. riportato in determina, anche se il cap. corretto sarebbe il 4250)",18500,370,296,74,{"$f":"+K44","v":91.759999999999991},{"$f":"+M44+M45+M46+M47+M48","v":91.759999999999991},"Inc. Pred. Doc",{"$f":"+H44*N44","v":14.8},0.05]
[2021,1273,"175 del 01/12/2021","ZE23431F56","Acquisto stampanti multifunzione per dotazione domestica magistrati",18500,{"$f":"+F45*0.02","v":370},{"$f":"+G45*0.8","v":296},{"$f":"+G45*0.2","v":74},null,null,"Coll. Inc. Pred. Doc",{"$f":"+H45*N45","v":19.240000000000002},6.5000000000000002E-2]
[2021,1273,"175 del 01/12/2021","ZE23431F56","Acquisto stampanti multifunzione per dotazione domestica magistrati",18500,370,296,74,null,null,"Coll. Inc. Pred. Doc",{"$f":"+H46*N46","v":10.360000000000001},3.5000000000000003E-2]
[2021,1273,"175 del 01/12/2021","ZE23431F56","Acquisto stampanti multifunzione per dotazione domestica magistrati",18500,370,296,74,null,null,"RUP Affidamento",{"$f":"+H47*N47","v":29.6},0.1]
[2021,1273,"175 del 01/12/2021","ZE23431F56","Acquisto stampanti multifunzione per dotazione domestica magistrati",18500,370,296,74,null,null,"Coll RUP Aff.",{"$f":"+H48*N48","v":17.759999999999998},0.06]
[2021,1273,"27 DEL 18/02/2021"," 85909070BB","BANCA DATI IL SOLE 24 ORE",298000,{"$f":"+F49*1.9/100","v":5662},4529.6000000000004,1132.4000000000001,{"$f":"+K49","v":1404.1760000000002},{"$f":"+M49+M50+M51+M52","v":1404.1760000000002},"Inc. Pred. Doc",{"$f":"+H49*N49","v":226.48000000000002},0.05]
[2021,1273,"27 DEL 18/02/2021"," 85909070BB","BANCA DATI IL SOLE 24 ORE",298000,{"$f":"+F50*1.9/100","v":5662},{"$f":"+G50*0.8","v":4529.6000000000004},{"$f":"+G50*0.2","v":1132.4000000000001},null,null,"Coll. Inc. Pred. Doc",{"$f":"+H50*N50","v":452.96000000000004},0.1]
[2021,1273,"27 DEL 18/02/2021"," 85909070BB","BANCA DATI IL SOLE 24 ORE",298000,5662,4529.6000000000004,1132.4000000000001,null,null,"RUP Affidamento",{"$f":"+H51*N51","v":452.96000000000004},0.1]
[2021,1273,"27 DEL 18/02/2021"," 85909070BB","BANCA DATI IL SOLE 24 ORE",298000,5662,4529.6000000000004,1132.4000000000001,null,null,"Coll RUP Aff.",{"$f":"+H52*N52","v":271.77600000000001},0.06]
[2021,1273,"20 DEL 11/02/2021","ZB13099E1E","Fornitura Licenze Sistema Istituzionale",10299.27,{"$f":"+F53*2/100","v":205.9854},164.78832,41.19708,{"$f":"+K53","v":51.084379200000001},{"$f":"+M53+M54+M55+M56","v":51.084379200000001},"Inc. Pred. Doc",{"$f":"+H53*N53","v":8.2394160000000003},0.05]
[2021,1273,"20 DEL 11/02/2021","ZB13099E1E","Fornitura Licenze Sistema Istituzionale",10299.27,{"$f":"+F54*2/100","v":205.9854},{"$f":"+G54*0.8","v":164.78832},{"$f":"+G54*0.2","v":41.19708},null,null,"Coll. Inc. Pred. Doc",{"$f":"+H54*N54","v":16.478832000000001},0.1]
[2021,1273,"20 DEL 11/02/2021","ZB13099E1E","Fornitura Licenze Sistema Istituzionale",10299.27,{"$f":"+F55*2/100","v":205.9854},164.78832,41.19708,null,null,"RUP Affidamento",{"$f":"+H55*N55","v":16.478832000000001},0.1]
[2021,1273,"20 DEL 11/02/2021","ZB13099E1E","Fornitura Licenze Sistema Istituzionale",10299.27,205.9854,164.78832,41.19708,null,null,"Coll RUP Aff.",{"$f":"+H56*N56","v":9.8872991999999993},0.06]
[2021,1273,"59 del 22/04/2021","Z683159509","Fornitura Licenze Team Viewer",1438.86,{"$f":"+F57*2/100","v":28.777199999999997},23.02176,5.7554400000000001,{"$f":"+K57","v":7.1367456000000011},{"$f":"+M57+M58+M60+M61+M59","v":7.1367456000000011},"Inc. Pred. Doc",{"$f":"+H57*N57","v":1.1510880000000001},0.05]
[2021,1273,"59 del 22/04/2021","Z683159509","Fornitura Licenze Team Viewer",1438.86,{"$f":"+F58*2/100","v":28.777199999999997},{"$f":"+G58*0.8","v":23.02176},{"$f":"+G58*0.2","v":5.7554400000000001},null,null,"Coll. Inc. Pred. Doc",{"$f":"+H58*N58","v":1.4964144000000001},6.5000000000000002E-2]
[2021,1273,"59 del 22/04/2021","Z683159509","Fornitura Licenze Team Viewer",1438.86,{"$f":"+F59*2/100","v":28.777199999999997},{"$f":"+G59*0.8","v":23.02176},{"$f":"+G59*0.2","v":5.7554400000000001},null,null,"Coll. Inc. Pred. Doc",{"$f":"+H59*N59","v":0.80576160000000008},3.5000000000000003E-2]
[2021,1273,"59 del 22/04/2021","Z683159509","Fornitura Licenze Team Viewer",1438.86,28.777199999999997,23.02176,5.7554400000000001,null,null,"RUP Affidamento",{"$f":"+H60*N60","v":2.3021760000000002},0.1]
[2021,1273,"59 del 22/04/2021","Z683159509","Fornitura Licenze Team Viewer",1438.86,28.777199999999997,23.02176,5.7554400000000001,null,null,"Coll RUP Aff.",{"$f":"+H61*N61","v":1.3813055999999999},0.06]
[2021,1273,"84 del 18/06/2021"," 87985243B2","Licenze Adobe",324309.28999999998,{"$f":"+F62*1.9/100","v":6161.8765099999991},4929.5012079999997,1232.3753019999999,{"$f":"+K62","v":690.13016911999989},{"$f":"+M62+M63+M64+M65+M66+M67","v":690.13016911999989},"Inc. Pred. Doc",{"$f":"+H62*N62","v":98.590024159999999},0.02]
[2021,1273,"84 del 18/06/2021"," 87985243B2","Licenze Adobe",324309.28999999998,{"$f":"+F63*1.9/100","v":6161.8765099999991},{"$f":"+G63*0.8","v":4929.5012079999997},{"$f":"+G63*0.2","v":1232.3753019999999},null,null,"Coll. Inc. Pred. Doc",{"$f":"+H63*N63","v":24.64750604},5.0000000000000001E-3]
[2021,1273,"84 del 18/06/2021"," 87985243B2","Licenze Adobe",324309.28999999998,6161.8765099999991,4929.5012079999997,1232.3753019999999,null,null,"Coll. Inc. Pred. Doc",{"$f":"+H64*N64","v":24.64750604},5.0000000000000001E-3]
[2021,1273,"84 del 18/06/2021"," 87985243B2","Licenze Adobe",324309.28999999998,6161.8765099999991,4929.5012079999997,1232.3753019999999,null,null,"RUP Affidamento",{"$f":"+H65*N65","v":394.36009663999999},0.08]
[2021,1273,"84 del 18/06/2021"," 87985243B2","Licenze Adobe",324309.28999999998,6161.8765099999991,4929.5012079999997,1232.3753019999999,null,null,"Coll RUP Aff.",{"$f":"+H66*N66","v":73.942518119999988},1.4999999999999999E-2]
[2021,1273,"84 del 18/06/2021"," 87985243B2","Licenze Adobe",324309.28999999998,6161.8765099999991,4929.5012079999997,1232.3753019999999,null,null,"Coll RUP Aff.",{"$f":"+H67*N67","v":73.942518119999988},1.4999999999999999E-2]
[2021,1273,"113 del24/08/2021","Z4632D0239","Fornitura Licenze Microsoft",22110,{"$f":"+F68*2/100","v":442.2},353.76,88.44,{"$f":"+K68","v":49.526400000000002},{"$f":"+M68+M69+M70+M71","v":49.526400000000002},"Inc. Pred. Doc",{"$f":"+H68*N68","v":7.0751999999999997},0.02]
[2021,1273,"113 del24/08/2021","Z4632D0239","Fornitura Licenze Microsoft",22110,{"$f":"+F69*2/100","v":442.2},{"$f":"+G69*0.8","v":353.76},{"$f":"+G69*0.2","v":88.44},null,null,"Coll. Inc. Pred. Doc",{"$f":"+H69*N69","v":3.5375999999999999},0.01]
[2021,1273,"113 del24/08/2021","Z4632D0239","Fornitura Licenze Microsoft",22110,442.2,353.76,88.44,null,null,"RUP Affidamento",{"$f":"+H70*N70","v":28.300799999999999},0.08]
[2021,1273,"113 del24/08/2021","Z4632D0239","Fornitura Licenze Microsoft",22110,442.2,353.76,88.44,null,null,"Coll RUP Aff.",{"$f":"+H71*N71","v":10.6128},0.03]
[2021,1273,"140 del 15/10/2021","Z8133751DC"," fornitura della licenza software Lansweeper",24000,{"$f":"+F72*2/100","v":480},384,96,{"$f":"+K72","v":119.04000000000002},{"$f":"+M72+M73+M74+M76+M75","v":119.04000000000002},"Inc. Pred. Doc",{"$f":"+H72*N72","v":19.200000000000003},0.05]
[2021,1273,"140 del 15/10/2021","Z8133751DC"," fornitura della licenza software Lansweeper",24000,{"$f":"+F73*2/100","v":480},{"$f":"+G73*0.8","v":384},{"$f":"+G73*0.2","v":96},null,null,"Coll. Inc. Pred. Doc",{"$f":"+H73*N73","v":24.96},6.5000000000000002E-2]
[2021,1273,"140 del 15/10/2021","Z8133751DC"," fornitura della licenza software Lansweeper",24000,480,384,96,null,null,"Coll. Inc. Pred. Doc",{"$f":"+H74*N74","v":13.440000000000001},3.5000000000000003E-2]
[2021,1273,"140 del 15/10/2021","Z8133751DC"," fornitura della licenza software Lansweeper",24000,{"$f":"+F75*2/100","v":480},{"$f":"+G75*0.8","v":384},{"$f":"+G75*0.2","v":96},null,null,"RUP Affidamento",{"$f":"+H75*N75","v":38.400000000000006},0.1]
[2021,1273,"140 del 15/10/2021","Z8133751DC"," fornitura della licenza software Lansweeper",24000,480,384,96,null,null,"Coll RUP Aff.",{"$f":"+H76*N76","v":23.04},0.06]
[2021,1273,"150 DEL 29/10/2021"," 8961653DFE.","servizio di consulenza progettuale a consumo per prodotti Oracle",49920,998.4,798.72,199.68,{"$f":"+K77","v":247.60320000000004},{"$f":"+M77+M78+M79+M80","v":247.60320000000004},"Inc. Pred. Doc",{"$f":"+H77*N77","v":79.872000000000014},0.1]
[2021,1273,"150 DEL 29/10/2021"," 8961653DFE.","servizio di consulenza progettuale a consumo per prodotti Oracle",49920,998.4,{"$f":"+G78*0.8","v":798.72},{"$f":"+G78*0.2","v":199.68},null,null,"Coll. Inc. Pred. Doc",{"$f":"+H78*N78","v":79.872000000000014},0.1]
[2021,1273,"150 DEL 29/10/2021"," 8961653DFE.","servizio di consulenza progettuale a consumo per prodotti Oracle",49920,998.4,798.72,199.68,null,null,"RUP Affidamento",{"$f":"+H79*N79","v":47.923200000000001},0.06]
[2021,1273,"150 DEL 29/10/2021"," 8961653DFE.","servizio di consulenza progettuale a consumo per prodotti Oracle",49920,998.4,798.72,199.68,null,null,"Coll RUP Aff.",{"$f":"+H80*N80","v":39.936000000000007},0.05]
[2021,1273,"168 DEL 24/11/2021","8993874B9B","supporto specialistico tecnico per le licenze Oracle",177786.39,3555.7278000000001,2844.5822400000002,711.14556000000005,{"$f":"+K81","v":881.82049440000014},{"$f":"+M81+M82+M83+M84+M85+M86","v":881.82049440000014},"Inc. Pred. Doc",{"$f":"+H81*N81","v":142.22911200000001},0.05]
[2021,1273,"168 DEL 24/11/2021","8993874B9B","supporto specialistico tecnico per le licenze Oracle",177786.39,3555.7278000000001,{"$f":"+G82*0.8","v":2844.5822400000002},{"$f":"+G82*0.2","v":711.14556000000005},null,null,"Coll. Inc. Pred. Doc",{"$f":"+H82*N82","v":142.22911200000001},0.05]
[2021,1273,"168 DEL 24/11/2021","8993874B9B","supporto specialistico tecnico per le licenze Oracle",177786.39,3555.7278000000001,2844.5822400000002,711.14556000000005,null,null,{"$f":"+L82","v":"Coll. Inc. Pred. Doc"},{"$f":"+H83*N83","v":142.22911200000001},0.05]
[2021,1273,"168 DEL 24/11/2021","8993874B9B","supporto specialistico tecnico per le licenze Oracle",177786.39,3555.7278000000001,2844.5822400000002,711.14556000000005,null,null,"RUP Affidamento",{"$f":"+H84*N84","v":284.45822400000003},0.1]
[2021,1273,"168 DEL 24/11/2021","8993874B9B","supporto specialistico tecnico per le licenze Oracle",177786.39,3555.7278000000001,2844.5822400000002,711.14556000000005,null,null,"Coll RUP Aff.",{"$f":"+H85*N85","v":85.337467200000006},0.03]
[2021,1273,"168 DEL 24/11/2021","8993874B9B","supporto specialistico tecnico per le licenze Oracle",177786.39,3555.7278000000001,2844.5822400000002,711.14556000000005,null,null,{"$f":"+L85","v":"Coll RUP Aff."},{"$f":"+H86*N86","v":85.337467200000006},0.03]
[2021,1273,"220 DEL 12/02/2021","Z00307C4E3","Piattaforma PA WHISTLEBLOWINGS",24000,480,384,96,{"$f":"+K87","v":119.04000000000002},{"$f":"+M87+M88+M89+M90+M91","v":119.04000000000002},"Inc. Pred. Doc",{"$f":"+H87*N87","v":19.200000000000003},0.05]
[2021,1273,"220 DEL 12/02/2021","Z00307C4E3","Piattaforma PA WHISTLEBLOWINGS",24000,480,{"$f":"+G88*0.8","v":384},{"$f":"+G88*0.2","v":96},null,null,"Coll. Inc. Pred. Doc",{"$f":"+H88*N88","v":24.96},6.5000000000000002E-2]
[2021,1273,"220 DEL 12/02/2021","Z00307C4E3","Piattaforma PA WHISTLEBLOWINGS",24000,480,384,96,null,null,"Coll. Inc. Pred. Doc",{"$f":"+H89*N89","v":13.440000000000001},3.5000000000000003E-2]
[2021,1273,"220 DEL 12/02/2021","Z00307C4E3","Piattaforma PA WHISTLEBLOWINGS",24000,480,384,96,null,null,"RUP Affidamento",{"$f":"+H90*N90","v":38.400000000000006},0.1]
[2021,1273,"220 DEL 12/02/2021","Z00307C4E3","Piattaforma PA WHISTLEBLOWINGS",24000,480,384,96,null,null,"Coll RUP Aff.",{"$f":"+H91*N91","v":23.04},0.06]
[2021,1273,"14 del 29/01/2021","ZA7303CA17","250 badge marcatempo",2450,{"$f":"+F92*2/100","v":49},39.200000000000003,9.8000000000000007,{"$f":"+K92","v":12.152000000000001},{"$f":"+M92+M93+M94+M95","v":12.152000000000001},"Inc. Pred. Doc",{"$f":"+H93*N92","v":1.9600000000000002},0.05]
[2021,1273,"14 del 29/01/2021","ZA7303CA17","250 badge marcatempo",2450,{"$f":"+F93*2/100","v":49},{"$f":"+G93*0.8","v":39.200000000000003},{"$f":"+G93*0.2","v":9.8000000000000007},null,null,"Coll. Inc. Pred. Doc",{"$f":"+H94*N93","v":3.9200000000000004},0.1]
[2021,1273,"14 del 29/01/2021","ZA7303CA17","250 badge marcatempo",2450,49,39.200000000000003,9.8000000000000007,null,null,"RUP Affidamento",{"$f":"+H95*N94","v":3.9200000000000004},0.1]
[2021,1273,"14 del 29/01/2021","ZA7303CA17","250 badge marcatempo",2450,49,39.200000000000003,9.8000000000000007,null,null,"Coll RUP Aff.",{"$f":"+H95*N95","v":2.3519999999999999},0.06]
[2021,1273,"169 DEL 24/11/2021","ZE2340F94B","MATERIALE FACILE CONSUMO",11700,{"$f":"+F96*2/100","v":234},{"$f":"+G96*0.8","v":187.20000000000002},{"$f":"+G96*0.2","v":46.800000000000004},{"$f":"+K96","v":58.032000000000004},{"$f":"+M96+M97+M99+M100+M98","v":58.032000000000004},"Inc. Pred. Doc",{"$f":"+H96*N96","v":9.3600000000000012},0.05]
[2021,1273,"169 DEL 24/11/2021","ZE2340F94B","MATERIALE FACILE CONSUMO",11700,{"$f":"+F97*2/100","v":234},{"$f":"+G97*0.8","v":187.20000000000002},{"$f":"+G97*0.2","v":46.800000000000004},null,null,"Coll. Inc. Pred. Doc",{"$f":"+H97*N97","v":12.168000000000001},6.5000000000000002E-2]
[2021,1273,"169 DEL 24/11/2021","ZE2340F94B","MATERIALE FACILE CONSUMO",11700,234,{"$f":"+G98*0.8","v":187.20000000000002},{"$f":"+G98*0.2","v":46.800000000000004},null,null,"Coll. Inc. Pred. Doc",{"$f":"+H98*N98","v":6.5520000000000014},3.5000000000000003E-2]
[2021,1273,"169 DEL 24/11/2021","ZE2340F94B","MATERIALE FACILE CONSUMO",11700,234,187.20000000000002,46.800000000000004,null,null,"RUP Affidamento",{"$f":"+H99*N99","v":18.720000000000002},0.1]
[2021,1273,"169 DEL 24/11/2021","ZE2340F94B","MATERIALE FACILE CONSUMO",11700,234,187.20000000000002,46.800000000000004,null,null,"Coll RUP Aff.",{"$f":"+H100*N100","v":11.232000000000001},0.06]
[2021,1273,"4 DEL 12/01/2021","ZB83019DD8","n. 1 licenze ACCA software pacchetto Primus + Certus (IN ACCORDO CON UFF. INF. AFF. + ESECUZIONE esc. Progr.)",6500,{"$f":"+F101*2/100","v":130},104,26,{"$f":"+K101","v":95.68},{"$f":"+M101+M102+M103+M104+M105+M106+M108+M107+M109+M110+M111","v":95.68},"Inc. Pred. Doc",{"$f":"+H101*N101","v":5.2},0.05]
[2021,1273,"4 DEL 12/01/2021","ZB83019DD8","n. 1 licenze ACCA software pacchetto Primus + Certus (IN ACCORDO CON UFF. INF. AFF. + ESECUZIONE esc. Progr.)",6500,{"$f":"+F102*2/100","v":130},{"$f":"+G102*0.8","v":104},{"$f":"+G102*0.2","v":26},null,null,"Coll. Inc. Pred. Doc",{"$f":"+H102*N102","v":10.4},0.1]
[2021,1273,"4 DEL 12/01/2021","ZB83019DD8","n. 1 licenze ACCA software pacchetto Primus + Certus (IN ACCORDO CON UFF. INF. AFF. + ESECUZIONE esc. Progr.)",6500,130,104,26,null,null,"RUP Affidamento",{"$f":"+H103*N103","v":10.4},0.1]
[2021,1273,"4 DEL 12/01/2021","ZB83019DD8","n. 1 licenze ACCA software pacchetto Primus + Certus (IN ACCORDO CON UFF. INF. AFF. + ESECUZIONE esc. Progr.)",6500,130,104,26,null,null,"Coll RUP Aff.",{"$f":"+H104*N104","v":6.24},0.06]
[2021,1273,"4 DEL 12/01/2021","ZB83019DD8","n. 1 licenze ACCA software pacchetto Primus + Certus (IN ACCORDO CON UFF. INF. AFF. + ESECUZIONE esc. Progr.)",6500,130,104,26,null,null,"Rup esecuz.",{"$f":"+H105*N105","v":17.68},0.17]
[2021,1273,"4 DEL 12/01/2021","ZB83019DD8","n. 1 licenze ACCA software pacchetto Primus + Certus (IN ACCORDO CON UFF. INF. AFF. + ESECUZIONE esc. Progr.)",6500,130,104,26,null,null,"Coll. Rup esec.",{"$f":"+H106*N106","v":10.4},0.1]
[2021,1273,"4 DEL 12/01/2021","ZB83019DD8","n. 1 licenze ACCA software pacchetto Primus + Certus (IN ACCORDO CON UFF. INF. AFF. + ESECUZIONE esc. Progr.)",6500,130,104,26,null,null,"DEC",{"$f":"+H107*N107","v":12.48},0.12]
[2021,1273,"4 DEL 12/01/2021","ZB83019DD8","n. 1 licenze ACCA software pacchetto Primus + Certus (IN ACCORDO CON UFF. INF. AFF. + ESECUZIONE esc. Progr.)",6500,130,104,26,null,null,"Coll. DEC",{"$f":"+H108*N108","v":5.2},0.05]
[2021,1273,"4 DEL 12/01/2021","ZB83019DD8","n. 1 licenze ACCA software pacchetto Primus + Certus (IN ACCORDO CON UFF. INF. AFF. + ESECUZIONE esc. Progr.)",6500,130,104,26,null,null,"Coll. DEC",{"$f":"+H109*N109","v":5.2},0.05]
[2021,1273,"4 DEL 12/01/2021","ZB83019DD8","n. 1 licenze ACCA software pacchetto Primus + Certus (IN ACCORDO CON UFF. INF. AFF. + ESECUZIONE esc. Progr.)",6500,130,104,26,null,null,"Inc. Verif. Conformità",{"$f":"+H110*N110","v":8.32},0.08]
[2021,1273,"4 DEL 12/01/2021","ZB83019DD8","n. 1 licenze ACCA software pacchetto Primus + Certus (IN ACCORDO CON UFF. INF. AFF. + ESECUZIONE esc. Progr.)",6500,130,104,26,null,null,"Coll. Inc. Ver. Conf",{"$f":"+H111*N111","v":4.16},0.04]
[2021,1273,"147 DEL 27/10/2021","Z6C339AA21","START WEB",34800,{"$f":"+F112*2/100","v":696},556.80000000000007,139.20000000000002,{"$f":"+K112","v":172.608},{"$f":"+M112+M113+M114+M115","v":172.608},"Inc. Pred. Doc",{"$f":"+H112*N112","v":27.840000000000003},0.05]
[2021,1273,"153 DEL 02/11/2021","Z503378658","START WEB",34800,{"$f":"+F113*2/100","v":696},{"$f":"+G113*0.8","v":556.80000000000007},{"$f":"+G113*0.2","v":139.20000000000002},null,null,"Coll. Inc. Pred. Doc",{"$f":"+H113*N113","v":55.680000000000007},0.1]
[2021,1273,"153 DEL 02/11/2021","Z503378658","START WEB",34800,696,556.80000000000007,139.20000000000002,null,null,"RUP Affidamento",{"$f":"+H114*N114","v":55.680000000000007},0.1]
[2021,1273,"153 DEL 02/11/2021","Z503378658","START WEB",34800,696,556.80000000000007,139.20000000000002,null,null,"Coll RUP Aff.",{"$f":"+H115*N115","v":33.408000000000001},0.06]
[2021,1273,"147 DEL 27/10/2021","Z6C339AA21","Licenze SW MULTIBRAND Ed. 3 - Lotto N. 4 - RED HAT",35002.76,{"$f":"+F116*2/100","v":700.05520000000001},560.04416000000003,140.01104000000001,{"$f":"+K116","v":78.406182400000006},{"$f":"+M116+M117+M118+M119","v":78.406182400000006},"Inc. Pred. Doc",{"$f":"+H116*N116","v":11.200883200000002},0.02]
[2021,1273,"147 DEL 27/10/2021","Z6C339AA21","Licenze SW MULTIBRAND Ed. 3 - Lotto N. 4 - RED HAT",35002.76,{"$f":"+F117*2/100","v":700.05520000000001},{"$f":"+G117*0.8","v":560.04416000000003},{"$f":"+G117*0.2","v":140.01104000000001},null,null,"Coll. Inc. Pred. Doc",{"$f":"+H117*N117","v":5.6004416000000008},0.01]
[2021,1273,"147 DEL 27/10/2021","Z6C339AA21","Licenze SW MULTIBRAND Ed. 3 - Lotto N. 4 - RED HAT",35002.76,700.05520000000001,560.04416000000003,140.01104000000001,null,null,"RUP Affidamento",{"$f":"+H118*N118","v":44.803532800000006},0.08]
[2021,1273,"147 DEL 27/10/2021","Z6C339AA21","Licenze SW MULTIBRAND Ed. 3 - Lotto N. 4 - RED HAT",35002.76,700.05520000000001,560.04416000000003,140.01104000000001,null,null,"Coll RUP Aff.",{"$f":"+H119*N119","v":16.8013248},0.03]
[2021,1273,"143 DEL 20/10/2021","8733197E23"," Convenzione Consip Multribrand 3 – Lotto 1 -",547896,{"$f":"+F120*1.9/100","v":10410.023999999999},8328.0192000000006,2082.0048000000002,{"$f":"+K120","v":1165.9226880000001},{"$f":"+M120+M121+M122+M123","v":1165.9226880000001},"Inc. Pred. Doc",{"$f":"+H120*N120","v":166.56038400000003},0.02]
[2021,1273,"143 DEL 20/10/2021","8733197E23"," Convenzione Consip Multribrand 3 – Lotto 1 -",547896,{"$f":"+F121*1.9/100","v":10410.023999999999},8328.0192000000006,2082.0048000000002,null,null,"Coll. Inc. Pred. Doc",{"$f":"+H121*N121","v":83.280192000000014},0.01]
[2021,1273,"143 DEL 20/10/2021","8733197E23"," Convenzione Consip Multribrand 3 – Lotto 1 -",547896,10410.023999999999,8328.0192000000006,2082.0048000000002,null,null,"RUP Affidamento",{"$f":"+H122*N122","v":666.24153600000011},0.08]
[2021,1273,"143 DEL 20/10/2021","8733197E23"," Convenzione Consip Multribrand 3 – Lotto 1 -",547896,10410.023999999999,8328.0192000000006,2082.0048000000002,null,null,"Coll RUP Aff.",{"$f":"+H123*N123","v":249.840576},0.03]
[2020,1273,"229 DEL 04/12/2020"," 85463910F7","ALFRESCO",206720,{"$f":"+F124*2/100","v":4134.3999999999996},3307.52,826.88,{"$f":"+K124","v":1025.3312000000001},{"$f":"+M124+M125+M127+M128+M126","v":1025.3312000000001},"Inc. Pred. Doc",{"$f":"+H124*N124","v":165.376},0.05]
[2020,1273,"229 DEL 04/12/2020"," 85463910F7","ALFRESCO",206720,{"$f":"+F125*2/100","v":4134.3999999999996},{"$f":"+G125*0.8","v":3307.52},{"$f":"+G125*0.2","v":826.88},null,null,"Coll. Inc. Pred. Doc",{"$f":"+H125*N125","v":214.9888},6.5000000000000002E-2]
[2020,1273,"229 DEL 04/12/2020"," 85463910F7","ALFRESCO",206720,4134.3999999999996,{"$f":"+G126*0.8","v":3307.52},{"$f":"+G126*0.2","v":826.88},null,null,"Coll. Inc. Pred. Doc",{"$f":"+H126*N126","v":115.76320000000001},3.5000000000000003E-2]
[2020,1273,"229 DEL 04/12/2020"," 85463910F7","ALFRESCO",206720,4134.3999999999996,3307.52,826.88,null,null,"RUP Affidamento",{"$f":"+H127*N127","v":330.75200000000001},0.1]
[2020,1273,"229 DEL 04/12/2020"," 85463910F7","ALFRESCO",206720,4134.3999999999996,3307.52,826.88,null,null,"Coll RUP Aff.",{"$f":"+H128*N128","v":198.4512},0.06]
[2021,1273,"101 DEL 27/07/2021","8849370B22","MATERIALE FACILE CONSUMO",32500,{"$f":"+F129*2/100","v":650},520,130,{"$f":"+K129","v":161.19999999999999},{"$f":"+M129+M130+M132+M133+M131","v":161.19999999999999},"Inc. Pred. Doc",{"$f":"+H129*N129","v":26},0.05]
[2021,1273,"101 DEL 27/07/2021","8849370B22","MATERIALE FACILE CONSUMO",32500,{"$f":"+F130*2/100","v":650},{"$f":"+G130*0.8","v":520},{"$f":"+G130*0.2","v":130},null,null,"Coll. Inc. Pred. Doc",{"$f":"+H130*N130","v":33.800000000000004},6.5000000000000002E-2]
[2021,1273,"101 DEL 27/07/2021","8849370B22","MATERIALE FACILE CONSUMO",32500,650,520,130,null,null,"Coll. Inc. Pred. Doc",{"$f":"+H131*N131","v":18.200000000000003},3.5000000000000003E-2]
[2021,1273,"101 DEL 27/07/2021","8849370B22","MATERIALE FACILE CONSUMO",32500,650,520,130,null,null,"RUP Affidamento",{"$f":"+H132*N132","v":52},0.1]
[2021,1273,"101 DEL 27/07/2021","8849370B22","MATERIALE FACILE CONSUMO",32500,650,520,130,null,null,"Coll RUP Aff.",{"$f":"+H133*N133","v":31.2},0.06]
[2021,1273,"152 DEL 29/10/2021","ZEE33AFE18.","servizio di Interconnessione tra Sistema Pubblico di Connettività",11400,{"$f":"+F134*2/100","v":228},{"$f":"+G134*0.8","v":182.4},{"$f":"+G134*0.2","v":45.6},{"$f":"+K134","v":56.544000000000011},{"$f":"+M134+M135+M136+M137","v":56.544000000000011},"Inc. Pred. Doc",{"$f":"+H134*N134","v":9.120000000000001},0.05]
[2021,1273,"152 DEL 29/10/2021","ZEE33AFE18.","servizio di Interconnessione tra Sistema Pubblico di Connettività",11400,{"$f":"+F135*2/100","v":228},{"$f":"+G135*0.8","v":182.4},{"$f":"+G135*0.2","v":45.6},null,null,"Coll. Inc. Pred. Doc",{"$f":"+H135*N135","v":18.240000000000002},0.1]
[2021,1273,"152 DEL 29/10/2021","ZEE33AFE18.","servizio di Interconnessione tra Sistema Pubblico di Connettività",11400,228,182.4,45.6,null,null,"RUP Affidamento",{"$f":"+H136*N136","v":18.240000000000002},0.1]
[2021,1273,"152 DEL 29/10/2021","ZEE33AFE18.","servizio di Interconnessione tra Sistema Pubblico di Connettività",11400,228,182.4,45.6,null,null,"Coll RUP Aff.",{"$f":"+H137*N137","v":10.943999999999999},0.06]
[2021,4250,"80 del 15/06/2021","878900545E","fornitura di dischi SSD mod. X319A-6 per storage NetApp AFF A220",162000,{"$f":"+F138*0.02","v":3240},{"$f":"+G138*80/100","v":2592},{"$f":"+G138*0.2","v":648},{"$f":"+K138","v":803.52},{"$f":"+M138+M139+M140+M141","v":803.52},"Inc. Pred. Doc",{"$f":"+H138*N138","v":129.6},0.05]
[2021,4250,"80 del 15/06/2021","878900545E","fornitura di dischi SSD mod. X319A-6 per storage NetApp AFF A220",162000,{"$f":"+F139*0.02","v":3240},{"$f":"+G139*80/100","v":2592},{"$f":"+G139*0.2","v":648},null,null,"Coll. Inc. Pred. Doc",{"$f":"+H139*N139","v":259.2},0.1]
[2021,4250,"80 del 15/06/2021","878900545E","fornitura di dischi SSD mod. X319A-6 per storage NetApp AFF A220",162000,3240,2592,648,null,null,"RUP Affidamento",{"$f":"+H140*N140","v":259.2},0.1]
[2021,4250,"80 del 15/06/2021","878900545E","fornitura di dischi SSD mod. X319A-6 per storage NetApp AFF A220",162000,3240,2592,648,null,null,"Coll. RUP Affidamento",{"$f":"+H141*N141","v":155.51999999999998},0.06]
[2021,4250,"52 del 13/04/2021"," 870082431B ","affidamento della fornitura in adesione alla Convenzione Consip PC Desktop e workstation/ lotto 2 di PC desktop Consip per uffici G.A",48110,962.2,769.76,192.44000000000003,{"$f":"+K142","v":107.7664},{"$f":"+M142+M143+M144+M145","v":107.7664},"Inc. Pred. Doc",{"$f":"+H142*N142","v":15.395200000000001},0.02]
[2021,4250,"52 del 13/04/2021"," 870082431B ","affidamento della fornitura in adesione alla Convenzione Consip PC Desktop e workstation/ lotto 2 di PC desktop Consip per uffici G.A",48110,962.2,769.76,{"$f":"+G143*0.2","v":192.44000000000003},null,null,"Coll. Inc. Pred. Doc",{"$f":"+H143*N143","v":7.6976000000000004},0.01]
[2021,4250,"52 del 13/04/2021"," 870082431B ","affidamento della fornitura in adesione alla Convenzione Consip PC Desktop e workstation/ lotto 2 di PC desktop Consip per uffici G.A",48110,962.2,769.76,192.44000000000003,null,null,"RUP Affidamento",{"$f":"+H144*N144","v":61.580800000000004},0.08]
[2021,4250,"52 del 13/04/2021"," 870082431B ","affidamento della fornitura in adesione alla Convenzione Consip PC Desktop e workstation/ lotto 2 di PC desktop Consip per uffici G.A",48110,962.2,769.76,192.44000000000003,null,null,"Coll. RUP Affidamento",{"$f":"+H145*N145","v":23.0928},0.03]
[2021,4250,"1 del 04/01/2021",8420758554,"affidamento della fornitura di 300 notebook 15,6’’ in convenzione consip “ pc portatili e tablet 4 bis",127190,2543.8000000000002,2035.04,508.76000000000005,{"$f":"+K146","v":284.90559999999999},{"$f":"+M146+M147+M148+M149","v":284.90559999999999},"Inc. Pred. Doc",{"$f":"+H146*N146","v":40.700800000000001},0.02]
[2021,4250,"1 del 04/01/2021",8420758554,"affidamento della fornitura di 300 notebook 15,6’’ in convenzione consip “ pc portatili e tablet 4 bis",127190,2543.8000000000002,2035.04,{"$f":"+G147*0.2","v":508.76000000000005},null,null,"Coll. Inc. Pred. Doc",{"$f":"+H147*N147","v":20.3504},0.01]
[2021,4250,"1 del 04/01/2021",8420758554,"affidamento della fornitura di 300 notebook 15,6’’ in convenzione consip “ pc portatili e tablet 4 bis",127190,2543.8000000000002,2035.04,508.76000000000005,null,null,"RUP Affidamento",{"$f":"+H148*N148","v":162.8032},0.08]
[2021,4250,"1 del 04/01/2021",8420758554,"affidamento della fornitura di 300 notebook 15,6’’ in convenzione consip “ pc portatili e tablet 4 bis",127190,2543.8000000000002,2035.04,508.76000000000005,null,null,"Coll. RUP Affidamento",{"$f":"+H149*N149","v":61.051199999999994},0.03]
[2021,4250,"167 DEL 24/11/2021","Z2A3410964","affidamento della fornitura  stampante “Stampanti 18” Lotto 1 - n. 50 stampanti Epson modello Work Force AL-M320DN",6784.5,{"$f":"+F150*0.02","v":135.69},{"$f":"+G150*80/100","v":108.55200000000001},27.138000000000002,{"$f":"+K150","v":15.197280000000001},{"$f":"+M150+M151+M152+M153","v":15.197280000000001},"Inc. Pred. Doc",{"$f":"+H150*N150","v":2.1710400000000001},0.02]
[2021,4250,"167 DEL 24/11/2021","Z2A3410964","affidamento della fornitura  stampante “Stampanti 18” Lotto 1 - n. 50 stampanti Epson modello Work Force AL-M320DN.",6784.5,{"$f":"+F151*0.02","v":135.69},{"$f":"+G151*80/100","v":108.55200000000001},{"$f":"+G151*0.2","v":27.138000000000002},null,null,"Coll. Inc. Pred. Doc",{"$f":"+H151*N151","v":1.08552},0.01]
[2021,4250,"167 DEL 24/11/2021","Z2A3410964","affidamento della fornitura  stampante “Stampanti 18” Lotto 1 - n. 50 stampanti Epson modello Work Force AL-M320DN.",6784.5,135.69,108.55200000000001,27.138000000000002,null,null,"RUP Affidamento",{"$f":"+H152*N152","v":8.6841600000000003},0.08]
[2021,4250,"167 DEL 24/11/2021","Z2A3410964","affidamento della fornitura  stampante “Stampanti 18” Lotto 1 - n. 50 stampanti Epson modello Work Force AL-M320DN.",6784.5,135.69,108.55200000000001,27.138000000000002,null,null,"Coll. RUP Affidamento",{"$f":"+H153*N153","v":3.2565599999999999},0.03]
[2021,4250,"75  DEL 03/06/2021","Z6C31F5372","Fornitura app. multifunzione in noleggio conv. Consip ",1778.88,35.577600000000004,28.462080000000004,7.115520000000001,{"$f":"+K154","v":3.9846912000000008},{"$f":"+M154+M155+M156+M157","v":3.9846912000000008},"Inc. Pred. Doc",{"$f":"+H154*N154","v":0.56924160000000013},0.02]
[2021,4250,"75  DEL 03/06/2021","Z6C31F5372","Fornitura app. multifunzione in noleggio conv. Consip",1778.88,{"$f":"+F155*0.02","v":35.577600000000004},{"$f":"+G155*80/100","v":28.462080000000004},{"$f":"+G155*0.2","v":7.115520000000001},null,null,"Coll. Inc. Pred. Doc",{"$f":"+H155*N155","v":0.28462080000000006},0.01]
[2021,4250,"75  DEL 03/06/2021","Z6C31F5372","Fornitura app. multifunzione in noleggio conv. Consip",1778.88,35.577600000000004,28.462080000000004,7.115520000000001,null,null,"RUP Affidamento",{"$f":"+H156*N156","v":2.2769664000000005},0.08]
[2021,4250,"75  DEL 03/06/2021","Z6C31F5372","Fornitura app. multifunzione in noleggio conv. Consip",1778.88,35.577600000000004,28.462080000000004,7.115520000000001,null,null,"Coll. RUP Affidamento",{"$f":"+H157*N157","v":0.85386240000000013},0.03]
[2021,4250,"172 del 29/11/2021"," 8999786A58","Servizio integrato di manutenzione dei gruppi statici di continuità",89373.8,1787.4760000000001,{"$f":"+G158*0.8","v":1429.9808000000003},357.49520000000007,{"$f":"+K158","v":443.29404800000009},{"$f":"+M158+M159+M160+M161+M162","v":443.29404800000009},"Inc. Pred. Doc",{"$f":"+H158*N158","v":71.499040000000022},0.05]
[2021,4250,"172 del 29/11/2021"," 8999786A58","Servizio integrato di manutenzione dei gruppi statici di continuità",89373.8,{"$f":"+F159*0.02","v":1787.4760000000001},{"$f":"+G159*0.8","v":1429.9808000000003},{"$f":"+G159*0.2","v":357.49520000000007},null,null,"Coll. Inc. Pred. Doc",{"$f":"+H159*N159","v":92.948752000000027},6.5000000000000002E-2]
[2021,4250,"172 del 29/11/2021"," 8999786A58","Servizio integrato di manutenzione dei gruppi statici di continuità",89373.8,1787.4760000000001,1429.9808000000003,357.49520000000007,null,null,"Coll. Inc. Pred. Doc",{"$f":"+H160*N160","v":50.049328000000017},3.5000000000000003E-2]
[2021,4250,"172 del 29/11/2021"," 8999786A58","Servizio integrato di manutenzione dei gruppi statici di continuità",89373.8,1787.4760000000001,1429.9808000000003,357.49520000000007,null,null,"RUP Affidamento",{"$f":"+H161*N161","v":142.99808000000004},0.1]
[2021,4250,"172 del 29/11/2021"," 8999786A58","Servizio integrato di manutenzione dei gruppi statici di continuità",89373.8,1787.4760000000001,1429.9808000000003,357.49520000000007,null,null,"Coll.RUP Affidamento",{"$f":"+H162*N162","v":85.798848000000007},0.06]
[2021,4250,"64 DEL 29/04/2021","8733197E23","LICENZE Oracle Conv. Cons. Multibrand 3",338575.74,{"$f":"+F163*1.9/100","v":6432.9390599999997},{"$f":"+G163*80/100","v":5146.3512479999999},1286.587812,{"$f":"+K163","v":720.48917472000005},{"$f":"+M163+M164+M165+M166","v":720.48917472000005},"Inc. Pred. Doc",{"$f":"+H163*N163","v":102.92702496},0.02]
[2021,4250,"64 DEL 29/04/2021","8733197E23","LICENZE Oracle Conv. Cons. Multibrand 3",338575.74,{"$f":"+F164*1.9/100","v":6432.9390599999997},{"$f":"+G164*80/100","v":5146.3512479999999},{"$f":"+G164*0.2","v":1286.587812},null,null,"Coll. Inc. Pred. Doc",{"$f":"+H164*N164","v":51.463512479999999},0.01]
[2021,4250,"64 DEL 29/04/2021","8733197E23","LICENZE Oracle Conv. Cons. Multibrand 3",338575.74,6432.9390599999997,5146.3512479999999,1286.587812,null,null,"RUP Affidamento",{"$f":"+H165*N165","v":411.70809983999999},0.08]
[2021,4250,"64 DEL 29/04/2021","8733197E23","LICENZE Oracle Conv. Cons. Multibrand 3",338575.74,6432.9390599999997,5146.3512479999999,1286.587812,null,null,"Coll. RUP Affidamento",{"$f":"+H166*N166","v":154.39053744},0.03]
[2021,4250,"44 DEL 19/03/2021","Z653112EA6","affidamento della fornitura di 50 notebook 15,6’’ in convenzione consip “ ",28601.1,{"$f":"+F167*0.02","v":572.02199999999993},{"$f":"+G167*80/100","v":457.61759999999992},114.4044,{"$f":"+K167","v":141.86145599999998},{"$f":"+M167+M168+M169+M170","v":141.86145599999998},"Inc. Pred. Doc",{"$f":"+H167*N167","v":22.880879999999998},0.05]
[2021,4250,"44 DEL 19/03/2021","Z653112EA6","affidamento della fornitura di 50 notebook 15,6’’ in convenzione consip “ ",28601.1,{"$f":"+F168*0.02","v":572.02199999999993},{"$f":"+G168*80/100","v":457.61759999999992},{"$f":"+G168*0.2","v":114.4044},null,null,"Coll. Inc. Pred. Doc",{"$f":"+H168*N168","v":45.761759999999995},0.1]
[2021,4250,"44 DEL 19/03/2021","Z653112EA6","affidamento della fornitura di 50 notebook 15,6’’ in convenzione consip “ ",28601.1,572.02199999999993,457.61759999999992,114.4044,null,null,"RUP Affidamento",{"$f":"+H169*N169","v":45.761759999999995},0.1]
[2021,4250,"44 DEL 19/03/2021","Z653112EA6","affidamento della fornitura di 50 notebook 15,6’’ in convenzione consip “ ",28601.1,572.02199999999993,457.61759999999992,114.4044,null,null,"Coll. RUP Affidamento",{"$f":"+H170*N170","v":27.457055999999994},0.06]
[2021,4250,"50 DEL 08/04/2021",8700347977,"fornitura, in adesione alla Convenzione Consip PC DESKTOP E WORKSTATION / LOTTO 1",117105,2342.1,1873.68,468.42,{"$f":"+K171","v":262.3152},{"$f":"+M171+M172+M173+M174","v":262.3152},"Inc. Pred. Doc",{"$f":"+H171*N171","v":37.473600000000005},0.02]
[2021,4250,"50 DEL 08/04/2021",8700347977,"fornitura, in adesione alla Convenzione Consip PC DESKTOP E WORKSTATION / LOTTO 1",117105,{"$f":"+F172*0.02","v":2342.1},{"$f":"+G172*80/100","v":1873.68},{"$f":"+G172*0.2","v":468.42},null,null,"Coll. Inc. Pred. Doc",{"$f":"+H172*N172","v":18.736800000000002},0.01]
[2021,4250,"50 DEL 08/04/2021",8700347977,"fornitura, in adesione alla Convenzione Consip PC DESKTOP E WORKSTATION / LOTTO 1",117105,2342.1,1873.68,468.42,null,null,"RUP Affidamento",{"$f":"+H173*N173","v":149.89440000000002},0.08]
[2021,4250,"50 DEL 08/04/2021",8700347977,"fornitura, in adesione alla Convenzione Consip PC DESKTOP E WORKSTATION / LOTTO 1",117105,2342.1,1873.68,468.42,null,null,"Coll. RUP Affidamento",{"$f":"+H174*N174","v":56.2104},0.03]
[2021,4250,"123 DEL 06/10/2021","816269442E","fornitura, in adesione alla Convenzione Consip PC DESKTOP E WORKSTATION / LOTTO 2",181300,3626,2900.8,725.2,{"$f":"+K175","v":406.11200000000002},{"$f":"+M175+M176+M177+M178+M179+M180","v":406.11200000000002},"Inc. Pred. Doc",{"$f":"+H175*N175","v":58.016000000000005},0.02]
[2021,4250,"123 DEL 06/10/2021","816269442E","fornitura, in adesione alla Convenzione Consip PC DESKTOP E WORKSTATION / LOTTO 2",181300,{"$f":"+F176*0.02","v":3626},{"$f":"+G176*80/100","v":2900.8},{"$f":"+G176*0.2","v":725.2},null,null,"Coll. Inc. Pred. Doc",{"$f":"+H176*N176","v":14.504000000000001},5.0000000000000001E-3]
[2021,4250,"123 DEL 06/10/2021","816269442E","fornitura, in adesione alla Convenzione Consip PC DESKTOP E WORKSTATION / LOTTO 2",181300,3626,2900.8,725.2,null,null,"Coll. Inc. Pred. Doc",{"$f":"+H177*N177","v":14.504000000000001},5.0000000000000001E-3]
[2021,4250,"123 DEL 06/10/2021","816269442E","fornitura, in adesione alla Convenzione Consip PC DESKTOP E WORKSTATION / LOTTO 2",181300,3626,2900.8,725.2,null,null,"RUP Affidamento",{"$f":"+H178*N178","v":232.06400000000002},0.08]
[2021,4250,"123 DEL 06/10/2021","816269442E","fornitura, in adesione alla Convenzione Consip PC DESKTOP E WORKSTATION / LOTTO 2",181300,3626,2900.8,725.2,null,null,"Coll. RUP Affidamento",{"$f":"+H179*N179","v":43.512},1.4999999999999999E-2]
[2021,4250,"123 DEL 06/10/2021","816269442E","fornitura, in adesione alla Convenzione Consip PC DESKTOP E WORKSTATION / LOTTO 2",181300,3626,2900.8,725.2,null,null,"Coll. RUP Affidamento",{"$f":"+H180*N180","v":43.512},1.4999999999999999E-2]
[2021,4250,"145 del 21/10/2021",8950860357," fornitura e posa in opera di Storage Networking SAN64B-6",66500,1330,1064,266,{"$f":"+K181","v":329.84},{"$f":"+M181+M182+M183+M184","v":329.84},"Inc. Pred. Doc",{"$f":"+H181*N181","v":53.2},0.05]
[2021,4250,"145 del 21/10/2021",8950860357," fornitura e posa in opera di Storage Networking SAN64B-6",66500,{"$f":"+F182*0.02","v":1330},{"$f":"+G182*80/100","v":1064},{"$f":"+G182*0.2","v":266},null,null,"Coll. Inc. Pred. Doc",{"$f":"+H182*N182","v":106.4},0.1]
[2021,4250,"145 del 21/10/2021",8950860357," fornitura e posa in opera di Storage Networking SAN64B-6",66500,1330,1064,266,null,null,"RUP Affidamento",{"$f":"+H183*N183","v":106.4},0.1]
[2021,4250,"145 del 21/10/2021",8950860357," fornitura e posa in opera di Storage Networking SAN64B-6",66500,1330,1064,266,null,null,"Coll. RUP Affidamento",{"$f":"+H184*N184","v":63.839999999999996},0.06]
[2020,4250,"190 DEL 04/11/2020","84986381F1","fornitura di apparati attivi (switch) per le reti LAN",195000,3900,3120,780,{"$f":"+K185","v":967.2},{"$f":"+M185+M186+M187+M188+M189","v":967.2},"Inc. Pred. Doc",{"$f":"+H185*N185","v":156},0.05]
[2020,4250,"190 DEL 04/11/2020","84986381F1","fornitura di apparati attivi (switch) per le reti LAN",195000,{"$f":"+F186*0.02","v":3900},{"$f":"+G186*80/100","v":3120},{"$f":"+G186*0.2","v":780},null,null,"Coll. Inc. Pred. Doc",{"$f":"+H186*N186","v":202.8},6.5000000000000002E-2]
[2020,4250,"190 DEL 04/11/2020","84986381F1","fornitura di apparati attivi (switch) per le reti LAN",195000,3900,3120,780,null,null,"Coll. Inc. Pred. Doc",{"$f":"+H187*N187","v":109.20000000000002},3.5000000000000003E-2]
[2020,4250,"190 DEL 04/11/2020","84986381F1","fornitura di apparati attivi (switch) per le reti LAN",195000,3900,3120,780,null,null,"RUP Affidamento",{"$f":"+H188*N188","v":312},0.1]
[2020,4250,"190 DEL 04/11/2020","84986381F1","fornitura di apparati attivi (switch) per le reti LAN",195000,3900,3120,780,null,null,"Coll. RUP Affidamento",{"$f":"+H189*N189","v":187.2},0.06]
[2021,4250,"148 DEL 28/10/2021","8958687E5F","Acquisto notebook da 15,6 pollici per gli Uffici del Processo",72828,1456.56,1165.2479999999998,291.31200000000001,{"$f":"+K190","v":361.22687999999994},{"$f":"+M190+M191+M192+M193","v":361.22687999999994},"Inc. Pred. Doc",{"$f":"+H190*N190","v":58.262399999999992},0.05]
[2021,4250,"148 DEL 28/10/2021","8958687E5F","Acquisto notebook da 15,6 pollici per gli Uffici del Processo",72828,{"$f":"+F191*0.02","v":1456.56},{"$f":"+G191*80/100","v":1165.2479999999998},{"$f":"+G191*0.2","v":291.31200000000001},null,null,"Coll. Inc. Pred. Doc",{"$f":"+H190*N191","v":116.52479999999998},0.1]
[2021,4250,"148 DEL 28/10/2021","8958687E5F","Acquisto notebook da 15,6 pollici per gli Uffici del Processo",72828,1456.56,1165.2479999999998,291.31200000000001,null,null,"RUP Affidamento",{"$f":"+H190*N192","v":116.52479999999998},0.1]
[2021,4250,"148 DEL 28/10/2021","8958687E5F","Acquisto notebook da 15,6 pollici per gli Uffici del Processo",72828,1456.56,1165.2479999999998,291.31200000000001,null,null,"Coll. RUP Affidamento",{"$f":"+H190*N193","v":69.914879999999982},0.06]
[2021,4250,"154 DEL 04/11/2021"," 8964344AAE","fornitura di un nuovo gruppo statico di continuità",47300,946,756.8,189.20000000000002,{"$f":"+K194","v":234.60799999999998},{"$f":"+M194+M195+M196+M197+M198","v":234.60799999999998},"Inc. Pred. Doc",{"$f":"+H194*N194","v":37.839999999999996},0.05]
[2021,4250,"154 DEL 04/11/2021"," 8964344AAE","fornitura di un nuovo gruppo statico di continuità",47300,{"$f":"+F195*0.02","v":946},{"$f":"+G195*80/100","v":756.8},{"$f":"+G195*0.2","v":189.20000000000002},null,null,"Coll. Inc. Pred. Doc",{"$f":"+H195*N195","v":49.192},6.5000000000000002E-2]
[2021,4250,"154 DEL 04/11/2021"," 8964344AAE","fornitura di un nuovo gruppo statico di continuità",47300,946,756.8,189.20000000000002,null,null,"Coll. Inc. Pred. Doc",{"$f":"+H196*N196","v":26.488},3.5000000000000003E-2]
[2021,4250,"154 DEL 04/11/2021"," 8964344AAE","fornitura di un nuovo gruppo statico di continuità",47300,946,756.8,189.20000000000002,null,null,"RUP Affidamento",{"$f":"+H197*N197","v":75.679999999999993},0.1]
[2021,4250,"154 DEL 04/11/2021"," 8964344AAE","fornitura di un nuovo gruppo statico di continuità",47300,946,756.8,189.20000000000002,null,null,"Coll. RUP Affidamento",{"$f":"+H198*N198","v":45.407999999999994},0.06]
[2020,1295,"63 del 12/03/2020",8234592848,"Servizio di pulizia presso le sedi del CDS",214000,4280,3424,856,{"$f":"+H199","v":3424},{"$f":"+M199+M200+M201+M202+M203+M204+M205+M206+M207+M208+M209+M210+M211+M212+M213","v":2910.3999999999992},"Incaricato programm.",{"$f":"+H199*N199","v":102.72},0.03,null,null,{"$f":"+H199-O199-P199-K199","v":513.60000000000082}]
[2020,1295,"63 del 12/03/2020",8234592848,"Servizio di pulizia presso le sedi del CDS",214000,4280,3424,856,null,null,"Coll. Inc. prog.",{"$f":"+H200*N200","v":34.24},0.01]
[2020,1295,"63 del 12/03/2020",8234592848,"Servizio di pulizia presso le sedi del CDS",214000,4280,3424,856,null,null,"Coll. Inc. prog.",{"$f":"+H201*N201","v":34.24},0.01]
[2020,1295,"63 del 12/03/2020",8234592848,"Servizio di pulizia presso le sedi del CDS",214000,4280,3424,856,null,null,"Inc. Pred. Doc. ",{"$f":"+H202*N202","v":530.72},0.155]
[2020,1295,"63 del 12/03/2020",8234592848,"Servizio di pulizia presso le sedi del CDS",214000,4280,3424,856,null,null,"Coll. Inc. Pred.",{"$f":"+H203*N203","v":68.48},0.02]
[2020,1295,"63 del 12/03/2020",8234592848,"Servizio di pulizia presso le sedi del CDS",214000,4280,3424,856,null,null,"RUP Affidamento",{"$f":"+H204*N204","v":1198.3999999999999},0.35]
[2020,1295,"63 del 12/03/2020",8234592848,"Servizio di pulizia presso le sedi del CDS",214000,4280,3424,856,null,null,"Coll. RUP Affidamento",{"$f":"+H205*N205","v":171.20000000000002},0.05]
[2020,1295,"63 del 12/03/2020",8234592848,"Servizio di pulizia presso le sedi del CDS",214000,4280,3424,856,null,null,"RUP esecuzione",{"$f":"+(H206*N206)/5*3","v":359.52},0.17499999999999999]
[2020,1295,"63 del 12/03/2020",8234592848,"Servizio di pulizia presso le sedi del CDS",214000,4280,3424,856,null,null,"Coll. RUP esecuzione",{"$f":"+(H207*N207)/5*3","v":30.816000000000003},1.4999999999999999E-2]
[2020,1295,"63 del 12/03/2020",8234592848,"Servizio di pulizia presso le sedi del CDS",214000,4280,3424,856,null,null,"Coll. RUP esecuzione",{"$f":"+(H208*N208)/5*3","v":30.816000000000003},1.4999999999999999E-2]
[2020,1295,"63 del 12/03/2020",8234592848,"Servizio di pulizia presso le sedi del CDS",214000,4280,3424,856,null,null,"DEC",{"$f":"+(H209*N209)/5*3","v":205.44},0.1]
[2020,1295,"63 del 12/03/2020",8234592848,"Servizio di pulizia presso le sedi del CDS",214000,4280,3424,856,null,null,"Coll. DEC",{"$f":"+(H210*N210)/5*3","v":20.544000000000004},0.01]
[2020,1295,"63 del 12/03/2020",8234592848,"Servizio di pulizia presso le sedi del CDS",214000,4280,3424,856,null,null,"Coll. DEC",{"$f":"+(H211*N211)/5*3","v":20.544000000000004},0.01]
[2020,1295,"63 del 12/03/2020",8234592848,"Servizio di pulizia presso le sedi del CDS",214000,4280,3424,856,null,null,"Inc. Ver. Conf",{"$f":"+(H212*N212)/5*3","v":71.904000000000011},3.5000000000000003E-2]
[2020,1295,"63 del 12/03/2020",8234592848,"Servizio di pulizia presso le sedi del CDS",214000,4280,3424,856,null,null,"Coll. Inc Ver. Conf.",{"$f":"+(H213*N213)/5*3","v":30.816000000000003},1.4999999999999999E-2]
[2021,1295,"136 del 12/10/2021","8938195FD6","Servizio di pulizia presso le sedi del CDS (gara deserta)",214000,4280,3424,856,{"$f":"+K214","v":2140},{"$f":"+M214+M215+M216+M217+M218+M219+M220","v":2140},"Incaricato programm.",{"$f":"+H214*N214","v":102.72},0.03]
[2021,1295,"136 del 12/10/2021","8938195FD6","Servizio di pulizia presso le sedi del CDS (gara deserta)",214000,4280,3424,856,null,null,"Coll. Inc. prog.",{"$f":"+H215*N215","v":68.48},0.02]
[2021,1295,"136 del 12/10/2021","8938195FD6","Servizio di pulizia presso le sedi del CDS (gara deserta)",214000,4280,3424,856,null,null,"Inc. Pred. Doc. ",{"$f":"+H216*N216","v":256.8},7.4999999999999997E-2]
[2021,1295,"136 del 12/10/2021","8938195FD6","Servizio di pulizia presso le sedi del CDS (gara deserta)",214000,4280,3424,856,null,null,"Inc. Pred. Doc. ",{"$f":"+H217*N217","v":273.92},0.08]
[2021,1295,"136 del 12/10/2021","8938195FD6","Servizio di pulizia presso le sedi del CDS (gara deserta)",214000,4280,3424,856,null,null,"Coll. Inc. Pred.",{"$f":"+H218*N218","v":68.48},0.02]
[2021,1295,"136 del 12/10/2021","8938195FD6","Servizio di pulizia presso le sedi del CDS (gara deserta)",214000,4280,3424,856,null,null,"RUP Affidamento",{"$f":"+H219*N219","v":1198.3999999999999},0.35]
[2021,1295,"136 del 12/10/2021","8938195FD6","Servizio di pulizia presso le sedi del CDS (gara deserta)",214000,4280,3424,856,null,null,"Coll. RUP Affidamento",{"$f":"+H220*N220","v":171.20000000000002},0.05]
[2021,1295,"180 del 10/12/2021","90208966DF","Servizio di pulizia presso le sedi del CDS (procedura negoziata senza bando)",138900,{"$f":"+F221*0.02","v":2778},{"$f":"+(G221)*0.8","v":2222.4},{"$f":"+(G221)*0.2","v":555.6},{"$f":"+H221","v":2222.4},{"$f":"+M221+M222+M223+M224+M225+M226+M227","v":1266.768},"Incaricato programm.",{"$f":"+H221*N221","v":66.671999999999997},0.03,null,null,{"$f":"+H221-O221-P221-K221","v":955.63200000000006}]
[2021,1295,"180 del 10/12/2021","90208966DF","Servizio di pulizia presso le sedi del CDS (procedura negoziata senza bando)",138900,{"$f":"+F222*0.02","v":2778},2222.4,555.6,null,null,"Coll. Inc. prog.",{"$f":"+H222*N222","v":44.448},0.02]
[2021,1295,"180 del 10/12/2021","90208966DF","Servizio di pulizia presso le sedi del CDS (procedura negoziata senza bando)",138900,2778,2222.4,555.6,null,null,"Inc. Pred. Doc. ",{"$f":"+H223*N223","v":133.34399999999999},0.06]
[2021,1295,"180 del 10/12/2021","90208966DF","Servizio di pulizia presso le sedi del CDS (procedura negoziata senza bando)",138900,2778,2222.4,555.6,null,null,"Inc. Pred. Doc. ",{"$f":"+H224*N224","v":166.68},7.4999999999999997E-2]
[2021,1295,"180 del 10/12/2021","90208966DF","Servizio di pulizia presso le sedi del CDS (procedura negoziata senza bando)",138900,2778,2222.4,555.6,null,null,"Coll. Inc. Pred.",{"$f":"+H225*N225","v":66.671999999999997},0.03]
[2021,1295,"180 del 10/12/2021","90208966DF","Servizio di pulizia presso le sedi del CDS (procedura negoziata senza bando)",138900,2778,2222.4,555.6,null,null,"RUP Affidamento",{"$f":"+H226*N226","v":644.49599999999998},0.28999999999999998]
[2021,1295,"180 del 10/12/2021","90208966DF","Servizio di pulizia presso le sedi del CDS (procedura negoziata senza bando)",138900,2778,{"$f":"+(G227)*0.8","v":2222.4},{"$f":"+(G227)*0.2","v":555.6},null,null,"Coll. RUP Affidamento",{"$f":"+H227*N227","v":144.45600000000002},6.5000000000000002E-2]
[2020,3312,"89 del 05/05/2020","84122085A5.","Servizio di facchinaggio, trasloco e trasporto per le sedi del Consiglio di Stato” ",214000,4280,3424,856,{"$f":"+H228","v":3424},{"$f":"+M228+M229+M230+M231+M232+M233+M234+M235+M236+M237+M238+M240+M241+M242+M243+M239","v":2853.3333333333335},"Incaricato programm.",{"$f":"+H228*N228","v":102.72},0.03,null,null,{"$f":"+H228-O228-P228-K228","v":570.66666666666652}]
[2020,3312,"89 del 05/05/2020","84122085A5.","Servizio di facchinaggio, trasloco e trasporto per le sedi del Consiglio di Stato” ",214000,4280,3424,856,null,null,"Coll. Inc. prog.",{"$f":"+H229*N229","v":34.24},0.01]
[2020,3312,"89 del 05/05/2020","84122085A5.","Servizio di facchinaggio, trasloco e trasporto per le sedi del Consiglio di Stato” ",214000,4280,3424,856,null,null,"Coll. Inc. prog.",{"$f":"+H230*N230","v":34.24},0.01]
[2020,3312,"89 del 05/05/2020","84122085A5.","Servizio di facchinaggio, trasloco e trasporto per le sedi del Consiglio di Stato” ",214000,4280,3424,856,null,null,"Inc. Pred. Doc. ",{"$f":"+H231*N231","v":530.72},0.155]
[2020,3312,"89 del 05/05/2020","84122085A5.","Servizio di facchinaggio, trasloco e trasporto per le sedi del Consiglio di Stato” ",214000,4280,3424,856,null,null,"Coll. Inc. Pred.",{"$f":"+H232*N232","v":68.48},0.02]
[2020,3312,"89 del 05/05/2020","84122085A5.","Servizio di facchinaggio, trasloco e trasporto per le sedi del Consiglio di Stato” ",214000,4280,3424,856,null,null,"RUP Affidamento",{"$f":"+H233*N233","v":1198.3999999999999},0.35]
[2020,3312,"89 del 05/05/2020","84122085A5.","Servizio di facchinaggio, trasloco e trasporto per le sedi del Consiglio di Stato” ",214000,4280,3424,856,null,null,"Coll. RUP Affidamento",{"$f":"+H234*N234","v":171.20000000000002},0.05]
[2020,3312,"89 del 05/05/2020","84122085A5.","Servizio di facchinaggio, trasloco e trasporto per le sedi del Consiglio di Stato” ",214000,4280,3424,856,null,null,"RUP esecuzione",{"$f":"+(H235*N235)/9*5","v":332.88888888888886},0.17499999999999999]
[2020,3312,"89 del 05/05/2020","84122085A5.","Servizio di facchinaggio, trasloco e trasporto per le sedi del Consiglio di Stato” ",214000,4280,3424,856,null,null,"Coll. RUP esecuzione",{"$f":"+(H236*N236)/9*5","v":28.533333333333335},1.4999999999999999E-2]
[2020,3312,"89 del 05/05/2020","84122085A5.","Servizio di facchinaggio, trasloco e trasporto per le sedi del Consiglio di Stato” ",214000,4280,3424,856,null,null,"Coll. RUP esecuzione",{"$f":"+(H237*N237)/9*5","v":28.533333333333335},1.4999999999999999E-2]
[2020,3312,"89 del 05/05/2020","84122085A5.","Servizio di facchinaggio, trasloco e trasporto per le sedi del Consiglio di Stato” ",214000,4280,3424,856,null,null,"DEC ESTERNO (PRIMO MESE)",{"$f":"+(H239*N238)/9","v":38.044444444444451},0.1]
[2020,3312,"89 del 05/05/2020","84122085A5.","Servizio di facchinaggio, trasloco e trasporto per le sedi del Consiglio di Stato” ",214000,4280,3424,856,null,null,"DEC",{"$f":"+(H240*N239)/9*4","v":152.17777777777781},0.1]
[2020,3312,"89 del 05/05/2020","84122085A5.","Servizio di facchinaggio, trasloco e trasporto per le sedi del Consiglio di Stato” ",214000,4280,3424,856,null,null,"Coll. DEC",{"$f":"+(H240*N240)/9*5","v":19.022222222222222},0.01]
[2020,3312,"89 del 05/05/2020","84122085A5.","Servizio di facchinaggio, trasloco e trasporto per le sedi del Consiglio di Stato” ",214000,4280,3424,856,null,null,"Coll. DEC",{"$f":"+(H241*N241)/9*5","v":19.022222222222222},0.01]
[2020,3312,"89 del 05/05/2020","84122085A5.","Servizio di facchinaggio, trasloco e trasporto per le sedi del Consiglio di Stato” ",214000,4280,3424,856,null,null,"Inc. Ver. Conf",{"$f":"+(H242*N242)/9*5","v":66.577777777777783},3.5000000000000003E-2]
[2020,3312,"89 del 05/05/2020","84122085A5.","Servizio di facchinaggio, trasloco e trasporto per le sedi del Consiglio di Stato” ",214000,4280,3424,856,null,null,"Coll. Inc Ver. Conf.",{"$f":"+(H243*N243)/9*5","v":28.533333333333335},1.4999999999999999E-2,null,null,null,null,null,null,null,{"$f":"+M243+#REF!+#REF!+M372+M401","v":{"$error":"#REF!"}}]
[2021,1248,"190 DEL 29/12/2021","ZAE34A0EAD","Formazione PNRR (no determina elenco)",37400,{"$f":"+F244*0.02","v":748},{"$f":"+G244*0.8","v":598.4},{"$f":"+G244-H244","v":149.60000000000002},{"$f":"+H244","v":598.4},{"$f":"+M244+M245+M246+M247","v":311.16800000000001},"Inc. Pred. Doc. ",{"$f":"+H244*N244","v":80.784000000000006},0.13500000000000001,null,null,{"$f":"+H244-O244-P244-K244","v":287.23199999999997}]
[2021,1248,"190 DEL 29/12/2021","ZAE34A0EAD","Formazione PNRR",37400,{"$f":"+F245*0.02","v":748},{"$f":"+G245*0.8","v":598.4},{"$f":"+G245-H245","v":149.60000000000002},null,null,"Coll. Inc. Pred.",{"$f":"+H245*N245","v":17.951999999999998},0.03]
[2021,1248,"190 DEL 29/12/2021","ZAE34A0EAD","Formazione PNRR",37400,748,598.4,149.60000000000002,null,null,"RUP Affidamento",{"$f":"+H246*N246","v":173.53599999999997},0.28999999999999998]
[2021,1248,"190 DEL 29/12/2021","ZAE34A0EAD","Formazione PNRR",37400,748,598.4,149.60000000000002,null,null,"Coll. RUP Affidamento",{"$f":"+H247*N247","v":38.896000000000001},6.5000000000000002E-2]
[2021,1302,"21 del 12/02/2021","862976428A","Servizio di vigilanza armata presso le sedi del CDS",214000,4280,3424,856,{"$f":"+H248","v":3424},{"$f":"+M248+M249+M250+M251+M252+M253+M254+M255+M256+M257+M258+M259+M260+M261+M262","v":2621.5000000000009},"Incaricato programm.",102.72,0.03,null,null,{"$f":"+H248-O248-P248-K248","v":802.49999999999909}]
[2021,1302,"21 del 12/02/2021","862976428A","Servizio di vigilanza armata presso le sedi del CDS",214000,4280,3424,856,null,null,"Coll. Inc. prog.",34.24,0.01]
[2021,1302,"21 del 12/02/2021","862976428A","Servizio di vigilanza armata presso le sedi del CDS",214000,4280,3424,856,null,null,"Coll. Inc. prog.",34.24,0.01]
[2021,1302,"21 del 12/02/2021","862976428A","Servizio di vigilanza armata presso le sedi del CDS",214000,4280,3424,856,null,null,"Inc. Pred. Doc. ",530.72,0.155]
[2021,1302,"21 del 12/02/2021","862976428A","Servizio di vigilanza armata presso le sedi del CDS",214000,4280,3424,856,null,null,"Coll. Inc. Pred.",68.48,0.02]
[2021,1302,"21 del 12/02/2021","862976428A","Servizio di vigilanza armata presso le sedi del CDS",214000,4280,3424,856,null,null,"RUP Affidamento",1198.4000000000001,0.35]
[2021,1302,"21 del 12/02/2021","862976428A","Servizio di vigilanza armata presso le sedi del CDS",214000,4280,3424,856,null,null,"Coll. RUP Affidamento",171.2,0.05]
[2021,1302,"21 del 12/02/2021","862976428A","Servizio di vigilanza armata presso le sedi del CDS",214000,4280,3424,856,null,null,"RUP esecuzione",{"$f":"+(H255*N255)/8*3","v":224.7},0.17499999999999999]
[2021,1302,"21 del 12/02/2021","862976428A","Servizio di vigilanza armata presso le sedi del CDS",214000,4280,3424,856,null,null,"Coll. RUP esecuzione",{"$f":"+(H256*N256)/8*3","v":19.259999999999998},1.4999999999999999E-2]
[2021,1302,"21 del 12/02/2021","862976428A","Servizio di vigilanza armata presso le sedi del CDS",214000,4280,3424,856,null,null,"Coll. RUP esecuzione",{"$f":"+(H257*N257)/8*3","v":19.259999999999998},1.4999999999999999E-2]
[2021,1302,"21 del 12/02/2021","862976428A","Servizio di vigilanza armata presso le sedi del CDS",214000,4280,3424,856,null,null,"DEC",{"$f":"+(H258*N258)/8*3","v":128.4},0.1]
[2021,1302,"21 del 12/02/2021","862976428A","Servizio di vigilanza armata presso le sedi del CDS",214000,4280,3424,856,null,null,"Coll. DEC",{"$f":"+(H259*N259)/8*3","v":12.84},0.01]
[2021,1302,"21 del 12/02/2021","862976428A","Servizio di vigilanza armata presso le sedi del CDS",214000,4280,3424,856,null,null,"Coll. DEC",{"$f":"+(H260*N260)/8*3","v":12.84},0.01]
[2021,1302,"21 del 12/02/2021","862976428A","Servizio di vigilanza armata presso le sedi del CDS",214000,4280,3424,856,null,null,"Inc. Ver. Conf",{"$f":"+(H261*N261)/8*3","v":44.940000000000005},3.5000000000000003E-2]
[2021,1302,"21 del 12/02/2021","862976428A","Servizio di vigilanza armata presso le sedi del CDS",214000,4280,3424,856,null,null,"Coll. Inc Ver. Conf.",{"$f":"+(H262*N262)/8*3","v":19.259999999999998},1.4999999999999999E-2]
[2020,1302,"162 del 28/9/2020","Z3B2E7ADC1","Agendine (SOLO ESECUZIONE)",19750,395,{"$f":"+(G263)*0.8","v":316},{"$f":"+(G263)*0.2","v":79},{"$f":"+K263","v":135.88},{"$f":"+M263+M264+M269+M270+M265+M266+M267+M268","v":135.88},"RUP esecuzione",{"$f":"+H263*N263","v":56.879999999999995},0.18,null,180.12]
[2020,1302,"162 del 28/9/2020","Z3B2E7ADC1","Agendine (SOLO ESECUZIONE)",19750,395,316,79,null,null,"Coll. RUP esecuzione",{"$f":"+H264*N264","v":6.32},0.02]
[2020,1302,"162 del 28/9/2020","Z3B2E7ADC1","Agendine (SOLO ESECUZIONE)",19750,395,{"$f":"+(G265)*0.8","v":316},{"$f":"+(G265)*0.2","v":79},null,null,"Coll. RUP esecuzione",{"$f":"+H265*N265","v":6.32},0.02]
[2020,1302,"162 del 28/9/2020","Z3B2E7ADC1","Agendine (SOLO ESECUZIONE)",19750,395,316,79,null,null,"DEC esterno",{"$f":"+H266*N266","v":36.340000000000003},0.115]
[2020,1302,"162 del 28/9/2020","Z3B2E7ADC1","Agendine (SOLO ESECUZIONE)",19750,395,316,79,null,null,"Coll. DEC",{"$f":"+H267*N267","v":7.1099999999999994},2.2499999999999999E-2]
[2020,1302,"162 del 28/9/2020","Z3B2E7ADC1","Agendine (SOLO ESECUZIONE)",19750,395,316,79,null,null,"Coll. DEC",{"$f":"+H268*N268","v":7.1099999999999994},2.2499999999999999E-2]
[2020,1302,"162 del 28/9/2020","Z3B2E7ADC1","Agendine (SOLO ESECUZIONE)",19750,395,316,79,null,null,"Inc. Ver. Conf",{"$f":"+H269*N269","v":11.06},3.5000000000000003E-2]
[2020,1302,"162 del 28/9/2020","Z3B2E7ADC1","Agendine (SOLO ESECUZIONE)",19750,395,316,79,null,null,"Coll. Inc Ver. Conf.",{"$f":"+H270*N270","v":4.74},1.4999999999999999E-2]
[2020,1302,"17 del 28/1/2020","8186938AF4","Verbalizzazione udienze (SOLO ESECUZIONE)",69300,{"$f":"+F271*0.02","v":1386},1108.8,277.2,{"$f":"+H271-P271","v":415.79999999999995},{"$f":"+M271+M272+M273+M274+M275+M276+M277+M278","v":33.430000000000007},"RUP esecuzione",15.6,0.17499999999999999,null,693,{"$f":"+H271-O271-P271-K271","v":382.36999999999995}]
[2020,1302,"17 del 28/1/2020","8186938AF4","Verbalizzazione udienze (SOLO ESECUZIONE)",69300,{"$f":"+F272*0.02","v":1386},{"$f":"+(G272)*0.8","v":1108.8},{"$f":"+(G272)*0.2","v":277.2},null,null,"Coll. RUP esecuzione",1.34,1.4999999999999999E-2]
[2020,1302,"17 del 28/1/2020","8186938AF4","Verbalizzazione udienze (SOLO ESECUZIONE)",69300,1386,1108.8,277.2,null,null,"Coll. RUP esecuzione",{"$f":"+M272","v":1.34},1.4999999999999999E-2]
[2020,1302,"17 del 28/1/2020","8186938AF4","Verbalizzazione udienze (SOLO ESECUZIONE)",69300,1386,1108.8,277.2,null,null,"DEC esterno",8.91,0.1]
[2020,1302,"17 del 28/1/2020","8186938AF4","Verbalizzazione udienze (SOLO ESECUZIONE)",69300,1386,1108.8,277.2,null,null,"Coll. DEC",0.89,0.01]
[2020,1302,"17 del 28/1/2020","8186938AF4","Verbalizzazione udienze (SOLO ESECUZIONE)",69300,1386,1108.8,277.2,null,null,"Coll. DEC",0.89,0.01]
[2020,1302,"17 del 28/1/2020","8186938AF4","Verbalizzazione udienze (SOLO ESECUZIONE)",69300,1386,1108.8,277.2,null,null,"Inc. Ver. Conf",3.12,3.5000000000000003E-2]
[2020,1302,"17 del 28/1/2020","8186938AF4","Verbalizzazione udienze (SOLO ESECUZIONE)",69300,1386,1108.8,277.2,null,null,"Coll. Inc Ver. Conf.",1.34,1.4999999999999999E-2]
[2021,1302,"70 del 12/05/2021","Z5531B0901"," affidamento del servizio di manutenzione di n. 11 fotocopiatrici",25200,{"$f":"+F279*0.02","v":504},{"$f":"+(G279)*0.8","v":403.20000000000005},{"$f":"+(G279)*0.2","v":100.80000000000001},{"$f":"+H279","v":403.20000000000005},{"$f":"+M279+M280+M281+M282+M283+M284+M285","v":229.82400000000004},"Inc. Prog.",{"$f":"+H279*N279","v":12.096},0.03,null,null,{"$f":"+H279-O279-P279-K279","v":173.376}]
[2021,1302,"70 del 12/05/2021","Z5531B0901"," affidamento del servizio di manutenzione di n. 11 fotocopiatrici",25200,{"$f":"+F280*0.02","v":504},{"$f":"+(G280)*0.8","v":403.20000000000005},{"$f":"+(G280)*0.2","v":100.80000000000001},null,null,"Coll.Inc. Prog.",{"$f":"+H280*N280","v":4.0320000000000009},0.01]
[2021,1302,"70 del 12/05/2021","Z5531B0901"," affidamento del servizio di manutenzione di n. 11 fotocopiatrici",25200,504,403.20000000000005,100.80000000000001,null,null,"Coll.Inc. Prog.",{"$f":"+H281*N281","v":4.0320000000000009},0.01]
[2021,1302,"70 del 12/05/2021","Z5531B0901"," affidamento del servizio di manutenzione di n. 11 fotocopiatrici",25200,504,403.20000000000005,100.80000000000001,null,null,"Inc. Pred. Doc.",{"$f":"+H282*N282","v":54.432000000000009},0.13500000000000001]
[2021,1302,"70 del 12/05/2021","Z5531B0901"," affidamento del servizio di manutenzione di n. 11 fotocopiatrici",25200,504,403.20000000000005,100.80000000000001,null,null,"Coll. Inc. Pred.",{"$f":"+H283*N283","v":12.096},0.03]
[2021,1302,"70 del 12/05/2021","Z5531B0901"," affidamento del servizio di manutenzione di n. 11 fotocopiatrici",25200,504,403.20000000000005,100.80000000000001,null,null,"RUP Affidamento",{"$f":"+H284*N284","v":116.92800000000001},0.28999999999999998]
[2021,1302,"70 del 12/05/2021","Z5531B0901"," affidamento del servizio di manutenzione di n. 11 fotocopiatrici",25200,504,403.20000000000005,100.80000000000001,null,null,"Colla. Rup Affidamento",{"$f":"+H285*N285","v":26.208000000000006},6.5000000000000002E-2]
[2021,1302,"86 del 24/06/2021","Z25323C543","affidamento della fornitura di cancelleria varia per le esigenze del CDS",20000,{"$f":"+F286*0.02","v":400},320,80,{"$f":"+K286","v":320},{"$f":"+M286+M287+M288+M289+M290+M291+M292+M293+M294+M295+M296+M297+M298+M299+M300","v":320},"Incaricato programm.",{"$f":"+H286*N286","v":9.6},0.03]
[2021,1302,"86 del 24/06/2021","Z25323C543","affidamento della fornitura di cancelleria varia per le esigenze del CDS",20000,{"$f":"+F287*0.02","v":400},{"$f":"+(G287)*0.8","v":320},{"$f":"+(G287)*0.2","v":80},null,null,"Coll. Inc. prog.",{"$f":"+H287*N287","v":3.2},0.01]
[2021,1302,"86 del 24/06/2021","Z25323C543","affidamento della fornitura di cancelleria varia per le esigenze del CDS",20000,400,320,80,null,null,{"$f":"+L287","v":"Coll. Inc. prog."},{"$f":"+H288*N288","v":3.2},0.01]
[2021,1302,"86 del 24/06/2021","Z25323C543","affidamento della fornitura di cancelleria varia per le esigenze del CDS",20000,400,320,80,null,null,"Inc. Pred. Doc. ",{"$f":"+H289*N289","v":43.2},0.13500000000000001]
[2021,1302,"86 del 24/06/2021","Z25323C543","affidamento della fornitura di cancelleria varia per le esigenze del CDS",20000,400,320,80,null,null,"Coll. Inc. Pred.",{"$f":"+H290*N290","v":9.6},0.03]
[2021,1302,"86 del 24/06/2021","Z25323C543","affidamento della fornitura di cancelleria varia per le esigenze del CDS",20000,400,320,80,null,null,"RUP Affidamento",{"$f":"+H291*N291","v":92.8},0.28999999999999998]
[2021,1302,"86 del 24/06/2021","Z25323C543","affidamento della fornitura di cancelleria varia per le esigenze del CDS",20000,400,320,80,null,null,"Coll. RUP Affidamento",{"$f":"+H292*N292","v":20.8},6.5000000000000002E-2]
[2021,1302,"86 del 24/06/2021","Z25323C543","affidamento della fornitura di cancelleria varia per le esigenze del CDS",20000,400,320,80,null,null,"RUP esecuzione",{"$f":"+H293*N293","v":57.599999999999994},0.18]
[2021,1302,"86 del 24/06/2021","Z25323C543","affidamento della fornitura di cancelleria varia per le esigenze del CDS",20000,400,320,80,null,null,"Coll. RUP esecuzione",{"$f":"+H294*N294","v":6.4},0.02]
[2021,1302,"86 del 24/06/2021","Z25323C543","affidamento della fornitura di cancelleria varia per le esigenze del CDS",20000,400,320,80,null,null,"Coll. RUP esecuzione",{"$f":"+H295*N295","v":6.4},0.02]
[2021,1302,"86 del 24/06/2021","Z25323C543","affidamento della fornitura di cancelleria varia per le esigenze del CDS",20000,400,320,80,null,null,"DEC",{"$f":"+H296*N296","v":36.800000000000004},0.115]
[2021,1302,"86 del 24/06/2021","Z25323C543","affidamento della fornitura di cancelleria varia per le esigenze del CDS",20000,400,320,80,null,null,"Coll. DEC",{"$f":"+H297*N297","v":7.1999999999999993},2.2499999999999999E-2]
[2021,1302,"86 del 24/06/2021","Z25323C543","affidamento della fornitura di cancelleria varia per le esigenze del CDS",20000,400,320,80,null,null,"Coll. DEC",{"$f":"+H298*N298","v":7.1999999999999993},2.2499999999999999E-2]
[2021,1302,"86 del 24/06/2021","Z25323C543","affidamento della fornitura di cancelleria varia per le esigenze del CDS",20000,400,320,80,null,null,"Inc. Ver. Conf",{"$f":"+H299*N299","v":11.200000000000001},3.5000000000000003E-2]
[2021,1302,"86 del 24/06/2021","Z25323C543","affidamento della fornitura di cancelleria varia per le esigenze del CDS",20000,400,320,80,null,null,"Coll. Inc Ver. Conf.",{"$f":"+H300*N300","v":4.8},1.4999999999999999E-2]
[2021,1302,"109 del 13/08/2021","z4132c40b4","affidamento della fornitura di cancelleria varia per le esigenze delle procedure concorsuali (121/2021)",13178,263.56,210.84800000000001,52.712000000000003,{"$f":"+K301","v":210.84800000000001},{"$f":"+M301+M302+M303+M304+M305+M306+M307+M308+M309+M310+M311+M312+M313+M314","v":210.84800000000001},"Incaricato programm.",{"$f":"+H301*N301","v":6.3254400000000004},0.03]
[2021,1302,"109 del 13/08/2021","z4132c40b4","affidamento della fornitura di cancelleria varia per le esigenze delle procedure concorsuali",13178,263.56,{"$f":"+(G302)*0.8","v":210.84800000000001},{"$f":"+(G302)*0.2","v":52.712000000000003},null,null,"Coll. Inc. prog.",{"$f":"+H302*N302","v":4.2169600000000003},0.02]
[2021,1302,"109 del 13/08/2021","z4132c40b4","affidamento della fornitura di cancelleria varia per le esigenze delle procedure concorsuali",13178,263.56,210.84800000000001,52.712000000000003,null,null,"Inc. Pred. Doc. ",{"$f":"+H303*N303","v":28.464480000000005},0.13500000000000001]
[2021,1302,"109 del 13/08/2021","z4132c40b4","affidamento della fornitura di cancelleria varia per le esigenze delle procedure concorsuali",13178,263.56,210.84800000000001,52.712000000000003,null,null,"Coll. Inc. Pred.",{"$f":"+H304*N304","v":6.3254400000000004},0.03]
[2021,1302,"109 del 13/08/2021","z4132c40b4","affidamento della fornitura di cancelleria varia per le esigenze delle procedure concorsuali",13178,263.56,210.84800000000001,52.712000000000003,null,null,"RUP Affidamento",{"$f":"+H305*N305","v":61.145919999999997},0.28999999999999998]
[2021,1302,"109 del 13/08/2021","z4132c40b4","affidamento della fornitura di cancelleria varia per le esigenze delle procedure concorsuali",13178,263.56,210.84800000000001,52.712000000000003,null,null,"Coll. RUP Affidamento",{"$f":"+H306*N306","v":13.705120000000001},6.5000000000000002E-2]
[2021,1302,"109 del 13/08/2021","z4132c40b4","affidamento della fornitura di cancelleria varia per le esigenze delle procedure concorsuali",13178,263.56,210.84800000000001,52.712000000000003,null,null,"RUP esecuzione",{"$f":"+H307*N307","v":37.952640000000002},0.18]
[2021,1302,"109 del 13/08/2021","z4132c40b4","affidamento della fornitura di cancelleria varia per le esigenze delle procedure concorsuali",13178,263.56,210.84800000000001,52.712000000000003,null,null,"Coll. RUP esecuzione",{"$f":"+H308*N308","v":4.2169600000000003},0.02]
[2021,1302,"109 del 13/08/2021","z4132c40b4","affidamento della fornitura di cancelleria varia per le esigenze delle procedure concorsuali",13178,263.56,210.84800000000001,52.712000000000003,null,null,"Coll. RUP esecuzione",{"$f":"+H309*N309","v":4.2169600000000003},0.02]
[2021,1302,"109 del 13/08/2021","z4132c40b4","affidamento della fornitura di cancelleria varia per le esigenze delle procedure concorsuali",13178,263.56,210.84800000000001,52.712000000000003,null,null,"DEC",{"$f":"+H310*N310","v":24.247520000000002},0.115]
[2021,1302,"109 del 13/08/2021","z4132c40b4","affidamento della fornitura di cancelleria varia per le esigenze delle procedure concorsuali",13178,263.56,210.84800000000001,52.712000000000003,null,null,"Coll. DEC",{"$f":"+H311*N311","v":4.7440800000000003},2.2499999999999999E-2]
[2021,1302,"109 del 13/08/2021","z4132c40b4","affidamento della fornitura di cancelleria varia per le esigenze delle procedure concorsuali",13178,263.56,210.84800000000001,52.712000000000003,null,null,"Coll. DEC",{"$f":"+H312*N312","v":4.7440800000000003},2.2499999999999999E-2]
[2021,1302,"109 del 13/08/2021","z4132c40b4","affidamento della fornitura di cancelleria varia per le esigenze delle procedure concorsuali",13178,263.56,210.84800000000001,52.712000000000003,null,null,"Inc. Ver. Conf",{"$f":"+H313*N313","v":7.3796800000000013},3.5000000000000003E-2]
[2021,1302,"109 del 13/08/2021","z4132c40b4","affidamento della fornitura di cancelleria varia per le esigenze delle procedure concorsuali",13178,263.56,210.84800000000001,52.712000000000003,null,null,"Coll. Inc Ver. Conf.",{"$f":"+H314*N314","v":3.1627200000000002},1.4999999999999999E-2]
[2021,1302,"173 del 09/11/2021","z4c33ce7ce","affidamento della fornitura di agende, calendari anno 2022",19820,{"$f":"+F315*0.02","v":396.40000000000003},317.12000000000006,79.280000000000015,{"$f":"+H315","v":317.12000000000006},{"$f":"+M315+M316+M317+M318+M319+M320","v":180.75840000000002},"Inc. Prog.",{"$f":"+H315*N315","v":9.5136000000000021},0.03,null,null,{"$f":"+H315-O315-P315-K315","v":136.36160000000004}]
[2021,1302,"173 del 09/11/2021","z4c33ce7ce","affidamento della fornitura di agende, calendari anno 2022",19820,{"$f":"+F316*0.02","v":396.40000000000003},{"$f":"+(G316)*0.8","v":317.12000000000006},{"$f":"+(G316)*0.2","v":79.280000000000015},null,null,"Coll.Inc. Prog.",{"$f":"+H316*N316","v":6.3424000000000014},0.02]
[2021,1302,"173 del 09/11/2021","z4c33ce7ce","affidamento della fornitura di agende, calendari anno 2022",19820,396.40000000000003,317.12000000000006,79.280000000000015,null,null,"Inc. Pred. Doc.",{"$f":"+H317*N317","v":42.811200000000014},0.13500000000000001]
[2021,1302,"173 del 09/11/2021","z4c33ce7ce","affidamento della fornitura di agende, calendari anno 2022",19820,396.40000000000003,317.12000000000006,79.280000000000015,null,null,"Coll. Inc. Pred.",{"$f":"+H318*N318","v":9.5136000000000021},0.03]
[2021,1302,"173 del 09/11/2021","z4c33ce7ce","affidamento della fornitura di agende, calendari anno 2022",19820,396.40000000000003,317.12000000000006,79.280000000000015,null,null,"RUP Affidamento",{"$f":"+H319*N319","v":91.964800000000011},0.28999999999999998]
[2021,1302,"173 del 09/11/2021","z4c33ce7ce","affidamento della fornitura di agende, calendari anno 2022",19820,396.40000000000003,317.12000000000006,79.280000000000015,null,null,"Coll. RUP Affidamento",{"$f":"+H320*N320","v":20.612800000000004},6.5000000000000002E-2]
[2020,1302,"96 del 18/5/2020","8300348FD7","Noleggio apparecchiature multifunzione (SOLO ESECUZIONE)",78291.199999999997,1565.82,{"$f":"+(G321)*0.8","v":1252.6559999999999},{"$f":"+(G321)*0.2","v":313.16399999999999},{"$f":"+H321-P321","v":620.06599999999992},{"$f":"+M321+M322+M323+M324+M328+M329+M325+M326+M327","v":232.51},"RUP esecuzione",{"$f":"66.55+13.31","v":79.86},0.17,null,632.59,{"$f":"+H321-O321-P321-K321","v":387.55599999999993}]
[2020,1302,"96 del 18/5/2020","8300348FD7","Noleggio apparecchiature multifunzione (SOLO ESECUZIONE)",78291.199999999997,1565.82,1252.6559999999999,313.16399999999999,null,null,{"$f":"+L323","v":"Coll. RUP esecuzione"},{"$f":"15.66+3.13","v":18.79},0.04]
[2020,1302,"96 del 18/5/2020","8300348FD7","Noleggio apparecchiature multifunzione (SOLO ESECUZIONE)",78291.199999999997,1565.82,1252.6559999999999,313.16399999999999,null,null,"Coll. RUP esecuzione",{"$f":"+M322","v":18.79},0.04]
[2020,1302,"96 del 18/5/2020","8300348FD7","Noleggio apparecchiature multifunzione (SOLO ESECUZIONE)",78291.199999999997,1565.82,1252.6559999999999,313.16399999999999,null,null,"DEC esterno",43.06,0.11]
[2020,1302,"96 del 18/5/2020","8300348FD7","Noleggio apparecchiature multifunzione (SOLO ESECUZIONE)",78291.199999999997,1565.82,{"$f":"+(G325)*0.8","v":1252.6559999999999},{"$f":"+(G325)*0.2","v":313.16399999999999},null,null,"DEC",8.61,0.11]
[2020,1302,"96 del 18/5/2020","8300348FD7","Noleggio apparecchiature multifunzione (SOLO ESECUZIONE)",78291.199999999997,1565.82,{"$f":"+(G326)*0.8","v":1252.6559999999999},{"$f":"+(G326)*0.2","v":313.16399999999999},null,null,"Coll. DEC",15.26,3.2500000000000001E-2]
[2020,1302,"96 del 18/5/2020","8300348FD7","Noleggio apparecchiature multifunzione (SOLO ESECUZIONE)",78291.199999999997,1565.82,1252.6559999999999,313.16399999999999,null,null,"Coll. DEC",15.26,3.2500000000000001E-2]
[2020,1302,"96 del 18/5/2020","8300348FD7","Noleggio apparecchiature multifunzione (SOLO ESECUZIONE)",78291.199999999997,1565.82,1252.6559999999999,313.16399999999999,null,null,"Inc. verifica conformità",{"$f":"15.66+3.13","v":18.79},0.04]
[2020,1302,"96 del 18/5/2020","8300348FD7","Noleggio apparecchiature multifunzione (SOLO ESECUZIONE)",78291.199999999997,1565.82,1252.6559999999999,313.16399999999999,null,null,"Coll. Inc. Ver. Conf",{"$f":"11.74+2.35","v":14.09},0.03]
[2021,1302,"29 del 25/02/2021","z7330c2d07","Acquisto carta",24200,{"$f":"+F330*0.02","v":484},387.20000000000005,96.800000000000011,{"$f":"+K330","v":387.2000000000001},{"$f":"+M330+M331+M332+M333+M334+M335+M336+M337+M338+M339+M340+M341+M342+M343+M344","v":387.2000000000001},"Incaricato programm.",{"$f":"+H330*N330","v":11.616000000000001},0.03]
[2021,1302,"29 del 25/02/2021","z7330c2d07","Acquisto carta",24200,484,{"$f":"+(G331)*0.8","v":387.20000000000005},{"$f":"+(G331)*0.2","v":96.800000000000011},null,null,"Coll. Inc. prog.",{"$f":"+H331*N331","v":3.8720000000000003},0.01]
[2021,1302,"29 del 25/02/2021","z7330c2d07","Acquisto carta",24200,484,{"$f":"+(G332)*0.8","v":387.20000000000005},{"$f":"+(G332)*0.2","v":96.800000000000011},null,null,"Coll. Inc. prog.",{"$f":"+H332*N332","v":3.8720000000000003},0.01]
[2021,1302,"29 del 25/02/2021","z7330c2d07","Acquisto carta",24200,484,387.20000000000005,96.800000000000011,null,null,"Inc. Pred. Doc. ",{"$f":"+H333*N333","v":52.272000000000013},0.13500000000000001]
[2021,1302,"29 del 25/02/2021","z7330c2d07","Acquisto carta",24200,484,387.20000000000005,96.800000000000011,null,null,"Coll. Inc. Pred.",{"$f":"+H334*N334","v":11.616000000000001},0.03]
[2021,1302,"29 del 25/02/2021","z7330c2d07","Acquisto carta",24200,484,387.20000000000005,96.800000000000011,null,null,"RUP Affidamento",{"$f":"+H335*N335","v":112.28800000000001},0.28999999999999998]
[2021,1302,"29 del 25/02/2021","z7330c2d07","Acquisto carta",24200,484,387.20000000000005,96.800000000000011,null,null,"Coll. RUP Affidamento",{"$f":"+H336*N336","v":25.168000000000003},6.5000000000000002E-2]
[2021,1302,"29 del 25/02/2021","z7330c2d07","Acquisto carta",24200,484,387.20000000000005,96.800000000000011,null,null,"RUP esecuzione",{"$f":"+H337*N337","v":69.696000000000012},0.18]
[2021,1302,"29 del 25/02/2021","z7330c2d07","Acquisto carta",24200,484,387.20000000000005,96.800000000000011,null,null,"Coll. RUP esecuzione",{"$f":"+H338*N338","v":7.7440000000000007},0.02]
[2021,1302,"29 del 25/02/2021","z7330c2d07","Acquisto carta",24200,484,387.20000000000005,96.800000000000011,null,null,"Coll. RUP esecuzione",{"$f":"+H339*N339","v":7.7440000000000007},0.02]
[2021,1302,"29 del 25/02/2021","z7330c2d07","Acquisto carta",24200,484,387.20000000000005,96.800000000000011,null,null,"DEC",{"$f":"+H340*N340","v":44.528000000000006},0.115]
[2021,1302,"29 del 25/02/2021","z7330c2d07","Acquisto carta",24200,484,387.20000000000005,96.800000000000011,null,null,"Coll. DEC",{"$f":"+H341*N341","v":8.7120000000000015},2.2499999999999999E-2]
[2021,1302,"29 del 25/02/2021","z7330c2d07","Acquisto carta",24200,484,387.20000000000005,96.800000000000011,null,null,"Coll. DEC",{"$f":"+H342*N342","v":8.7120000000000015},2.2499999999999999E-2]
[2021,1302,"29 del 25/02/2021","z7330c2d07","Acquisto carta",24200,484,387.20000000000005,96.800000000000011,null,null,"Inc. Ver. Conf",{"$f":"+H343*N343","v":13.552000000000003},3.5000000000000003E-2]
[2021,1302,"29 del 25/02/2021","z7330c2d07","Acquisto carta",24200,484,387.20000000000005,96.800000000000011,null,null,"Coll. Inc Ver. Conf.",{"$f":"+H344*N344","v":5.8080000000000007},1.4999999999999999E-2]
[2021,1302,"85 DEL 21/06/2021",{"$f":"+[1]Foglio1!$F$40","v":"880102211D"},{"$f":"+[1]Foglio1!$E$40","v":"USO TEMPORANEO DI LOCALI PER ESPLETAMENTO PROVE SCRITTE CONCORSO A 60 POSTI DI REFERENDARIO DI TAR E CONCORSO PER RECLUTAMENTO DI PERSONALE PER ATTUAZIONE PNRR"},{"$f":"+[2]All.2!$F$7","v":138999},{"$f":"+F345*0.02","v":2779.98},2223.9839999999999,555.99599999999998,{"$f":"+K345","v":2223.9839999999999},{"$f":"+M345+M346+M347+M348+M349+M350+M351+M352+M353+M354+M355+M356+M357+M358+M359","v":2223.9839999999999},"Incaricato programm.",{"$f":"+H345*N345","v":66.719519999999989},0.03]
[2021,1302,"85 DEL 21/06/2021",{"$f":"+[1]Foglio1!$F$40","v":"880102211D"},{"$f":"+[1]Foglio1!$E$40","v":"USO TEMPORANEO DI LOCALI PER ESPLETAMENTO PROVE SCRITTE CONCORSO A 60 POSTI DI REFERENDARIO DI TAR E CONCORSO PER RECLUTAMENTO DI PERSONALE PER ATTUAZIONE PNRR"},{"$f":"+[2]All.2!$F$7","v":138999},{"$f":"+F346*0.02","v":2779.98},{"$f":"+(G346)*0.8","v":2223.9839999999999},{"$f":"+(G346)*0.2","v":555.99599999999998},null,null,"Coll. Inc. prog.",{"$f":"+H346*N346","v":22.239840000000001},0.01]
[2021,1302,"85 DEL 21/06/2021",{"$f":"+[1]Foglio1!$F$40","v":"880102211D"},{"$f":"+[1]Foglio1!$E$40","v":"USO TEMPORANEO DI LOCALI PER ESPLETAMENTO PROVE SCRITTE CONCORSO A 60 POSTI DI REFERENDARIO DI TAR E CONCORSO PER RECLUTAMENTO DI PERSONALE PER ATTUAZIONE PNRR"},{"$f":"+[2]All.2!$F$7","v":138999},2779.98,2223.9839999999999,555.99599999999998,null,null,"Coll. Inc. prog.",{"$f":"+H347*N347","v":22.239840000000001},0.01]
[2021,1302,"85 DEL 21/06/2021",{"$f":"+[1]Foglio1!$F$40","v":"880102211D"},{"$f":"+[1]Foglio1!$E$40","v":"USO TEMPORANEO DI LOCALI PER ESPLETAMENTO PROVE SCRITTE CONCORSO A 60 POSTI DI REFERENDARIO DI TAR E CONCORSO PER RECLUTAMENTO DI PERSONALE PER ATTUAZIONE PNRR"},{"$f":"+[2]All.2!$F$7","v":138999},2779.98,2223.9839999999999,555.99599999999998,null,null,"Inc. Pred. Doc. ",{"$f":"+H348*N348","v":300.23784000000001},0.13500000000000001]
[2021,1302,"85 DEL 21/06/2021",{"$f":"+[1]Foglio1!$F$40","v":"880102211D"},{"$f":"+[1]Foglio1!$E$40","v":"USO TEMPORANEO DI LOCALI PER ESPLETAMENTO PROVE SCRITTE CONCORSO A 60 POSTI DI REFERENDARIO DI TAR E CONCORSO PER RECLUTAMENTO DI PERSONALE PER ATTUAZIONE PNRR"},{"$f":"+[2]All.2!$F$7","v":138999},2779.98,2223.9839999999999,555.99599999999998,null,null,"Coll. Inc. Pred.",{"$f":"+H349*N349","v":66.719519999999989},0.03]
[2021,1302,"85 DEL 21/06/2021",{"$f":"+[1]Foglio1!$F$40","v":"880102211D"},{"$f":"+[1]Foglio1!$E$40","v":"USO TEMPORANEO DI LOCALI PER ESPLETAMENTO PROVE SCRITTE CONCORSO A 60 POSTI DI REFERENDARIO DI TAR E CONCORSO PER RECLUTAMENTO DI PERSONALE PER ATTUAZIONE PNRR"},{"$f":"+[2]All.2!$F$7","v":138999},2779.98,2223.9839999999999,555.99599999999998,null,null,"RUP Affidamento",{"$f":"+H350*N350","v":644.95535999999993},0.28999999999999998]
[2021,1302,"85 DEL 21/06/2021",{"$f":"+[1]Foglio1!$F$40","v":"880102211D"},{"$f":"+[1]Foglio1!$E$40","v":"USO TEMPORANEO DI LOCALI PER ESPLETAMENTO PROVE SCRITTE CONCORSO A 60 POSTI DI REFERENDARIO DI TAR E CONCORSO PER RECLUTAMENTO DI PERSONALE PER ATTUAZIONE PNRR"},{"$f":"+[2]All.2!$F$7","v":138999},2779.98,2223.9839999999999,555.99599999999998,null,null,"Coll. RUP Affidamento",{"$f":"+H351*N351","v":144.55896000000001},6.5000000000000002E-2]
[2021,1302,"85 DEL 21/06/2021",{"$f":"+[1]Foglio1!$F$40","v":"880102211D"},{"$f":"+[1]Foglio1!$E$40","v":"USO TEMPORANEO DI LOCALI PER ESPLETAMENTO PROVE SCRITTE CONCORSO A 60 POSTI DI REFERENDARIO DI TAR E CONCORSO PER RECLUTAMENTO DI PERSONALE PER ATTUAZIONE PNRR"},{"$f":"+[2]All.2!$F$7","v":138999},2779.98,2223.9839999999999,555.99599999999998,null,null,"RUP esecuzione",{"$f":"+H352*N352","v":400.31711999999999},0.18]
[2021,1302,"85 DEL 21/06/2021",{"$f":"+[1]Foglio1!$F$40","v":"880102211D"},{"$f":"+[1]Foglio1!$E$40","v":"USO TEMPORANEO DI LOCALI PER ESPLETAMENTO PROVE SCRITTE CONCORSO A 60 POSTI DI REFERENDARIO DI TAR E CONCORSO PER RECLUTAMENTO DI PERSONALE PER ATTUAZIONE PNRR"},{"$f":"+[2]All.2!$F$7","v":138999},2779.98,2223.9839999999999,555.99599999999998,null,null,"Coll. RUP esecuzione",{"$f":"+H353*N353","v":44.479680000000002},0.02]
[2021,1302,"85 DEL 21/06/2021",{"$f":"+[1]Foglio1!$F$40","v":"880102211D"},{"$f":"+[1]Foglio1!$E$40","v":"USO TEMPORANEO DI LOCALI PER ESPLETAMENTO PROVE SCRITTE CONCORSO A 60 POSTI DI REFERENDARIO DI TAR E CONCORSO PER RECLUTAMENTO DI PERSONALE PER ATTUAZIONE PNRR"},{"$f":"+[2]All.2!$F$7","v":138999},2779.98,2223.9839999999999,555.99599999999998,null,null,"Coll. RUP esecuzione",{"$f":"+H354*N354","v":44.479680000000002},0.02]
[2021,1302,"85 DEL 21/06/2021",{"$f":"+[1]Foglio1!$F$40","v":"880102211D"},{"$f":"+[1]Foglio1!$E$40","v":"USO TEMPORANEO DI LOCALI PER ESPLETAMENTO PROVE SCRITTE CONCORSO A 60 POSTI DI REFERENDARIO DI TAR E CONCORSO PER RECLUTAMENTO DI PERSONALE PER ATTUAZIONE PNRR"},{"$f":"+[2]All.2!$F$7","v":138999},2779.98,2223.9839999999999,555.99599999999998,null,null,"DEC",{"$f":"+H355*N355","v":255.75816},0.115]
[2021,1302,"85 DEL 21/06/2021",{"$f":"+[1]Foglio1!$F$40","v":"880102211D"},{"$f":"+[1]Foglio1!$E$40","v":"USO TEMPORANEO DI LOCALI PER ESPLETAMENTO PROVE SCRITTE CONCORSO A 60 POSTI DI REFERENDARIO DI TAR E CONCORSO PER RECLUTAMENTO DI PERSONALE PER ATTUAZIONE PNRR"},{"$f":"+[2]All.2!$F$7","v":138999},2779.98,2223.9839999999999,555.99599999999998,null,null,"Coll. DEC",{"$f":"+H356*N356","v":50.039639999999999},2.2499999999999999E-2]
[2021,1302,"85 DEL 21/06/2021",{"$f":"+[1]Foglio1!$F$40","v":"880102211D"},{"$f":"+[1]Foglio1!$E$40","v":"USO TEMPORANEO DI LOCALI PER ESPLETAMENTO PROVE SCRITTE CONCORSO A 60 POSTI DI REFERENDARIO DI TAR E CONCORSO PER RECLUTAMENTO DI PERSONALE PER ATTUAZIONE PNRR"},{"$f":"+[2]All.2!$F$7","v":138999},2779.98,2223.9839999999999,555.99599999999998,null,null,"Coll. DEC",{"$f":"+H357*N357","v":50.039639999999999},2.2499999999999999E-2]
[2021,1302,"85 DEL 21/06/2021",{"$f":"+[1]Foglio1!$F$40","v":"880102211D"},{"$f":"+[1]Foglio1!$E$40","v":"USO TEMPORANEO DI LOCALI PER ESPLETAMENTO PROVE SCRITTE CONCORSO A 60 POSTI DI REFERENDARIO DI TAR E CONCORSO PER RECLUTAMENTO DI PERSONALE PER ATTUAZIONE PNRR"},{"$f":"+[2]All.2!$F$7","v":138999},2779.98,2223.9839999999999,555.99599999999998,null,null,"Inc. Ver. Conf",{"$f":"+H358*N358","v":77.83944000000001},3.5000000000000003E-2]
[2021,1302,"85 DEL 21/06/2021",{"$f":"+[1]Foglio1!$F$40","v":"880102211D"},{"$f":"+[1]Foglio1!$E$40","v":"USO TEMPORANEO DI LOCALI PER ESPLETAMENTO PROVE SCRITTE CONCORSO A 60 POSTI DI REFERENDARIO DI TAR E CONCORSO PER RECLUTAMENTO DI PERSONALE PER ATTUAZIONE PNRR"},{"$f":"+[2]All.2!$F$7","v":138999},2779.98,2223.9839999999999,555.99599999999998,null,null,"Coll. Inc Ver. Conf.",{"$f":"+H359*N359","v":33.359759999999994},1.4999999999999999E-2]
[2021,1302,"130 DEL 04/10/2021",{"$f":"+[1]Foglio1!$F$65","v":"ZD3334A11F"},{"$f":"+[1]Foglio1!$E$65","v":"Servizio di presidio sanitario con ambulanza durante l’espletamento delle prove scritte del concorso a 3 posti di Consigliere di Stato"},5000,{"$f":"+F360*0.02","v":100},{"$f":"+(G360)*0.8","v":80},{"$f":"+(G360)*0.2","v":20},{"$f":"+K360","v":80},{"$f":"+M360+M361+M362+M363+M364+M365+M366+M367+M368+M369+M370+M371+M372+M373","v":80},"Incaricato programm.",{"$f":"+H360*N360","v":2.4},0.03]
[2021,1302,"130 DEL 04/10/2021",{"$f":"+[1]Foglio1!$F$65","v":"ZD3334A11F"},{"$f":"+[1]Foglio1!$E$65","v":"Servizio di presidio sanitario con ambulanza durante l’espletamento delle prove scritte del concorso a 3 posti di Consigliere di Stato"},5000,{"$f":"+F361*0.02","v":100},{"$f":"+(G361)*0.8","v":80},{"$f":"+(G361)*0.2","v":20},null,null,"Coll. Inc. prog.",{"$f":"+H361*N361","v":1.6},0.02]
[2021,1302,"130 DEL 04/10/2021",{"$f":"+[1]Foglio1!$F$65","v":"ZD3334A11F"},{"$f":"+[1]Foglio1!$E$65","v":"Servizio di presidio sanitario con ambulanza durante l’espletamento delle prove scritte del concorso a 3 posti di Consigliere di Stato"},5000,100,80,20,null,null,"Inc. Pred. Doc. ",{"$f":"+H362*N362","v":10.8},0.13500000000000001]
[2021,1302,"130 DEL 04/10/2021",{"$f":"+[1]Foglio1!$F$65","v":"ZD3334A11F"},{"$f":"+[1]Foglio1!$E$65","v":"Servizio di presidio sanitario con ambulanza durante l’espletamento delle prove scritte del concorso a 3 posti di Consigliere di Stato"},5000,100,80,20,null,null,"Coll. Inc. Pred.",{"$f":"+H363*N363","v":2.4},0.03]
[2021,1302,"130 DEL 04/10/2021",{"$f":"+[1]Foglio1!$F$65","v":"ZD3334A11F"},{"$f":"+[1]Foglio1!$E$65","v":"Servizio di presidio sanitario con ambulanza durante l’espletamento delle prove scritte del concorso a 3 posti di Consigliere di Stato"},5000,100,80,20,null,null,"RUP Affidamento",{"$f":"+H364*N364","v":23.2},0.28999999999999998]
[2021,1302,"130 DEL 04/10/2021",{"$f":"+[1]Foglio1!$F$65","v":"ZD3334A11F"},{"$f":"+[1]Foglio1!$E$65","v":"Servizio di presidio sanitario con ambulanza durante l’espletamento delle prove scritte del concorso a 3 posti di Consigliere di Stato"},5000,100,80,20,null,null,"Coll. RUP Affidamento",{"$f":"+H365*N365","v":5.2},6.5000000000000002E-2]
[2021,1302,"130 DEL 04/10/2021",{"$f":"+[1]Foglio1!$F$65","v":"ZD3334A11F"},{"$f":"+[1]Foglio1!$E$65","v":"Servizio di presidio sanitario con ambulanza durante l’espletamento delle prove scritte del concorso a 3 posti di Consigliere di Stato"},5000,100,80,20,null,null,"RUP esecuzione",{"$f":"+H366*N366","v":14.399999999999999},0.18]
[2021,1302,"130 DEL 04/10/2021",{"$f":"+[1]Foglio1!$F$65","v":"ZD3334A11F"},{"$f":"+[1]Foglio1!$E$65","v":"Servizio di presidio sanitario con ambulanza durante l’espletamento delle prove scritte del concorso a 3 posti di Consigliere di Stato"},5000,100,80,20,null,null,"Coll. RUP esecuzione",{"$f":"+H367*N367","v":1.6},0.02]
[2021,1302,"130 DEL 04/10/2021",{"$f":"+[1]Foglio1!$F$65","v":"ZD3334A11F"},{"$f":"+[1]Foglio1!$E$65","v":"Servizio di presidio sanitario con ambulanza durante l’espletamento delle prove scritte del concorso a 3 posti di Consigliere di Stato"},5000,100,80,20,null,null,"Coll. RUP esecuzione",{"$f":"+H368*N368","v":1.6},0.02]
[2021,1302,"130 DEL 04/10/2021",{"$f":"+[1]Foglio1!$F$65","v":"ZD3334A11F"},{"$f":"+[1]Foglio1!$E$65","v":"Servizio di presidio sanitario con ambulanza durante l’espletamento delle prove scritte del concorso a 3 posti di Consigliere di Stato"},5000,100,80,20,null,null,"DEC",{"$f":"+H369*N369","v":9.2000000000000011},0.115]
[2021,1302,"130 DEL 04/10/2021",{"$f":"+[1]Foglio1!$F$65","v":"ZD3334A11F"},{"$f":"+[1]Foglio1!$E$65","v":"Servizio di presidio sanitario con ambulanza durante l’espletamento delle prove scritte del concorso a 3 posti di Consigliere di Stato"},5000,100,80,20,null,null,"Coll. DEC",{"$f":"+H370*N370","v":1.7999999999999998},2.2499999999999999E-2]
[2021,1302,"130 DEL 04/10/2021",{"$f":"+[1]Foglio1!$F$65","v":"ZD3334A11F"},{"$f":"+[1]Foglio1!$E$65","v":"Servizio di presidio sanitario con ambulanza durante l’espletamento delle prove scritte del concorso a 3 posti di Consigliere di Stato"},5000,100,80,20,null,null,"Coll. DEC",{"$f":"+H371*N371","v":1.7999999999999998},2.2499999999999999E-2]
[2021,1302,"130 DEL 04/10/2021",{"$f":"+[1]Foglio1!$F$65","v":"ZD3334A11F"},{"$f":"+[1]Foglio1!$E$65","v":"Servizio di presidio sanitario con ambulanza durante l’espletamento delle prove scritte del concorso a 3 posti di Consigliere di Stato"},5000,100,80,20,null,null,"Inc. Ver. Conf",{"$f":"+H372*N372","v":2.8000000000000003},3.5000000000000003E-2]
[2021,1302,"130 DEL 04/10/2021",{"$f":"+[1]Foglio1!$F$65","v":"ZD3334A11F"},{"$f":"+[1]Foglio1!$E$65","v":"Servizio di presidio sanitario con ambulanza durante l’espletamento delle prove scritte del concorso a 3 posti di Consigliere di Stato"},5000,100,80,20,null,null,"Coll. Inc Ver. Conf.",{"$f":"+H373*N373","v":1.2},1.4999999999999999E-2]
[2021,1303,"128 DEL 29/09/2021","8921223A1B","Convenzione Consip Energia elettrica 18 ",214000,{"$f":"+F374*2/100","v":4280},{"$f":"+(G374)*0.8","v":3424},{"$f":"+(G374)*0.2","v":856},{"$f":"+H374","v":3424},{"$f":"+M374+M375+M376+M377+M378+M379","v":1729.12},"Incaricato programm.",{"$f":"H374*N374","v":171.20000000000002},0.05,null,null,{"$f":"+H374-O374-P374-K374","v":1694.88}]
[2021,1303,"128 DEL 29/09/2021","8921223A1B","Convenzione Consip Energia elettrica 18",214000,{"$f":"+F375*2/100","v":4280},{"$f":"+(G375)*0.8","v":3424},{"$f":"+(G375)*0.2","v":856},null,null,"Coll. Inc. prog.",{"$f":"H375*N375","v":102.72},0.03]
[2021,1303,"128 DEL 29/09/2021","8921223A1B","Convenzione Consip Energia elettrica 18",214000,4280,3424,856,null,null,"Inc. Pred. Doc. ",{"$f":"H376*N376","v":410.88},0.12]
[2021,1303,"128 DEL 29/09/2021","8921223A1B","Convenzione Consip Energia elettrica 18",214000,4280,3424,856,null,null,"Coll. Inc. Pred.",{"$f":"H377*N377","v":256.8},7.4999999999999997E-2]
[2021,1303,"128 DEL 29/09/2021","8921223A1B","Convenzione Consip Energia elettrica 18",214000,4280,3424,856,null,null,"RUP Affidamento",{"$f":"H378*N378","v":513.6},0.15]
[2021,1303,"128 DEL 29/09/2021","8921223A1B","Convenzione Consip Energia elettrica 18",214000,4280,3424,856,null,null,"Coll. RUP Affidamento",{"$f":"H379*N379","v":273.92},0.08]
[2020,1303,"132 del 5/8/2020","8394263CF4","Convenzione Consip Energia elettrica 17 (SOLO ESECUZIONE)",175000,3500,{"$f":"+(G380)*0.8","v":2800},{"$f":"+(G380)*0.2","v":700},{"$f":"+K380","v":1386},{"$f":"+M380+M381+M383+M384+M386+M387+M385+M382","v":1386},"RUP esecuzione",{"$f":"H380*N380","v":476.00000000000006},0.17,null,1414]
[2020,1303,"132 del 5/8/2020","8394263CF4","Convenzione Consip Energia elettrica 17 (SOLO ESECUZIONE)",175000,3500,2800,700,null,null,"Coll. Rup esecuzione",{"$f":"H381*N381","v":112},0.04]
[2020,1303,"132 del 5/8/2020","8394263CF4","Convenzione Consip Energia elettrica 17 (SOLO ESECUZIONE)",175000,3500,{"$f":"+(G382)*0.8","v":2800},{"$f":"+(G382)*0.2","v":700},null,null,"Coll. Rup esecuzione",{"$f":"H382*N382","v":112},0.04]
[2020,1303,"132 del 5/8/2020","8394263CF4","Convenzione Consip Energia elettrica 17 (SOLO ESECUZIONE)",175000,3500,2800,700,null,null,"DEC",{"$f":"H383*N383","v":308},0.11]
[2020,1303,"132 del 5/8/2020","8394263CF4","Convenzione Consip Energia elettrica 17 (SOLO ESECUZIONE)",175000,3500,2800,700,null,null,"Coll. DEC",{"$f":"H384*N384","v":91},3.2500000000000001E-2]
[2020,1303,"132 del 5/8/2020","8394263CF4","Convenzione Consip Energia elettrica 17 (SOLO ESECUZIONE)",175000,3500,{"$f":"+(G385)*0.8","v":2800},{"$f":"+(G385)*0.2","v":700},null,null,"Coll. DEC",{"$f":"H385*N385","v":91},3.2500000000000001E-2]
[2020,1303,"132 del 5/8/2020","8394263CF4","Convenzione Consip Energia elettrica 17 (SOLO ESECUZIONE)",175000,3500,2800,700,null,null,"Collaudatore",{"$f":"H386*N386","v":112},0.04]
[2020,1303,"132 del 5/8/2020","8394263CF4","Convenzione Consip Energia elettrica 17 (SOLO ESECUZIONE)",175000,3500,2800,700,null,null,"Coll. collaudatore",{"$f":"H387*N387","v":84},0.03]
[2021,6251,"24 DEL 18/02/2021","ZF93076734","Acquisto di riviste giuridiche anno 2021",10707.45,{"$f":"+F388*0.02","v":214.14900000000003},{"$f":"+(G388)*0.8","v":171.31920000000002},{"$f":"+(G388)*0.2","v":42.829800000000006},{"$f":"+K388","v":171.31920000000002},{"$f":"+M388+M389+M390+M391+M392+M393+M394+M395+M396+M397+M398+M399+M400+M401+M402","v":171.31920000000002},"Incaricato programm.",{"$f":"+H388*N388","v":5.1395760000000008},0.03,null,null,null,null,null,null,null,null,null,null,null,"+"]
[2021,6251,"24 DEL 18/02/2021","ZF93076734","Acquisto di riviste giuridiche anno 2021",10707.45,{"$f":"+F389*0.02","v":214.14900000000003},{"$f":"+(G389)*0.8","v":171.31920000000002},{"$f":"+(G389)*0.2","v":42.829800000000006},null,null,"Coll. Inc. prog.",{"$f":"+H389*N389","v":1.7131920000000003},0.01,null,null,null,null,null,null,null,null,null,null,null,{"$f":"+M245+#REF!++#REF!+#REF!+M373+M402+#REF!+#REF!+#REF!","v":{"$error":"#REF!"}}]
[2021,6251,"24 DEL 18/02/2021","ZF93076734","Acquisto di riviste giuridiche anno 2021",10707.45,214.14900000000003,171.31920000000002,42.829800000000006,null,null,"Coll. Inc. prog.",{"$f":"+H390*N390","v":1.7131920000000003},0.01]
[2021,6251,"24 DEL 18/02/2021","ZF93076734","Acquisto di riviste giuridiche anno 2021",10707.45,214.14900000000003,171.31920000000002,42.829800000000006,null,null,"Inc. Pred. Doc. ",{"$f":"+H391*N391","v":23.128092000000006},0.13500000000000001]
[2021,6251,"24 DEL 18/02/2021","ZF93076734","Acquisto di riviste giuridiche anno 2021",10707.45,214.14900000000003,171.31920000000002,42.829800000000006,null,null,"Coll. Inc. Pred.",{"$f":"+H392*N392","v":5.1395760000000008},0.03]
[2021,6251,"24 DEL 18/02/2021","ZF93076734","Acquisto di riviste giuridiche anno 2021",10707.45,214.14900000000003,171.31920000000002,42.829800000000006,null,null,"RUP Affidamento",{"$f":"+H393*N393","v":49.682568000000003},0.28999999999999998]
[2021,6251,"24 DEL 18/02/2021","ZF93076734","Acquisto di riviste giuridiche anno 2021",10707.45,214.14900000000003,171.31920000000002,42.829800000000006,null,null,"Coll. RUP Affidamento",{"$f":"+H394*N394","v":11.135748000000001},6.5000000000000002E-2]
[2021,6251,"24 DEL 18/02/2021","ZF93076734","Acquisto di riviste giuridiche anno 2021",10707.45,214.14900000000003,171.31920000000002,42.829800000000006,null,null,"RUP esecuzione",{"$f":"+H395*N395","v":30.837456000000003},0.18]
[2021,6251,"24 DEL 18/02/2021","ZF93076734","Acquisto di riviste giuridiche anno 2021",10707.45,214.14900000000003,171.31920000000002,42.829800000000006,null,null,"Coll. RUP esecuzione",{"$f":"+H396*N396","v":3.4263840000000005},0.02]
[2021,6251,"24 DEL 18/02/2021","ZF93076734","Acquisto di riviste giuridiche anno 2021",10707.45,214.14900000000003,171.31920000000002,42.829800000000006,null,null,"Coll. RUP esecuzione",{"$f":"+H397*N397","v":3.4263840000000005},0.02]
[2021,6251,"24 DEL 18/02/2021","ZF93076734","Acquisto di riviste giuridiche anno 2021",10707.45,214.14900000000003,171.31920000000002,42.829800000000006,null,null,"DEC ",{"$f":"+H398*N398","v":19.701708000000004},0.115]
[2021,6251,"24 DEL 18/02/2021","ZF93076734","Acquisto di riviste giuridiche anno 2021",10707.45,214.14900000000003,171.31920000000002,42.829800000000006,null,null,"Coll. DEC",{"$f":"+H399*N399","v":3.8546820000000004},2.2499999999999999E-2]
[2021,6251,"24 DEL 18/02/2021","ZF93076734","Acquisto di riviste giuridiche anno 2021",10707.45,214.14900000000003,171.31920000000002,42.829800000000006,null,null,"Coll. DEC",{"$f":"+H400*N400","v":3.8546820000000004},2.2499999999999999E-2]
[2021,6251,"24 DEL 18/02/2021","ZF93076734","Acquisto di riviste giuridiche anno 2021",10707.45,214.14900000000003,171.31920000000002,42.829800000000006,null,null,"Inc. Ver. Conf",{"$f":"+H401*N401","v":5.9961720000000014},3.5000000000000003E-2]
[2021,6251,"24 DEL 18/02/2021","ZF93076734","Acquisto di riviste giuridiche anno 2021",10707.45,214.14900000000003,171.31920000000002,42.829800000000006,null,null,"Coll. Inc Ver. Conf.",{"$f":"+H402*N402","v":2.5697880000000004},1.4999999999999999E-2]
[2021,6251,"185 DEL 17/12/2021","Z37346F9AE","affidamento fornitura di libri per la Biblioteca del Consiglio di Stato  (NON E' STATA COMUNICATA DET. UFF.)",7026.11,{"$f":"+F403*0.02","v":140.5222},{"$f":"+(G403)*0.8","v":112.41776},{"$f":"+(G403)*0.2","v":28.10444},{"$f":"+H403","v":112.41776},{"$f":"+M403+M404+M405+M406+M407+M408","v":64.078123200000007},"Incaricato programm.",{"$f":"+H403*N403","v":3.3725328000000001},0.03,null,null,{"$f":"+H403-O403-P403-K403","v":48.339636799999994}]
[2021,6251,"185 DEL 17/12/2021","Z37346F9AE","affidamento fornitura di libri per la Biblioteca del Consiglio di Stato",7026.11,{"$f":"+F404*0.02","v":140.5222},{"$f":"+(G404)*0.8","v":112.41776},{"$f":"+(G404)*0.2","v":28.10444},null,null,"Coll. Inc. prog.",{"$f":"+H404*N404","v":2.2483552000000002},0.02]
[2021,6251,"185 DEL 17/12/2021","Z37346F9AE","affidamento fornitura di libri per la Biblioteca del Consiglio di Stato",7026.11,140.5222,112.41776,28.10444,null,null,"Inc. Pred. Doc. ",{"$f":"+H405*N405","v":15.176397600000001},0.13500000000000001]
[2021,6251,"185 DEL 17/12/2021","Z37346F9AE","affidamento fornitura di libri per la Biblioteca del Consiglio di Stato",7026.11,140.5222,112.41776,28.10444,null,null,"Coll. Inc. Pred.",{"$f":"+H406*N406","v":3.3725328000000001},0.03]
[2021,6251,"185 DEL 17/12/2021","Z37346F9AE","affidamento fornitura di libri per la Biblioteca del Consiglio di Stato",7026.11,140.5222,112.41776,28.10444,null,null,"RUP Affidamento",{"$f":"+H407*N407","v":32.601150400000002},0.28999999999999998]
[2021,6251,"185 DEL 17/12/2021","Z37346F9AE","affidamento fornitura di libri per la Biblioteca del Consiglio di Stato",7026.11,140.5222,112.41776,28.10444,null,null,"Coll. RUP Affidamento",{"$f":"+H408*N408","v":7.3071543999999999},6.5000000000000002E-2]
[2021,4251,"7 del 21/01/2021","ZAD304C8AB","affidamento della fornitura di arredi vari da destinare agli uffici del CDS",6864.11,{"$f":"+F409*0.02","v":137.28219999999999},{"$f":"+G409*0.8","v":109.82576},{"$f":"+G409*0.2","v":27.456440000000001},{"$f":"+K409","v":109.82575999999997},{"$f":"+M409+M410+M411+M412+M413+M414+M415+M416+M417+M418+M419+M420+M421+M422+M423","v":109.82575999999997},"Incaricato programm.",{"$f":"+H409*N409","v":3.2947728000000001},0.03]
[2021,4251,"7 del 21/01/2021","ZAD304C8AB","affidamento della fornitura di arredi vari da destinare agli uffici del CDS",6864.11,{"$f":"+F410*0.02","v":137.28219999999999},{"$f":"+G410*0.8","v":109.82576},{"$f":"+G410*0.2","v":27.456440000000001},null,null,"Coll. Inc. prog.",{"$f":"+H410*N410","v":1.0982575999999999},0.01]
[2021,4251,"7 del 21/01/2021","ZAD304C8AB","affidamento della fornitura di arredi vari da destinare agli uffici del CDS",6864.11,137.28219999999999,109.82576,27.456440000000001,null,null,{"$f":"+L410","v":"Coll. Inc. prog."},{"$f":"+H411*N411","v":1.0982575999999999},0.01]
[2021,4251,"7 del 21/01/2021","ZAD304C8AB","affidamento della fornitura di arredi vari da destinare agli uffici del CDS",6864.11,137.28219999999999,109.82576,27.456440000000001,null,null,"Inc. Pred. Doc. ",{"$f":"+H412*N412","v":14.8264776},0.13500000000000001]
[2021,4251,"7 del 21/01/2021","ZAD304C8AB","affidamento della fornitura di arredi vari da destinare agli uffici del CDS",6864.11,137.28219999999999,109.82576,27.456440000000001,null,null,"Coll. Inc. Pred.",{"$f":"+H413*N413","v":3.2947728000000001},0.03]
[2021,4251,"7 del 21/01/2021","ZAD304C8AB","affidamento della fornitura di arredi vari da destinare agli uffici del CDS",6864.11,137.28219999999999,109.82576,27.456440000000001,null,null,"RUP Affidamento",{"$f":"+H414*N414","v":31.849470399999998},0.28999999999999998]
[2021,4251,"7 del 21/01/2021","ZAD304C8AB","affidamento della fornitura di arredi vari da destinare agli uffici del CDS",6864.11,137.28219999999999,109.82576,27.456440000000001,null,null,"Coll. RUP Affidamento",{"$f":"+H415*N415","v":7.1386744000000002},6.5000000000000002E-2]
[2021,4251,"7 del 21/01/2021","ZAD304C8AB","affidamento della fornitura di arredi vari da destinare agli uffici del CDS",6864.11,137.28219999999999,109.82576,27.456440000000001,null,null,"RUP esecuzione",{"$f":"+H416*N416","v":19.768636799999999},0.18]
[2021,4251,"7 del 21/01/2021","ZAD304C8AB","affidamento della fornitura di arredi vari da destinare agli uffici del CDS",6864.11,137.28219999999999,109.82576,27.456440000000001,null,null,"Coll. RUP esecuzione",{"$f":"+H417*N417","v":2.1965151999999999},0.02]
[2021,4251,"7 del 21/01/2021","ZAD304C8AB","affidamento della fornitura di arredi vari da destinare agli uffici del CDS",6864.11,137.28219999999999,109.82576,27.456440000000001,null,null,"Coll. RUP esecuzione",{"$f":"+H418*N418","v":2.1965151999999999},0.02]
[2021,4251,"7 del 21/01/2021","ZAD304C8AB","affidamento della fornitura di arredi vari da destinare agli uffici del CDS",6864.11,137.28219999999999,109.82576,27.456440000000001,null,null,"DEC",{"$f":"+H419*N419","v":12.6299624},0.115]
[2021,4251,"7 del 21/01/2021","ZAD304C8AB","affidamento della fornitura di arredi vari da destinare agli uffici del CDS",6864.11,137.28219999999999,109.82576,27.456440000000001,null,null,"Coll. DEC",{"$f":"+H420*N420","v":2.4710795999999999},2.2499999999999999E-2]
[2021,4251,"7 del 21/01/2021","ZAD304C8AB","affidamento della fornitura di arredi vari da destinare agli uffici del CDS",6864.11,137.28219999999999,109.82576,27.456440000000001,null,null,"Coll. DEC",{"$f":"+H421*N421","v":2.4710795999999999},2.2499999999999999E-2]
[2021,4251,"7 del 21/01/2021","ZAD304C8AB","affidamento della fornitura di arredi vari da destinare agli uffici del CDS",6864.11,137.28219999999999,109.82576,27.456440000000001,null,null,"Inc. Ver. Conf",{"$f":"+H422*N422","v":3.8439016000000006},3.5000000000000003E-2]
[2021,4251,"7 del 21/01/2021","ZAD304C8AB","affidamento della fornitura di arredi vari da destinare agli uffici del CDS",6864.11,137.28219999999999,109.82576,27.456440000000001,null,null,"Coll. Inc Ver. Conf.",{"$f":"+H423*N423","v":1.6473864},1.4999999999999999E-2]
[2021,4251,"79 del 14/06/2021","Z5B31DBDDA","affidamento della fornitura di arredi vari da destinare agli uffici del CDS",30650,{"$f":"+F424*0.02","v":613},{"$f":"+G424*0.8","v":490.40000000000003},{"$f":"+G424*0.2","v":122.60000000000001},{"$f":"+K424","v":490.4},{"$f":"+M424+M425+M426+M427+M428+M429+M430+M431+M432+M433+M434+M435+M436+M437+M438","v":490.4},"Incaricato programm.",{"$f":"+H424*N424","v":14.712},0.03]
[2021,4251,"79 del 14/06/2021","Z5B31DBDDA","affidamento della fornitura di arredi vari da destinare agli uffici del CDS",30650,{"$f":"+F425*0.02","v":613},{"$f":"+G425*0.8","v":490.40000000000003},{"$f":"+G425*0.2","v":122.60000000000001},null,null,"Coll. Inc. prog.",{"$f":"+H425*N425","v":4.9040000000000008},0.01]
[2021,4251,"79 del 14/06/2021","Z5B31DBDDA","affidamento della fornitura di arredi vari da destinare agli uffici del CDS",30650,613,490.40000000000003,122.60000000000001,null,null,{"$f":"+L425","v":"Coll. Inc. prog."},{"$f":"+H426*N426","v":4.9040000000000008},0.01]
[2021,4251,"79 del 14/06/2021","Z5B31DBDDA","affidamento della fornitura di arredi vari da destinare agli uffici del CDS",30650,613,490.40000000000003,122.60000000000001,null,null,"Inc. Pred. Doc. ",{"$f":"+H427*N427","v":66.204000000000008},0.13500000000000001]
[2021,4251,"79 del 14/06/2021","Z5B31DBDDA","affidamento della fornitura di arredi vari da destinare agli uffici del CDS",30650,613,490.40000000000003,122.60000000000001,null,null,"Coll. Inc. Pred.",{"$f":"+H428*N428","v":14.712},0.03]
[2021,4251,"79 del 14/06/2021","Z5B31DBDDA","affidamento della fornitura di arredi vari da destinare agli uffici del CDS",30650,613,490.40000000000003,122.60000000000001,null,null,"RUP Affidamento",{"$f":"+H429*N429","v":142.21600000000001},0.28999999999999998]
[2021,4251,"79 del 14/06/2021","Z5B31DBDDA","affidamento della fornitura di arredi vari da destinare agli uffici del CDS",30650,613,490.40000000000003,122.60000000000001,null,null,"Coll. RUP Affidamento",{"$f":"+H430*N430","v":31.876000000000005},6.5000000000000002E-2]
[2021,4251,"79 del 14/06/2021","Z5B31DBDDA","affidamento della fornitura di arredi vari da destinare agli uffici del CDS",30650,613,490.40000000000003,122.60000000000001,null,null,"RUP esecuzione",{"$f":"+H431*N431","v":88.272000000000006},0.18]
[2021,4251,"79 del 14/06/2021","Z5B31DBDDA","affidamento della fornitura di arredi vari da destinare agli uffici del CDS",30650,613,490.40000000000003,122.60000000000001,null,null,"Coll. RUP esecuzione",{"$f":"+H432*N432","v":9.8080000000000016},0.02]
[2021,4251,"79 del 14/06/2021","Z5B31DBDDA","affidamento della fornitura di arredi vari da destinare agli uffici del CDS",30650,613,490.40000000000003,122.60000000000001,null,null,"Coll. RUP esecuzione",{"$f":"+H433*N433","v":9.8080000000000016},0.02]
[2021,4251,"79 del 14/06/2021","Z5B31DBDDA","affidamento della fornitura di arredi vari da destinare agli uffici del CDS",30650,613,490.40000000000003,122.60000000000001,null,null,"DEC",{"$f":"+H434*N434","v":56.396000000000008},0.115]
[2021,4251,"79 del 14/06/2021","Z5B31DBDDA","affidamento della fornitura di arredi vari da destinare agli uffici del CDS",30650,613,490.40000000000003,122.60000000000001,null,null,"Coll. DEC",{"$f":"+H435*N435","v":11.034000000000001},2.2499999999999999E-2]
[2021,4251,"79 del 14/06/2021","Z5B31DBDDA","affidamento della fornitura di arredi vari da destinare agli uffici del CDS",30650,613,490.40000000000003,122.60000000000001,null,null,"Coll. DEC",{"$f":"+H436*N436","v":11.034000000000001},2.2499999999999999E-2]
[2021,4251,"79 del 14/06/2021","Z5B31DBDDA","affidamento della fornitura di arredi vari da destinare agli uffici del CDS",30650,613,490.40000000000003,122.60000000000001,null,null,"Inc. Ver. Conf",{"$f":"+H437*N437","v":17.164000000000001},3.5000000000000003E-2]
[2021,4251,"79 del 14/06/2021","Z5B31DBDDA","affidamento della fornitura di arredi vari da destinare agli uffici del CDS",30650,613,490.40000000000003,122.60000000000001,null,null,"Coll. Inc Ver. Conf.",{"$f":"+H438*N438","v":7.3559999999999999},1.4999999999999999E-2]
[2021,4251,"102 del 19/07/2021","Z56329FB10","affidamento della fornitura di passatoie, moquette e accessori di blocco nonché zerbini per le porte d’ingresso ai palazzi istituzionali del Consiglio di Stato",20195,{"$f":"+F439*0.02","v":403.90000000000003},{"$f":"+G439*0.8","v":323.12000000000006},{"$f":"+G439*0.2","v":80.780000000000015},{"$f":"+H439","v":323.12000000000006},{"$f":"+M439+M440+M441+M442+M443+M444","v":184.17840000000004},"Incaricato programm.",{"$f":"+H439*N439","v":9.6936000000000018},0.03,null,null,{"$f":"+H439-O439-P439-K439","v":138.94160000000002}]
[2021,4251,"102 del 19/07/2021","Z56329FB10","affidamento della fornitura di passatoie, moquette e accessori di blocco nonché zerbini per le porte d’ingresso ai palazzi istituzionali del Consiglio di Stato",20195,403.90000000000003,323.12000000000006,{"$f":"+G440*0.2","v":80.780000000000015},null,null,"Coll. Inc. prog.",{"$f":"+H440*N440","v":6.4624000000000015},0.02]
[2021,4251,"102 del 19/07/2021","Z56329FB10","affidamento della fornitura di passatoie, moquette e accessori di blocco nonché zerbini per le porte d’ingresso ai palazzi istituzionali del Consiglio di Stato",20195,403.90000000000003,323.12000000000006,80.780000000000015,null,null,"Inc. Pred. Doc. ",{"$f":"+H441*N441","v":43.621200000000009},0.13500000000000001]
[2021,4251,"102 del 19/07/2021","Z56329FB10","affidamento della fornitura di passatoie, moquette e accessori di blocco nonché zerbini per le porte d’ingresso ai palazzi istituzionali del Consiglio di Stato",20195,403.90000000000003,323.12000000000006,80.780000000000015,null,null,"Coll. Inc. Pred.",{"$f":"+H442*N442","v":9.6936000000000018},0.03]
[2021,4251,"102 del 19/07/2021","Z56329FB10","affidamento della fornitura di passatoie, moquette e accessori di blocco nonché zerbini per le porte d’ingresso ai palazzi istituzionali del Consiglio di Stato",20195,403.90000000000003,323.12000000000006,80.780000000000015,null,null,"RUP Affidamento",{"$f":"+H443*N443","v":93.704800000000006},0.28999999999999998]
[2021,4251,"102 del 19/07/2021","Z56329FB10","affidamento della fornitura di passatoie, moquette e accessori di blocco nonché zerbini per le porte d’ingresso ai palazzi istituzionali del Consiglio di Stato",20195,403.90000000000003,323.12000000000006,80.780000000000015,null,null,"Coll. RUP Affidamento",{"$f":"+H444*N444","v":21.002800000000004},6.5000000000000002E-2]
[2021,1308,"32 DEL 05/03/2021","ZD230DAC81","Acquisto mascherine",18000,{"$f":"+F445*0.02","v":360},{"$f":"+(G445)*0.8","v":288},{"$f":"+(G445)*0.2","v":72},{"$f":"+K445","v":288},{"$f":"+M445+M446+M447+M448+M449+M450+M451+M452+M453+M454+M455+M456+M457+M458+M459","v":288},"Incaricato programm.",{"$f":"+H445*N445","v":8.64},0.03]
[2021,1308,"32 DEL 05/03/2021","ZD230DAC81","Acquisto mascherine",18000,360,{"$f":"+(G446)*0.8","v":288},{"$f":"+(G446)*0.2","v":72},null,null,"Coll. Inc. prog.",{"$f":"+H446*N446","v":2.88},0.01]
[2021,1308,"32 DEL 05/03/2021","ZD230DAC81","Acquisto mascherine",18000,360,288,72,null,null,"Coll. Inc. prog.",{"$f":"+H447*N447","v":2.88},0.01]
[2021,1308,"32 DEL 05/03/2021","ZD230DAC81","Acquisto mascherine",18000,360,288,72,null,null,"Inc. Pred. Doc. ",{"$f":"+H448*N448","v":38.880000000000003},0.13500000000000001]
[2021,1308,"32 DEL 05/03/2021","ZD230DAC81","Acquisto mascherine",18000,360,288,72,null,null,"Coll. Inc. Pred.",{"$f":"+H449*N449","v":8.64},0.03]
[2021,1308,"32 DEL 05/03/2021","ZD230DAC81","Acquisto mascherine",18000,360,288,72,null,null,"RUP Affidamento",{"$f":"+H450*N450","v":83.52},0.28999999999999998]
[2021,1308,"32 DEL 05/03/2021","ZD230DAC81","Acquisto mascherine",18000,360,288,72,null,null,"Coll. RUP Affidamento",{"$f":"+H451*N451","v":18.72},6.5000000000000002E-2]
[2021,1308,"32 DEL 05/03/2021","ZD230DAC81","Acquisto mascherine",18000,360,288,72,null,null,"RUP esecuzione",{"$f":"+H452*N452","v":51.839999999999996},0.18]
[2021,1308,"32 DEL 05/03/2021","ZD230DAC81","Acquisto mascherine",18000,360,288,72,null,null,"Coll. RUP esecuzione",{"$f":"+H453*N453","v":5.76},0.02]
[2021,1308,"32 DEL 05/03/2021","ZD230DAC81","Acquisto mascherine",18000,360,288,72,null,null,"Coll. RUP esecuzione",{"$f":"+H454*N454","v":5.76},0.02]
[2021,1308,"32 DEL 05/03/2021","ZD230DAC81","Acquisto mascherine",18000,360,288,72,null,null,"DEC",{"$f":"+H455*N455","v":33.120000000000005},0.115]
[2021,1308,"32 DEL 05/03/2021","ZD230DAC81","Acquisto mascherine",18000,360,288,72,null,null,"Coll. DEC",{"$f":"+H456*N456","v":6.4799999999999995},2.2499999999999999E-2]
[2021,1308,"32 DEL 05/03/2021","ZD230DAC81","Acquisto mascherine",18000,360,288,72,null,null,"Coll. DEC",{"$f":"+H457*N457","v":6.4799999999999995},2.2499999999999999E-2]
[2021,1308,"32 DEL 05/03/2021","ZD230DAC81","Acquisto mascherine",18000,360,288,72,null,null,"Inc. Ver. Conf",{"$f":"+H458*N458","v":10.080000000000002},3.5000000000000003E-2]
[2021,1308,"32 DEL 05/03/2021","ZD230DAC81","Acquisto mascherine",18000,360,288,72,null,null,"Coll. Inc Ver. Conf.",{"$f":"+H459*N459","v":4.32},1.4999999999999999E-2]
[2021,1308,"107 del 05/08/2021","za632b2df1","Acquisto mascherine",18000,360,288,72,{"$f":"+K460","v":288},{"$f":"+M460+M461+M462+M463+M464+M465+M466+M467+M468+M469+M470+M471+M472+M473","v":288},"Incaricato programm.",{"$f":"+H460*N460","v":8.64},0.03]
[2021,1308,"107 del 05/08/2021","za632b2df1","Acquisto mascherine",18000,360,{"$f":"+(G461)*0.8","v":288},{"$f":"+(G461)*0.2","v":72},null,null,"Coll. Inc. prog.",{"$f":"+H461*N461","v":5.76},0.02]
[2021,1308,"107 del 05/08/2021","za632b2df1","Acquisto mascherine",18000,360,288,72,null,null,"Inc. Pred. Doc. ",{"$f":"+H462*N462","v":38.880000000000003},0.13500000000000001]
[2021,1308,"107 del 05/08/2021","za632b2df1","Acquisto mascherine",18000,360,288,72,null,null,"Coll. Inc. Pred.",{"$f":"+H463*N463","v":8.64},0.03]
[2021,1308,"107 del 05/08/2021","za632b2df1","Acquisto mascherine",18000,360,288,72,null,null,"RUP Affidamento",{"$f":"+H464*N464","v":83.52},0.28999999999999998]
[2021,1308,"107 del 05/08/2021","za632b2df1","Acquisto mascherine",18000,360,288,72,null,null,"Coll. RUP Affidamento",{"$f":"+H465*N465","v":18.72},6.5000000000000002E-2]
[2021,1308,"107 del 05/08/2021","za632b2df1","Acquisto mascherine",18000,360,288,72,null,null,"RUP esecuzione",{"$f":"+H466*N466","v":51.839999999999996},0.18]
[2021,1308,"107 del 05/08/2021","za632b2df1","Acquisto mascherine",18000,360,288,72,null,null,"Coll. RUP esecuzione",{"$f":"+H467*N467","v":5.76},0.02]
[2021,1308,"107 del 05/08/2021","za632b2df1","Acquisto mascherine",18000,360,288,72,null,null,"Coll. RUP esecuzione",{"$f":"+H468*N468","v":5.76},0.02]
[2021,1308,"107 del 05/08/2021","za632b2df1","Acquisto mascherine",18000,360,288,72,null,null,"DEC",{"$f":"+H469*N469","v":33.120000000000005},0.115]
[2021,1308,"107 del 05/08/2021","za632b2df1","Acquisto mascherine",18000,360,288,72,null,null,"Coll. DEC",{"$f":"+H470*N470","v":6.4799999999999995},2.2499999999999999E-2]
[2021,1308,"107 del 05/08/2021","za632b2df1","Acquisto mascherine",18000,360,288,72,null,null,"Coll. DEC",{"$f":"+H471*N471","v":6.4799999999999995},2.2499999999999999E-2]
[2021,1308,"107 del 05/08/2021","za632b2df1","Acquisto mascherine",18000,360,288,72,null,null,"Inc. Ver. Conf",{"$f":"+H472*N472","v":10.080000000000002},3.5000000000000003E-2]
[2021,1308,"107 del 05/08/2021","za632b2df1","Acquisto mascherine",18000,360,288,72,null,null,"Coll. Inc Ver. Conf.",{"$f":"+H473*N473","v":4.32},1.4999999999999999E-2]
[2021,1308,"94 del 12/07/2021","Z7E326E2D7","Acquisto defibrillatori  ",5000,{"$f":"+F474*0.02","v":100},80,20,{"$f":"+K474","v":80},{"$f":"+M474+M475+M476+M477+M478+M479+M480+M481+M482+M483+M484+M485+M486+M487+M488","v":80},"Incaricato programm.",{"$f":"+H474*N474","v":2.4},0.03]
[2021,1308,"94 del 12/07/2021","Z7E326E2D7","Acquisto defibrillatori  ",5000,{"$f":"+F475*0.02","v":100},{"$f":"+(G475)*0.8","v":80},{"$f":"+(G475)*0.2","v":20},null,null,"Coll. Inc. prog.",{"$f":"+H475*N475","v":0.8},0.01]
[2021,1308,"94 del 12/07/2021","Z7E326E2D7","Acquisto defibrillatori",5000,{"$f":"+F476*0.02","v":100},{"$f":"+(G476)*0.8","v":80},{"$f":"+(G476)*0.2","v":20},null,null,"Coll. Inc. prog.",{"$f":"+H476*N476","v":0.8},0.01]
[2021,1308,"94 del 12/07/2021","Z7E326E2D7","Acquisto defibrillatori",5000,{"$f":"+F477*0.02","v":100},80,20,null,null,"Inc. Pred. Doc. ",{"$f":"+H477*N477","v":10.8},0.13500000000000001]
[2021,1308,"94 del 12/07/2021","Z7E326E2D7","Acquisto defibrillatori",5000,{"$f":"+F478*0.02","v":100},80,20,null,null,"Coll. Inc. Pred.",{"$f":"+H478*N478","v":2.4},0.03]
[2021,1308,"94 del 12/07/2021","Z7E326E2D7","Acquisto defibrillatori",5000,{"$f":"+F479*0.02","v":100},80,20,null,null,"RUP Affidamento",{"$f":"+H479*N479","v":23.2},0.28999999999999998]
[2021,1308,"94 del 12/07/2021","Z7E326E2D7","Acquisto defibrillatori",5000,{"$f":"+F480*0.02","v":100},80,20,null,null,"Coll. RUP Affidamento",{"$f":"+H480*N480","v":5.2},6.5000000000000002E-2]
[2021,1308,"94 del 12/07/2021","Z7E326E2D7","Acquisto defibrillatori",5000,{"$f":"+F481*0.02","v":100},80,20,null,null,"RUP esecuzione",{"$f":"+H481*N481","v":14.399999999999999},0.18]
[2021,1308,"94 del 12/07/2021","Z7E326E2D7","Acquisto defibrillatori",5000,{"$f":"+F482*0.02","v":100},{"$f":"+(G482)*0.8","v":80},{"$f":"+(G482)*0.2","v":20},null,null,"Coll. RUP esecuzione",{"$f":"+H482*N482","v":1.6},0.02]
[2021,1308,"94 del 12/07/2021","Z7E326E2D7","Acquisto defibrillatori",5000,{"$f":"+F483*0.02","v":100},80,20,null,null,"Coll. RUP esecuzione",{"$f":"+H483*N483","v":1.6},0.02]
[2021,1308,"94 del 12/07/2021","Z7E326E2D7","Acquisto defibrillatori",5000,{"$f":"+F484*0.02","v":100},80,20,null,null,"DEC",{"$f":"+H484*N484","v":9.2000000000000011},0.115]
[2021,1308,"94 del 12/07/2021","Z7E326E2D7","Acquisto defibrillatori",5000,{"$f":"+F485*0.02","v":100},80,20,null,null,"Coll. DEC",{"$f":"+H485*N485","v":1.7999999999999998},2.2499999999999999E-2]
[2021,1308,"94 del 12/07/2021","Z7E326E2D7","Acquisto defibrillatori",5000,{"$f":"+F486*0.02","v":100},80,20,null,null,"Coll. DEC",{"$f":"+H486*N486","v":1.7999999999999998},2.2499999999999999E-2]
[2021,1308,"94 del 12/07/2021","Z7E326E2D7","Acquisto defibrillatori",5000,{"$f":"+F487*0.02","v":100},{"$f":"+(G487)*0.8","v":80},{"$f":"+(G487)*0.2","v":20},null,null,"Inc. Ver. Conf",{"$f":"+H487*N487","v":2.8000000000000003},3.5000000000000003E-2]
[2021,1308,"94 del 12/07/2021","Z7E326E2D7","Acquisto defibrillatori",5000,{"$f":"+F488*0.02","v":100},80,20,null,null,"Coll. Inc Ver. Conf.",{"$f":"+H488*N488","v":1.2},1.4999999999999999E-2]
[2021,1210,"42 DEL 19/03/2021","Z96310CA1F","TRASFERTE MAGISTRATI",39000,{"$f":"+F489*0.02","v":780},624,156,{"$f":"+H489","v":624},{"$f":"+M489+M490+M491+M492","v":265.2},"Inc. Pred. Doc. ",{"$f":"+H489*N489","v":74.88},0.12,null,null,{"$f":"+H489-O489-P489-K489","v":358.8}]
[2021,1210,"42 DEL 19/03/2021","Z96310CA1F","TRASFERTE MAGISTRATI",39000,{"$f":"+F490*0.02","v":780},{"$f":"+(G490)*0.8","v":624},{"$f":"+(G490)*0.2","v":156},null,null,"Coll. Inc. Pred.",{"$f":"+H490*N490","v":46.8},7.4999999999999997E-2]
[2021,1210,"42 DEL 19/03/2021","Z96310CA1F","TRASFERTE MAGISTRATI",39000,780,624,156,null,null,"RUP Affidamento",{"$f":"+H491*N491","v":93.6},0.15]
[2021,1210,"42 DEL 19/03/2021","Z96310CA1F","TRASFERTE MAGISTRATI",39000,780,624,156,null,null,"Coll. RUP Affidamento",{"$f":"+H492*N492","v":49.92},0.08]
[2021,1292,"95 DEL 15/07/2021",{"$f":"+[1]Foglio1!$F$46","v":"8833454CD5"},{"$f":"+[1]Foglio1!$E$46","v":"PROCEDURA DI GARA AVENTE AD OGGETTO L’AFFIDAMENTO DI SERVIZI ASSICURATIVI (ALL RISKS PATRIMONIO IMMOBILIARE e RESPONSABILITÀ CIVILE VERSO TERZI E DIPENDENTI)"},210000,4200,3360,840,{"$f":"+H493","v":3360},{"$f":"+M493+M494+M495+M496+M497+M498+M499+M500+M501+M502+M503+M504+M505+M506","v":2519.9999999999995},"Incaricato programm.",{"$f":"+H493*N493","v":100.8},0.03,null,null,{"$f":"+H493-O493-P493-K493","v":840.00000000000045}]
[2021,1292,"95 DEL 15/07/2021",{"$f":"+[1]Foglio1!$F$46","v":"8833454CD5"},{"$f":"+[1]Foglio1!$E$46","v":"PROCEDURA DI GARA AVENTE AD OGGETTO L’AFFIDAMENTO DI SERVIZI ASSICURATIVI (ALL RISKS PATRIMONIO IMMOBILIARE e RESPONSABILITÀ CIVILE VERSO TERZI E DIPENDENTI)"},210000,{"$f":"+F494*0.02","v":4200},{"$f":"+(G494)*0.8","v":3360},{"$f":"+(G494)*0.2","v":840},null,null,"Coll. Inc. prog.",{"$f":"+H494*N494","v":33.6},0.01]
[2021,1292,"95 DEL 15/07/2021",{"$f":"+[1]Foglio1!$F$46","v":"8833454CD5"},{"$f":"+[1]Foglio1!$E$46","v":"PROCEDURA DI GARA AVENTE AD OGGETTO L’AFFIDAMENTO DI SERVIZI ASSICURATIVI (ALL RISKS PATRIMONIO IMMOBILIARE e RESPONSABILITÀ CIVILE VERSO TERZI E DIPENDENTI)"},210000,{"$f":"+F495*0.02","v":4200},{"$f":"+(G495)*0.8","v":3360},{"$f":"+(G495)*0.2","v":840},null,null,"Coll. Inc. prog.",{"$f":"+H495*N495","v":33.6},0.01]
[2021,1292,"95 DEL 15/07/2021",{"$f":"+[1]Foglio1!$F$46","v":"8833454CD5"},{"$f":"+[1]Foglio1!$E$46","v":"PROCEDURA DI GARA AVENTE AD OGGETTO L’AFFIDAMENTO DI SERVIZI ASSICURATIVI (ALL RISKS PATRIMONIO IMMOBILIARE e RESPONSABILITÀ CIVILE VERSO TERZI E DIPENDENTI)"},210000,4200,3360,840,null,null,"Inc. Pred. Doc. ",{"$f":"+H496*N496","v":520.79999999999995},0.155]
[2021,1292,"95 DEL 15/07/2021",{"$f":"+[1]Foglio1!$F$46","v":"8833454CD5"},{"$f":"+[1]Foglio1!$E$46","v":"PROCEDURA DI GARA AVENTE AD OGGETTO L’AFFIDAMENTO DI SERVIZI ASSICURATIVI (ALL RISKS PATRIMONIO IMMOBILIARE e RESPONSABILITÀ CIVILE VERSO TERZI E DIPENDENTI)"},210000,4200,3360,840,null,null,"Coll. Inc. Pred.",{"$f":"+H497*N497","v":67.2},0.02]
[2021,1292,"95 DEL 15/07/2021",{"$f":"+[1]Foglio1!$F$46","v":"8833454CD5"},{"$f":"+[1]Foglio1!$E$46","v":"PROCEDURA DI GARA AVENTE AD OGGETTO L’AFFIDAMENTO DI SERVIZI ASSICURATIVI (ALL RISKS PATRIMONIO IMMOBILIARE e RESPONSABILITÀ CIVILE VERSO TERZI E DIPENDENTI)"},210000,4200,3360,840,null,null,"RUP Affidamento",{"$f":"+H498*N498","v":1176},0.35]
[2021,1292,"95 DEL 15/07/2021",{"$f":"+[1]Foglio1!$F$46","v":"8833454CD5"},{"$f":"+[1]Foglio1!$E$46","v":"PROCEDURA DI GARA AVENTE AD OGGETTO L’AFFIDAMENTO DI SERVIZI ASSICURATIVI (ALL RISKS PATRIMONIO IMMOBILIARE e RESPONSABILITÀ CIVILE VERSO TERZI E DIPENDENTI)"},210000,4200,3360,840,null,null,"Coll. RUP Affidamento",{"$f":"+H499*N499","v":168},0.05]
[2021,1292,"95 DEL 15/07/2021",{"$f":"+[1]Foglio1!$F$46","v":"8833454CD5"},{"$f":"+[1]Foglio1!$E$46","v":"PROCEDURA DI GARA AVENTE AD OGGETTO L’AFFIDAMENTO DI SERVIZI ASSICURATIVI (ALL RISKS PATRIMONIO IMMOBILIARE e RESPONSABILITÀ CIVILE VERSO TERZI E DIPENDENTI)"},210000,4200,3360,840,null,null,"RUP esecuzione",{"$f":"+(H500*N500)/3","v":196},0.17499999999999999]
[2021,1292,"95 DEL 15/07/2021",{"$f":"+[1]Foglio1!$F$46","v":"8833454CD5"},{"$f":"+[1]Foglio1!$E$46","v":"PROCEDURA DI GARA AVENTE AD OGGETTO L’AFFIDAMENTO DI SERVIZI ASSICURATIVI (ALL RISKS PATRIMONIO IMMOBILIARE e RESPONSABILITÀ CIVILE VERSO TERZI E DIPENDENTI)"},210000,4200,3360,840,null,null,"Coll. RUP esecuzione",{"$f":"+(H501*N501)/3","v":33.6},0.03]
[2021,1292,"95 DEL 15/07/2021",{"$f":"+[1]Foglio1!$F$46","v":"8833454CD5"},{"$f":"+[1]Foglio1!$E$46","v":"PROCEDURA DI GARA AVENTE AD OGGETTO L’AFFIDAMENTO DI SERVIZI ASSICURATIVI (ALL RISKS PATRIMONIO IMMOBILIARE e RESPONSABILITÀ CIVILE VERSO TERZI E DIPENDENTI)"},210000,4200,3360,840,null,null,"DEC",{"$f":"+(H502*N502)/3","v":112},0.1]
[2021,1292,"95 DEL 15/07/2021",{"$f":"+[1]Foglio1!$F$46","v":"8833454CD5"},{"$f":"+[1]Foglio1!$E$46","v":"PROCEDURA DI GARA AVENTE AD OGGETTO L’AFFIDAMENTO DI SERVIZI ASSICURATIVI (ALL RISKS PATRIMONIO IMMOBILIARE e RESPONSABILITÀ CIVILE VERSO TERZI E DIPENDENTI)"},210000,4200,3360,840,null,null,"Coll. DEC",{"$f":"+(H503*N503)/3","v":11.200000000000001},0.01]
[2021,1292,"95 DEL 15/07/2021",{"$f":"+[1]Foglio1!$F$46","v":"8833454CD5"},{"$f":"+[1]Foglio1!$E$46","v":"PROCEDURA DI GARA AVENTE AD OGGETTO L’AFFIDAMENTO DI SERVIZI ASSICURATIVI (ALL RISKS PATRIMONIO IMMOBILIARE e RESPONSABILITÀ CIVILE VERSO TERZI E DIPENDENTI)"},210000,4200,3360,840,null,null,"Coll. DEC",{"$f":"+(H504*N504)/3","v":11.200000000000001},0.01]
[2021,1292,"95 DEL 15/07/2021",{"$f":"+[1]Foglio1!$F$46","v":"8833454CD5"},{"$f":"+[1]Foglio1!$E$46","v":"PROCEDURA DI GARA AVENTE AD OGGETTO L’AFFIDAMENTO DI SERVIZI ASSICURATIVI (ALL RISKS PATRIMONIO IMMOBILIARE e RESPONSABILITÀ CIVILE VERSO TERZI E DIPENDENTI)"},210000,4200,3360,840,null,null,"Inc. Ver. Conf",{"$f":"+(H505*N505)/3","v":39.200000000000003},3.5000000000000003E-2]
[2021,1292,"95 DEL 15/07/2021",{"$f":"+[1]Foglio1!$F$46","v":"8833454CD5"},{"$f":"+[1]Foglio1!$E$46","v":"PROCEDURA DI GARA AVENTE AD OGGETTO L’AFFIDAMENTO DI SERVIZI ASSICURATIVI (ALL RISKS PATRIMONIO IMMOBILIARE e RESPONSABILITÀ CIVILE VERSO TERZI E DIPENDENTI)"},210000,4200,3360,840,null,null,"Coll. Inc Ver. Conf.",{"$f":"+(H506*N506)/3","v":16.8},1.4999999999999999E-2]
[2020,1308,"183 DEL 20/10/2020",8481077624,"servizio di sanificazione straordinaria per prevenire la trasmissione di SARS-COV 2, da eseguirsi presso le tre sedi del Consiglio di Stato (SOLO ESECUZIONE)",74900,{"$f":"+F507*0.02","v":1498},{"$f":"+(G507)*0.8","v":1198.4000000000001},{"$f":"+(G507)*0.2","v":299.60000000000002},{"$f":"+H507-P507","v":515.32000000000005},{"$f":"+M507+M508+M509+M510+M513+M514+M511+M512","v":37.453333333333333},"RUP esecuzione",17.48,0.17499999999999999,null,683.08,{"$f":"+H507-O507-P507-K507","v":477.86666666666673}]
[2020,1308,"183 DEL 20/10/2020",8481077624,"servizio di sanificazione straordinaria per prevenire la trasmissione di SARS-COV 2, da eseguirsi presso le tre sedi del Consiglio di Stato (SOLO ESECUZIONE)",74900,1498,1198.4000000000001,299.60000000000002,null,null,"Coll. RUP esecuzione",1.498,1.4999999999999999E-2]
[2020,1308,"183 DEL 20/10/2020",8481077624,"servizio di sanificazione straordinaria per prevenire la trasmissione di SARS-COV 2, da eseguirsi presso le tre sedi del Consiglio di Stato (SOLO ESECUZIONE)",74900,1498,1198.4000000000001,299.60000000000002,null,null,"Coll. RUP esecuzione",1.498,1.4999999999999999E-2]
[2020,1308,"183 DEL 20/10/2020",8481077624,"servizio di sanificazione straordinaria per prevenire la trasmissione di SARS-COV 2, da eseguirsi presso le tre sedi del Consiglio di Stato (SOLO ESECUZIONE)",74900,1498,1198.4000000000001,299.60000000000002,null,null,"DEC",{"$f":"+H510*N510/12","v":9.9866666666666681},0.1]
[2020,1308,"183 DEL 20/10/2020",8481077624,"servizio di sanificazione straordinaria per prevenire la trasmissione di SARS-COV 2, da eseguirsi presso le tre sedi del Consiglio di Stato (SOLO ESECUZIONE)",74900,{"$f":"+F511*0.02","v":1498},{"$f":"+(G511)*0.8","v":1198.4000000000001},{"$f":"+(G511)*0.2","v":299.60000000000002},null,null,"Coll. DEC",{"$f":"+H511*N511/12","v":0.99866666666666681},0.01]
[2020,1308,"183 DEL 20/10/2020",8481077624,"servizio di sanificazione straordinaria per prevenire la trasmissione di SARS-COV 2, da eseguirsi presso le tre sedi del Consiglio di Stato (SOLO ESECUZIONE)",74900,1498,1198.4000000000001,299.60000000000002,null,null,"Coll. DEC",{"$f":"+H512*N512/12","v":0.99866666666666681},0.01]
[2020,1308,"183 DEL 20/10/2020",8481077624,"servizio di sanificazione straordinaria per prevenire la trasmissione di SARS-COV 2, da eseguirsi presso le tre sedi del Consiglio di Stato (SOLO ESECUZIONE)",74900,1498,1198.4000000000001,299.60000000000002,null,null,"Incaricato ver. conf.",{"$f":"+H513*N513/12","v":3.4953333333333343},3.5000000000000003E-2]
[2020,1308,"183 DEL 20/10/2020",8481077624,"servizio di sanificazione straordinaria per prevenire la trasmissione di SARS-COV 2, da eseguirsi presso le tre sedi del Consiglio di Stato (SOLO ESECUZIONE)",74900,1498,1198.4000000000001,299.60000000000002,null,null,"Coll. Inc. Ver. Conf",{"$f":"+H514*N514/12","v":1.498},1.4999999999999999E-2]
[2021,1306,"160 DEL 10/11/2021","Z6833D8171","Buoni TAXI per membri CdS",39999,{"$f":"+F515*0.02","v":799.98},{"$f":"+(G515)*0.8","v":639.98400000000004},{"$f":"+(G515)*0.2","v":159.99600000000001},{"$f":"+H515","v":639.98400000000004},{"$f":"+M515+M516+M517+M518+M519+M520","v":364.79088000000002},"Incaricato programm.",{"$f":"+H515*N515","v":19.19952},0.03,null,null,{"$f":"+H515-O515-P515-K515","v":275.19312000000002}]
[2021,1306,"160 DEL 10/11/2021","Z6833D8171","Buoni TAXI per membri CdS",39999,{"$f":"+F516*0.02","v":799.98},{"$f":"+(G516)*0.8","v":639.98400000000004},{"$f":"+(G516)*0.2","v":159.99600000000001},null,null,"Coll. Inc. prog.",{"$f":"+H516*N516","v":12.79968},0.02]
[2021,1306,"160 DEL 10/11/2021","Z6833D8171","Buoni TAXI per membri CdS",39999,799.98,639.98400000000004,159.99600000000001,null,null,"Inc. Pred. Doc. ",{"$f":"+H517*N517","v":86.397840000000016},0.13500000000000001]
[2021,1306,"160 DEL 10/11/2021","Z6833D8171","Buoni TAXI per membri CdS",39999,799.98,639.98400000000004,159.99600000000001,null,null,"Coll. Inc. Pred.",{"$f":"+H518*N518","v":19.19952},0.03]
[2021,1306,"160 DEL 10/11/2021","Z6833D8171","Buoni TAXI per membri CdS",39999,799.98,639.98400000000004,159.99600000000001,null,null,"RUP Affidamento",{"$f":"+H519*N519","v":185.59536},0.28999999999999998]
[2021,1306,"167 DEL 24/11/2021","Z2A3410964","Buoni TAXI per membri CdS",39999,799.98,639.98400000000004,159.99600000000001,null,null,"Coll. RUP Affidamento",{"$f":"+H520*N520","v":41.598960000000005},6.5000000000000002E-2]
[2020,1306,"123 del 13/7/2020","ZB02D3B4C5","Buoni TAXI per membri CdS (SOLO ESECUZIONE) ",39319.5,786.39,629.11200000000008,157.27800000000002,{"$f":"+H521-P521","v":270.52200000000011},{"$f":"+M521+M522+M525+M526+M527+M528+M523+M524","v":270.51816000000008},"RUP esecuzione",{"$f":"+H521*N521","v":113.24016000000002},0.18,null,358.59]
[2020,1306,"123 del 13/7/2020","ZB02D3B4C5","Buoni TAXI per membri CdS (SOLO ESECUZIONE) ",39319.5,786.39,629.11200000000008,157.27800000000002,null,null,"Coll. RUP esecuzione",{"$f":"+H522*N522","v":12.582240000000002},0.02]
[2020,1306,"123 del 13/7/2020","ZB02D3B4C5","Buoni TAXI per membri CdS (SOLO ESECUZIONE) ",39319.5,786.39,{"$f":"+(G523)*0.8","v":629.11200000000008},{"$f":"+(G523)*0.2","v":157.27800000000002},null,null,"Coll. RUP esecuzione",{"$f":"+H523*N523","v":12.582240000000002},0.02]
[2020,1306,"123 del 13/7/2020","ZB02D3B4C5","Buoni TAXI per membri CdS (SOLO ESECUZIONE) ",39319.5,786.39,629.11200000000008,157.27800000000002,null,null,"DEC ESTERNO",{"$f":"+H524*N524","v":72.347880000000018},0.115]
[2020,1306,"123 del 13/7/2020","ZB02D3B4C5","Buoni TAXI per membri CdS (SOLO ESECUZIONE) ",39319.5,786.39,629.11200000000008,157.27800000000002,null,null,"Coll. DEC",{"$f":"+H525*N525","v":14.155020000000002},2.2499999999999999E-2]
[2020,1306,"123 del 13/7/2020","ZB02D3B4C5","Buoni TAXI per membri CdS (SOLO ESECUZIONE) ",39319.5,786.39,629.11200000000008,157.27800000000002,null,null,"Coll. DEC",{"$f":"+H526*N526","v":14.155020000000002},2.2499999999999999E-2]
[2020,1306,"123 del 13/7/2020","ZB02D3B4C5","Buoni TAXI per membri CdS (SOLO ESECUZIONE) ",39319.5,786.39,629.11200000000008,157.27800000000002,null,null,"Incaricato ver. conf.",{"$f":"+H527*N527","v":22.018920000000005},3.5000000000000003E-2]
[2020,1306,"123 del 13/7/2020","ZB02D3B4C5","Buoni TAXI per membri CdS (SOLO ESECUZIONE) ",39319.5,786.39,629.11200000000008,157.27800000000002,null,null,"Coll. Inc. Ver. Conf",{"$f":"+H528*N528","v":9.4366800000000008},1.4999999999999999E-2]
[2019,3305,"130 del 5/6/2019","7953285A66","Manutenzione ordinaria impianti di condizionamento\n(Importo dell'affidamento liquidato nel 2019)",84400,1688,{"$f":"+(G529)*0.8","v":1350.4},{"$f":"+(G529)*0.2","v":337.6},{"$f":"+K529","v":181.32124640000001},{"$f":"+M529+M530+M531+M532+M533+M534+M535","v":181.32124640000001},"RUP esecuzione",{"$f":"+[3]infissi!$F$29","v":66.300455999999997},0.15,769.63,399.45,null,null,null,null,null,908.4]
[2019,3305,"131 del 5/6/2019","7953285A67","Manutenzione ordinaria impianti di condizionamento\n(Importo dell'affidamento liquidato nel 2019)",84400,1688,1350.4,337.6,null,null,"Coll. RUP esecuzione",{"$f":"+[3]infissi!$F$31","v":8.8400607999999998},0.02,null,null,null,null,null,null,null,908.4]
[2019,3305,"132 del 5/6/2019","7953285A68","Manutenzione ordinaria impianti di condizionamento\n(Importo dell'affidamento liquidato nel 2019)",84400,1688,1350.4,337.6,null,null,"Coll. RUP esecuzione",{"$f":"+M530","v":8.8400607999999998},0.02,null,null,null,null,null,null,null,908.4]
[2019,3305,"135 del 5/6/2019","7953285A71","Manutenzione ordinaria impianti di condizionamento\n(Importo dell'affidamento liquidato nel 2019)",84400,1688,1350.4,337.6,null,null,"Direttore Lavori",{"$f":"+[3]infissi!$F$35","v":50.830349600000005},0.115,null,null,null,null,null,null,null,908.4]
[2019,3305,"136 del 5/6/2019","7953285A72","Manutenzione ordinaria impianti di condizionamento\n(Importo dell'affidamento liquidato nel 2019)",84400,1688,1350.4,337.6,null,null,"Coll. Direttore Lavori",{"$f":"+[3]infissi!$F$37","v":15.470106400000001},3.5000000000000003E-2,null,null,null,null,null,null,null,908.4]
[2019,3305,"137 del 5/6/2019","7953285A73","Manutenzione ordinaria impianti di condizionamento\n(Importo dell'affidamento liquidato nel 2019)",84400,1688,1350.4,337.6,null,null,"Collaudatore",{"$f":"+[3]infissi!$F$39","v":30.940212800000001},7.0000000000000007E-2,null,null,null,null,null,null,null,908.4]
[2019,3305,"138 del 5/6/2019","7953285A74","Manutenzione ordinaria impianti di condizionamento\n(Importo dell'affidamento liquidato nel 2019)",84400,1688,1350.4,337.6,null,null,"Coll. Collaudatore",0.1,0.02,null,null,null,null,null,null,null,908.4]
[2020,3305,"128 del 17/7/2020","83737458F8","Manutenzione ordinaria ed adeguamento impianti incendi (SOLO ESECUZIONE)",618000,12360,9888,2472,{"$f":"+H536-P536","v":4251.84},{"$f":"+M536+M537+M538+M539+M540+M541+M542","v":1057.0175376},"RUP esecuzione",{"$f":"+'[4]MO sic'!$F$30","v":368.72704799999997},0.15,null,5636.16,{"$f":"+H536-O536-P536-K536","v":3194.8224624000004}]
[2020,3305,"128 del 17/7/2020","83737458F8","Manutenzione ordinaria ed adeguamento impianti incendi (SOLO ESECUZIONE)",618000,12360,9888,2472,null,null,"Coll. RUP esecuzione",{"$f":"+'[4]MO sic'!$F$31","v":49.163606399999999},0.02]
[2020,3305,"128 del 17/7/2020","83737458F8","Manutenzione ordinaria ed adeguamento impianti incendi (SOLO ESECUZIONE)",618000,12360,9888,2472,null,null,"Coll. RUP esecuzione",{"$f":"+'[4]MO sic'!$F$32","v":49.163606399999999},0.02]
[2020,3305,"128 del 17/7/2020","83737458F8","Manutenzione ordinaria ed adeguamento impianti incendi (SOLO ESECUZIONE)",618000,12360,9888,2472,null,null,"DL",{"$f":"+'[4]MO sic'!$F$33","v":282.69073680000002},0.115]
[2020,3305,"128 del 17/7/2020","83737458F8","Manutenzione ordinaria ed adeguamento impianti incendi (SOLO ESECUZIONE)",618000,12360,9888,2472,null,null,"COLL. DL",{"$f":"+'[4]MO sic'!$F$34","v":86.0363112},3.5000000000000003E-2]
[2020,3305,"128 del 17/7/2020","83737458F8","Manutenzione ordinaria ed adeguamento impianti incendi (SOLO ESECUZIONE)",618000,12360,9888,2472,null,null,"Collaudatore",{"$f":"+'[4]MO sic'!$F$35","v":172.0726224},7.0000000000000007E-2]
[2020,3305,"128 del 17/7/2020","83737458F8","Manutenzione ordinaria ed adeguamento impianti incendi (SOLO ESECUZIONE)",618000,12360,9888,2472,null,null,"Coll. Collaudatore",{"$f":"+'[4]MO sic'!$F$36","v":49.163606399999999},0.02]
[2020,3305,"105 del 9/6/2020",8332500486,"Lavoro di revisione bomboloni (SOLO ESECUZIONE)",149000,2980,2384,596,{"$f":"+K543","v":1025.1200000000001},{"$f":"+M543+M544+M545+M546+M547+M548+M549","v":1025.1200000000001},"RUP esecuzione",{"$f":"+H543*N543","v":357.59999999999997},0.15,null,1358.88]
[2020,3305,"106 del 9/6/2020",8332500487,"Lavoro di revisione bomboloni (SOLO ESECUZIONE)",149000,2980,2384,596,null,null,"Coll. RUP esecuzione",{"$f":"+H544*N544","v":47.68},0.02]
[2020,3305,"107 del 9/6/2020",8332500488,"Lavoro di revisione bomboloni (SOLO ESECUZIONE)",149000,2980,2384,596,null,null,{"$f":"+L544","v":"Coll. RUP esecuzione"},{"$f":"+H545*N545","v":47.68},0.02]
[2020,3305,"108 del 9/6/2020",8332500489,"Lavoro di revisione bomboloni (SOLO ESECUZIONE)",149000,2980,2384,596,null,null,"DL",{"$f":"+H546*N546","v":274.16000000000003},0.115]
[2020,3305,"109 del 9/6/2020",8332500490,"Lavoro di revisione bomboloni (SOLO ESECUZIONE)",149000,2980,2384,596,null,null,"COLL. DL.",{"$f":"+H547*N547","v":83.440000000000012},3.5000000000000003E-2]
[2020,3305,"110 del 9/6/2020",8332500491,"Lavoro di revisione bomboloni (SOLO ESECUZIONE)",149000,2980,2384,596,null,null,"Coll. ",{"$f":"+H548*N548","v":166.88000000000002},7.0000000000000007E-2]
[2020,3305,"111 del 9/6/2020",8332500492,"Lavoro di revisione bomboloni (SOLO ESECUZIONE)",149000,2980,2384,596,null,null,"Coll. Collaudatore",{"$f":"+H549*N549","v":47.68},0.02]
[2020,3305,"185 DEL 26/11/2020","8482948E21","lavori di manutenzione ordinaria degli impianti di condizionamento  (AFF. E QUOTA PARTE ESEC.)",200000,{"$f":"+F550*0.02","v":4000},{"$f":"+(G550)*0.8","v":3200},{"$f":"+(G550)*0.2","v":800},{"$f":"+H550","v":3200},{"$f":"+M550+M551+M553+M554+M555+M556+M557+M558+M559+M560+M561+M564+M565+M552+M562+M563","v":2073.3888000000002},"Incaricato programm.",{"$f":"+H550*N550","v":96},0.03,null,null,{"$f":"+H550-O550-P550-K550","v":1126.6111999999998}]
[2020,3305,"185 DEL 26/11/2020","8482948E21","lavori di manutenzione ordinaria degli impianti di condizionamento  (AFF. E QUOTA PARTE ESEC.)",200000,{"$f":"+F551*0.02","v":4000},{"$f":"+(G551)*0.8","v":3200},{"$f":"+(G551)*0.2","v":800},null,null,"Coll. Inc. prog.",{"$f":"+H551*N551","v":32},0.01]
[2020,3305,"185 DEL 26/11/2020","8482948E21","lavori di manutenzione ordinaria degli impianti di condizionamento  (AFF. E QUOTA PARTE ESEC.)",200000,4000,{"$f":"+(G552)*0.8","v":3200},{"$f":"+(G552)*0.2","v":800},null,null,"Coll. Inc. prog.",{"$f":"+H552*N552","v":32},0.01]
[2020,3305,"185 DEL 26/11/2020","8482948E21","lavori di manutenzione ordinaria degli impianti di condizionamento  (AFF. E QUOTA PARTE ESEC.)",200000,4000,3200,800,null,null,"Inc. Pred. Doc. ",{"$f":"+H553*N553","v":320},0.1]
[2020,3305,"185 DEL 26/11/2020","8482948E21","lavori di manutenzione ordinaria degli impianti di condizionamento  (AFF. E QUOTA PARTE ESEC.)",200000,4000,3200,800,null,null,"Coll. Inc. Pred.",{"$f":"+H554*N554","v":96},0.03]
[2020,3305,"185 DEL 26/11/2020","8482948E21","lavori di manutenzione ordinaria degli impianti di condizionamento  (AFF. E QUOTA PARTE ESEC.)",200000,4000,3200,800,null,null,"Verificatore Prog.",{"$f":"+H555*N555","v":208},6.5000000000000002E-2]
[2020,3305,"185 DEL 26/11/2020","8482948E21","lavori di manutenzione ordinaria degli impianti di condizionamento  (AFF. E QUOTA PARTE ESEC.)",200000,4000,3200,800,null,null,"Coll. Ver. Prog.",{"$f":"+H556*N556","v":48},1.4999999999999999E-2]
[2020,3305,"185 DEL 26/11/2020","8482948E21","lavori di manutenzione ordinaria degli impianti di condizionamento  (AFF. E QUOTA PARTE ESEC.)",200000,4000,3200,800,null,null,"RUP Affidamento",{"$f":"+H557*N557","v":864},0.27]
[2020,3305,"185 DEL 26/11/2020","8482948E21","lavori di manutenzione ordinaria degli impianti di condizionamento  (AFF. E QUOTA PARTE ESEC.)",200000,4000,3200,800,null,null,"Coll. RUP Affidamento",{"$f":"+H558*N558","v":128},0.04]
[2020,3305,"185 DEL 26/11/2020","8482948E21","lavori di manutenzione ordinaria degli impianti di condizionamento  (AFF. E QUOTA PARTE ESEC.)",200000,4000,3200,800,null,null,"RUP esecuzione",{"$f":"+[5]infissi!$F$47","v":86.994},{"$f":"+[5]infissi!$E$47","v":0.15}]
[2020,3305,"185 DEL 26/11/2020","8482948E21","lavori di manutenzione ordinaria degli impianti di condizionamento  (AFF. E QUOTA PARTE ESEC.)",200000,4000,3200,800,null,null,"Coll. RUP esecuzione",{"$f":"+[5]infissi!$F$49","v":11.599200000000002},{"$f":"+[5]infissi!$E$49","v":0.02}]
[2020,3305,"185 DEL 26/11/2020","8482948E21","lavori di manutenzione ordinaria degli impianti di condizionamento  (AFF. E QUOTA PARTE ESEC.)",200000,4000,3200,800,null,null,"Coll. RUP esecuzione",{"$f":"+M560","v":11.599200000000002},{"$f":"+N560","v":0.02}]
[2020,3305,"185 DEL 26/11/2020","8482948E21","lavori di manutenzione ordinaria degli impianti di condizionamento  (AFF. E QUOTA PARTE ESEC.)",200000,4000,{"$f":"+(G562)*0.8","v":3200},{"$f":"+(G562)*0.2","v":800},null,null,"DL",66.7,0.115]
[2020,3305,"185 DEL 26/11/2020","8482948E21","lavori di manutenzione ordinaria degli impianti di condizionamento  (AFF. E QUOTA PARTE ESEC.)",200000,4000,3200,800,null,null,"COLLAB. DL",20.3,3.5000000000000003E-2]
[2020,3305,"185 DEL 26/11/2020","8482948E21","lavori di manutenzione ordinaria degli impianti di condizionamento  (AFF. E QUOTA PARTE ESEC.)",200000,4000,3200,800,null,null,"COLLADAUTORE",{"$f":"+[5]infissi!$F$57","v":40.597200000000008},7.0000000000000007E-2]
[2020,3305,"185 DEL 26/11/2020","8482948E21","lavori di manutenzione ordinaria degli impianti di condizionamento  (AFF. E QUOTA PARTE ESEC.)",200000,4000,3200,800,null,null,"COLLAB. COLLAUD.",{"$f":"+[5]infissi!$F$59","v":11.599200000000002},{"$f":"+[5]infissi!$E$59","v":0.02}]
[2019,4254,"214 del 2/12/2019 ","8124159C15","Manutenzione straordinaria infissi",911700,18234,14587.2,3646.8,{"$f":"+H566-P566","v":4390.75},{"$f":"+M566+M567+M568+M569+M570+M571+M572+M573+M574","v":2765.1648111999998},"RUP esecuzione",{"$f":"+[6]infissi!$F$45","v":964.59237600000006},0.15,null,10196.450000000001,{"$f":"+H566-O566-P566-K566","v":1625.5851888000002}]
[2019,4254,"214 del 2/12/2019 ","8124159C15","Manutenzione straordinaria infissi",911700,18234,14587.2,3646.8,null,null,"Coll. RUP esecuzione",{"$f":"+[6]infissi!$F$47","v":128.6123168},0.02]
[2019,4254,"214 del 2/12/2019 ","8124159C15","Manutenzione straordinaria infissi",911700,18234,{"$f":"+(G568)*0.8","v":14587.2},{"$f":"+(G568)*0.2","v":3646.8},null,null,"Coll. RUP esecuzione",{"$f":"+M567","v":128.6123168},0.02]
[2019,4254,"214 del 2/12/2019 ","8124159C15","Manutenzione straordinaria infissi",911700,18234,14587.2,3646.8,null,null,"Coll. RUP esecuzione",{"$f":"+V569*N569","v":0},0.01]
[2019,4254,"214 del 2/12/2019 ","8124159C15","Manutenzione straordinaria infissi",911700,18234,14587.2,3646.8,null,null,"Coll. RUP esecuzione",0,0.01]
[2019,4254,"214 del 2/12/2019 ","8124159C15","Manutenzione straordinaria infissi",911700,18234,14587.2,3646.8,null,null,"Direttore Lavori",{"$f":"+[6]infissi!$F$51","v":739.52082160000009},0.115]
[2019,4254,"214 del 2/12/2019 ","8124159C15","Manutenzione straordinaria infissi",911700,18234,14587.2,3646.8,null,null,"Coll. Direttore Lavori",{"$f":"+[6]infissi!$F$53","v":225.07155440000002},3.5000000000000003E-2]
[2019,4254,"214 del 2/12/2019 ","8124159C15","Manutenzione straordinaria infissi",911700,18234,14587.2,3646.8,null,null,"Collaudatore",{"$f":"+[6]infissi!$F$55","v":450.14310880000005},7.0000000000000007E-2]
[2019,4254,"214 del 2/12/2019 ","8124159C15","Manutenzione straordinaria infissi",911700,18234,14587.2,3646.8,null,null,"Coll. Collaudatore",{"$f":"+[6]infissi!$F$57","v":128.6123168},0.02,null,null,null,null,null,null,null,4376.16]
[2019,1305,"217 del 5/12/2019",8128631680,"Manutenzione edile (FASE ESECUTIVA)",661764.75,13235.3,{"$f":"+(G575)*0.8","v":10588.24},{"$f":"+(G575)*0.2","v":2647.06},{"$f":"+H575-P575","v":4552.95},{"$f":"+M575+M576+M577+M578+M579+M580+M581","v":2328.0800000000004},"RUP ESECUZIONE",812.12,0.15,null,6035.29,{"$f":"+H575-O575-P575-K575","v":2224.8699999999994}]
[2019,1305,"217 del 5/12/2019",8128631680,"Manutenzione edile (FASE ESECUTIVA)",661764.75,13235.3,10588.24,2647.06,null,null,"Coll. RUP ESEC",108.28,0.02]
[2019,1305,"217 del 5/12/2019",8128631680,"Manutenzione edile (FASE ESECUTIVA)",661764.75,13235.3,10588.24,2647.06,null,null,"Coll. RUP ESEC",108.28,0.02]
[2019,1305,"217 del 5/12/2019",8128631680,"Manutenzione edile (FASE ESECUTIVA)",661764.75,13235.3,10588.24,2647.06,null,null,"DL",622.63,0.115]
[2019,1305,"217 del 5/12/2019",8128631680,"Manutenzione edile (FASE ESECUTIVA)",661764.75,13235.3,10588.24,2647.06,null,null,"Coll. DL",189.5,3.5000000000000003E-2]
[2019,1305,"217 del 5/12/2019",8128631680,"Manutenzione edile (FASE ESECUTIVA)",661764.75,13235.3,10588.24,2647.06,null,null,"Collaudatore",378.99,7.0000000000000007E-2]
[2019,1305,"217 del 5/12/2019",8128631680,"Manutenzione edile (FASE ESECUTIVA)",661764.75,13235.3,10588.24,2647.06,null,null,"Coll. Collaudatore",108.28,0.02]
[2021,1305,"10 DEL 27/01/2021"," 8609029B77","MANUTENZIONE FARNESINA (FASE AFFIDAMENTO E QUOTA PARTE ESECUZIONE +  VARIANTE - DETER. VAR. 105/2021)",413259,{"$f":"+F582*0.02","v":8265.18},{"$f":"+G582*0.8","v":6612.1440000000002},{"$f":"+G582-H582","v":1653.0360000000001},{"$f":"+H582","v":6612.1440000000002},{"$f":"+M582+M583+M587+M588+M589+M590+M591+M592+M593+M594+M595+M596+M597+M584+M585+M586","v":5735.112079999999},"Incaricato programm.",{"$f":"+H582*N582","v":198.36431999999999},0.03,null,null,{"$f":"+H582-O582-P582-K582","v":877.03192000000126}]
[2021,1305,"10 DEL 27/01/2021"," 8609029B77","MANUTENZIONE FARNESINA (FASE AFFIDAMENTO E QUOTA PARTE ESECUZIONE +  VARIANTE - DETER. VAR. 105/2021)",413259,{"$f":"+F583*0.02","v":8265.18},{"$f":"+G583*0.8","v":6612.1440000000002},{"$f":"+G583-H583","v":1653.0360000000001},null,null,"Coll. Inc. prog.",{"$f":"+H583*N583","v":66.121440000000007},0.01]
[2021,1305,"10 DEL 27/01/2021"," 8609029B77","MANUTENZIONE FARNESINA (FASE AFFIDAMENTO E QUOTA PARTE ESECUZIONE +  VARIANTE - DETER. VAR. 105/2021)",413259,8265.18,6612.1440000000002,1653.0360000000001,null,null,"Coll. Inc. prog.",{"$f":"+H584*N584","v":66.121440000000007},0.01]
[2021,1305,"10 DEL 27/01/2021"," 8609029B77","MANUTENZIONE FARNESINA (FASE AFFIDAMENTO E QUOTA PARTE ESECUZIONE +  VARIANTE - DETER. VAR. 105/2021)",413259,8265.18,6612.1440000000002,1653.0360000000001,null,null,"Inc. ver. prog.",{"$f":"+H585*N585","v":429.78936000000004},6.5000000000000002E-2]
[2021,1305,"10 DEL 27/01/2021"," 8609029B77","MANUTENZIONE FARNESINA (FASE AFFIDAMENTO E QUOTA PARTE ESECUZIONE +  VARIANTE - DETER. VAR. 105/2021)",413259,8265.18,6612.1440000000002,1653.0360000000001,null,null,"coll. Inc. ver. prog.",{"$f":"+H586*N586","v":99.182159999999996},1.4999999999999999E-2]
[2021,1305,"10 DEL 27/01/2021"," 8609029B77","MANUTENZIONE FARNESINA (FASE AFFIDAMENTO E QUOTA PARTE ESECUZIONE +  VARIANTE - DETER. VAR. 105/2021)",413259,8265.18,6612.1440000000002,1653.0360000000001,null,null,"Inc. Pred. Doc. ",{"$f":"+H587*N587","v":661.21440000000007},0.1]
[2021,1305,"10 DEL 27/01/2021"," 8609029B77","MANUTENZIONE FARNESINA (FASE AFFIDAMENTO E QUOTA PARTE ESECUZIONE +  VARIANTE - DETER. VAR. 105/2021)",413259,8265.18,6612.1440000000002,1653.0360000000001,null,null,"Coll. Inc. Pred.",{"$f":"+H588*N588","v":198.36431999999999},0.03]
[2021,1305,"10 DEL 27/01/2021"," 8609029B77","MANUTENZIONE FARNESINA (FASE AFFIDAMENTO E QUOTA PARTE ESECUZIONE +  VARIANTE - DETER. VAR. 105/2021)",413259,8265.18,6612.1440000000002,1653.0360000000001,null,null,"RUP Affidamento",{"$f":"+H589*N589","v":1785.2788800000001},0.27]
[2021,1305,"10 DEL 27/01/2021"," 8609029B77","MANUTENZIONE FARNESINA (FASE AFFIDAMENTO E QUOTA PARTE ESECUZIONE +  VARIANTE - DETER. VAR. 105/2021)",413259,8265.18,6612.1440000000002,1653.0360000000001,null,null,"Coll. RUP Affidamento",{"$f":"+H590*N590","v":264.48576000000003},0.04]
[2021,1305,"10 DEL 27/01/2021"," 8609029B77","MANUTENZIONE FARNESINA (FASE AFFIDAMENTO E QUOTA PARTE ESECUZIONE +  VARIANTE - DETER. VAR. 105/2021)",413259,8265.18,6612.1440000000002,1653.0360000000001,null,null,"RUP esecuzione",685.88,0.15]
[2021,1305,"10 DEL 27/01/2021"," 8609029B77","MANUTENZIONE FARNESINA (FASE AFFIDAMENTO E QUOTA PARTE ESECUZIONE +  VARIANTE - DETER. VAR. 105/2021)",413259,8265.18,6612.1440000000002,1653.0360000000001,null,null,"Coll. RUP esecuzione",91.45,0.02]
[2021,1305,"10 DEL 27/01/2021"," 8609029B77","MANUTENZIONE FARNESINA (FASE AFFIDAMENTO E QUOTA PARTE ESECUZIONE +  VARIANTE - DETER. VAR. 105/2021)",413259,8265.18,6612.1440000000002,1653.0360000000001,null,null,"Coll. RUP esecuzione",91.45,0.02]
[2021,1305,"10 DEL 27/01/2021"," 8609029B77","MANUTENZIONE FARNESINA (FASE AFFIDAMENTO E QUOTA PARTE ESECUZIONE +  VARIANTE - DETER. VAR. 105/2021)",413259,8265.18,6612.1440000000002,1653.0360000000001,null,null,"DL.",525.84,0.115]
[2021,1305,"10 DEL 27/01/2021"," 8609029B77","MANUTENZIONE FARNESINA (FASE AFFIDAMENTO E QUOTA PARTE ESECUZIONE +  VARIANTE - DETER. VAR. 105/2021)",413259,8265.18,6612.1440000000002,1653.0360000000001,null,null,"coll. DL",160.04,3.5000000000000003E-2]
[2021,1305,"10 DEL 27/01/2021"," 8609029B77","MANUTENZIONE FARNESINA (FASE AFFIDAMENTO E QUOTA PARTE ESECUZIONE +  VARIANTE - DETER. VAR. 105/2021)",413259,8265.18,6612.1440000000002,1653.0360000000001,null,null,"Collaudatore",320.08,7.0000000000000007E-2]
[2021,1305,"10 DEL 27/01/2021"," 8609029B77","MANUTENZIONE FARNESINA (FASE AFFIDAMENTO E QUOTA PARTE ESECUZIONE +  VARIANTE - DETER. VAR. 105/2021)",413259,8265.18,6612.1440000000002,1653.0360000000001,null,null,"Coll. Collaudatore",91.45,0.02]
[2021,1305,"81 DEL 14/06/2021",8792072755,"IMPIANTI TELEFONICI  (fase affidamento e quota parte esecuzione)",177050,{"$f":"+F598*0.02","v":3541},{"$f":"+G598*0.8","v":2832.8},{"$f":"+G598-H598","v":708.19999999999982},{"$f":"+H598","v":2832.8},{"$f":"+M598+M599+M601+M602+M603+M604+M605+M606+M607+M608+M609+M610+M611+M612+M600","v":1817.7019584000002},"Incaricato programm.",{"$f":"+H598*N598","v":84.984000000000009},0.03,null,null,{"$f":"+H598-O598-P598-K598","v":1015.0980416}]
[2021,1305,"81 DEL 14/06/2021",8792072755,"IMPIANTI TELEFONICI  (fase affidamento e quota parte esecuzione)",177050,{"$f":"+F599*0.02","v":3541},{"$f":"+G599*0.8","v":2832.8},{"$f":"+G599-H599","v":708.19999999999982},null,null,"Coll. Inc. prog.",{"$f":"+H599*N599","v":28.328000000000003},0.01]
[2021,1305,"81 DEL 14/06/2021",8792072755,"IMPIANTI TELEFONICI  (fase affidamento e quota parte esecuzione)",177050,3541,2832.8,{"$f":"+G600-H600","v":708.19999999999982},null,null,"Coll. Inc. prog.",{"$f":"+H600*N600","v":28.328000000000003},0.01]
[2021,1305,"81 DEL 14/06/2021",8792072755,"IMPIANTI TELEFONICI  (fase affidamento e quota parte esecuzione)",177050,3541,2832.8,708.19999999999982,null,null,"Inc. Pred. Doc. ",{"$f":"+H601*N601","v":382.42800000000005},0.13500000000000001]
[2021,1305,"81 DEL 14/06/2021",8792072755,"IMPIANTI TELEFONICI  (fase affidamento e quota parte esecuzione)",177050,3541,2832.8,708.19999999999982,null,null,"Coll. Inc. Pred.",{"$f":"+H602*N602","v":84.984000000000009},0.03]
[2021,1305,"81 DEL 14/06/2021",8792072755,"IMPIANTI TELEFONICI  (fase affidamento e quota parte esecuzione)",177050,3541,2832.8,708.19999999999982,null,null,"RUP Affidamento",{"$f":"+H603*N603","v":821.51199999999994},0.28999999999999998]
[2021,1305,"81 DEL 14/06/2021",8792072755,"IMPIANTI TELEFONICI  (fase affidamento e quota parte esecuzione)",177050,3541,2832.8,708.19999999999982,null,null,"Coll. RUP Affidamento",{"$f":"+H604*N604","v":184.13200000000001},6.5000000000000002E-2]
[2021,1305,"81 DEL 14/06/2021",8792072755,"IMPIANTI TELEFONICI  (fase affidamento e quota parte esecuzione)",177050,3541,2832.8,708.19999999999982,null,null,"RUP esecuzione",84.98,0.18]
[2021,1305,"81 DEL 14/06/2021",8792072755,"IMPIANTI TELEFONICI  (fase affidamento e quota parte esecuzione)",177050,3541,2832.8,708.19999999999982,null,null,"Coll. RUP esecuzione",9.44,0.02]
[2021,1305,"81 DEL 14/06/2021",8792072755,"IMPIANTI TELEFONICI  (fase affidamento e quota parte esecuzione)",177050,3541,2832.8,708.19999999999982,null,null,"Coll. RUP esecuzione",9.44,0.02]
[2021,1305,"81 DEL 14/06/2021",8792072755,"IMPIANTI TELEFONICI  (fase affidamento e quota parte esecuzione)",177050,3541,2832.8,708.19999999999982,null,null,"dec",{"$f":"+[7]All.2!$F$60","v":54.295308800000001},0.115]
[2021,1305,"81 DEL 14/06/2021",8792072755,"IMPIANTI TELEFONICI  (fase affidamento e quota parte esecuzione)",177050,3541,2832.8,708.19999999999982,null,null,"coll. Dec",{"$f":"+[7]All.2!$F$68","v":10.622995199999998},2.2499999999999999E-2]
[2021,1305,"81 DEL 14/06/2021",8792072755,"IMPIANTI TELEFONICI  (fase affidamento e quota parte esecuzione)",177050,3541,2832.8,708.19999999999982,null,null,"coll DEC",{"$f":"+M609","v":10.622995199999998},2.2499999999999999E-2]
[2021,1305,"81 DEL 14/06/2021",8792072755,"IMPIANTI TELEFONICI  (fase affidamento e quota parte esecuzione)",177050,3541,2832.8,708.19999999999982,null,null,"Inc. verifica conformità",{"$f":"+[7]All.2!$F$71","v":16.524659199999999},3.5000000000000003E-2]
[2021,1305,"81 DEL 14/06/2021",8792072755,"IMPIANTI TELEFONICI  (fase affidamento e quota parte esecuzione)",177050,3541,2832.8,708.19999999999982,null,null,"Coll. Inc. Ver. Conf",7.08,1.4999999999999999E-2]
[2019,1305,"195 del 12/11/2019","Z4F2A23A6C","Servizio di manutenzione degli impianti elevatori di Palazzo Spada e Palazzo Ossoli - (Importo dell'affidamento liquidato nel 2019)",19365,{"$f":"+F613*0.02","v":387.3},{"$f":"+(G613)*0.8","v":309.84000000000003},{"$f":"+(G613)*0.2","v":77.460000000000008},{"$f":"+H613-O613-P613","v":88.820000000000022},{"$f":"+M613+M614+M615+M616+M617+M618+M619+M620","v":44.4},"RUP esecuzione",18.59,0.18,176.61,44.41,{"$f":"+H613-O613-P613-K613","v":44.420000000000023}]
[2019,1305,"195 del 12/11/2019","Z4F2A23A6C","Servizio di manutenzione degli impianti elevatori di Palazzo Spada e Palazzo Ossoli - (Importo dell'affidamento liquidato nel 2019)",19365,387.3,309.84000000000003,77.460000000000008,null,null,"Coll. RUP esecuzione",2.06,0.02]
[2019,1305,"195 del 12/11/2019","Z4F2A23A6C","Servizio di manutenzione degli impianti elevatori di Palazzo Spada e Palazzo Ossoli - (Importo dell'affidamento liquidato nel 2019)",19365,387.3,309.84000000000003,77.460000000000008,null,null,"Coll. RUP esecuzione",2.06,0.02]
[2019,1305,"195 del 12/11/2019","Z4F2A23A6C","Servizio di manutenzione degli impianti elevatori di Palazzo Spada e Palazzo Ossoli - (Importo dell'affidamento liquidato nel 2019)",19365,387.3,309.84000000000003,77.460000000000008,null,null,"DEC ESTERNO",{"$f":"2.38*5","v":11.899999999999999},0.115]
[2019,1305,"195 del 12/11/2019","Z4F2A23A6C","Servizio di manutenzione degli impianti elevatori di Palazzo Spada e Palazzo Ossoli - (Importo dell'affidamento liquidato nel 2019)",19365,387.3,309.84000000000003,77.460000000000008,null,null,"Coll. DEC",2.3199999999999998,2.2499999999999999E-2]
[2019,1305,"195 del 12/11/2019","Z4F2A23A6C","Servizio di manutenzione degli impianti elevatori di Palazzo Spada e Palazzo Ossoli - (Importo dell'affidamento liquidato nel 2019)",19365,387.3,309.84000000000003,77.460000000000008,null,null,"Coll. DEC",2.3199999999999998,2.2499999999999999E-2]
[2019,1305,"195 del 12/11/2019","Z4F2A23A6C","Servizio di manutenzione degli impianti elevatori di Palazzo Spada e Palazzo Ossoli - (Importo dell'affidamento liquidato nel 2019)",19365,{"$f":"+F619*0.02","v":387.3},309.84000000000003,77.460000000000008,null,null,"Inc. Ver. Conf",3.6,3.5000000000000003E-2]
[2019,1305,"195 del 12/11/2019","Z4F2A23A6C","Servizio di manutenzione degli impianti elevatori di Palazzo Spada e Palazzo Ossoli - (Importo dell'affidamento liquidato nel 2019)",19365,{"$f":"+F620*0.02","v":387.3},309.84000000000003,77.460000000000008,null,null,"Coll. Inc Ver. Conf.",1.55,1.4999999999999999E-2]
[2021,1305,"34 DEL 10/03/2021","ZD530EC0D3","affidamento degli interventi di adeguamento ed ammodernamento dell’impianto ascensore installato presso Galleria Spada",11000,{"$f":"+F621*0.02","v":220},176,44,{"$f":"+K621","v":176.00000000000003},{"$f":"+M621+M622+M626+M627+M624+M625+M623+M628+M629+M630+M631+M632+M633+M634+M635","v":176.00000000000003},"Incaricato programm.",{"$f":"+H621*N621","v":5.2799999999999994},0.03]
[2021,1305,"34 DEL 10/03/2021","ZD530EC0D3","affidamento degli interventi di adeguamento ed ammodernamento dell’impianto ascensore installato presso Galleria Spada",11000,{"$f":"+F622*0.02","v":220},{"$f":"+(G622)*0.8","v":176},{"$f":"+(G622)*0.2","v":44},null,null,"Coll. Inc. prog.",{"$f":"+H622*N622","v":1.76},0.01]
[2021,1305,"34 DEL 10/03/2021","ZD530EC0D3","affidamento degli interventi di adeguamento ed ammodernamento dell’impianto ascensore installato presso Galleria Spada",11000,220,{"$f":"+(G623)*0.8","v":176},{"$f":"+(G623)*0.2","v":44},null,null,"Coll. Inc. prog.",{"$f":"+H623*N623","v":1.76},0.01]
[2021,1305,"34 DEL 10/03/2021","ZD530EC0D3","affidamento degli interventi di adeguamento ed ammodernamento dell’impianto ascensore installato presso Galleria Spada",11000,220,176,44,null,null,"Inc. Pred. Doc. ",{"$f":"+H624*N624","v":23.76},0.13500000000000001]
[2021,1305,"34 DEL 10/03/2021","ZD530EC0D3","affidamento degli interventi di adeguamento ed ammodernamento dell’impianto ascensore installato presso Galleria Spada",11000,220,176,44,null,null,"Coll. Inc. Pred.",{"$f":"+H625*N625","v":5.2799999999999994},0.03]
[2021,1305,"34 DEL 10/03/2021","ZD530EC0D3","affidamento degli interventi di adeguamento ed ammodernamento dell’impianto ascensore installato presso Galleria Spada",11000,220,176,44,null,null,"RUP Affidamento",{"$f":"+H626*N626","v":51.04},0.28999999999999998]
[2021,1305,"34 DEL 10/03/2021","ZD530EC0D3","affidamento degli interventi di adeguamento ed ammodernamento dell’impianto ascensore installato presso Galleria Spada",11000,220,176,44,null,null,"Coll. RUP Affidamento",{"$f":"+H627*N627","v":11.440000000000001},6.5000000000000002E-2]
[2021,1305,"34 DEL 10/03/2021","ZD530EC0D3","affidamento degli interventi di adeguamento ed ammodernamento dell’impianto ascensore installato presso Galleria Spada",11000,220,176,44,null,null,"RUP esecuzione",{"$f":"+H628*N628","v":31.68},0.18]
[2021,1305,"34 DEL 10/03/2021","ZD530EC0D3","affidamento degli interventi di adeguamento ed ammodernamento dell’impianto ascensore installato presso Galleria Spada",11000,220,176,44,null,null,"Coll. RUP esecuzione",{"$f":"+H629*N629","v":3.52},0.02]
[2021,1305,"34 DEL 10/03/2021","ZD530EC0D3","affidamento degli interventi di adeguamento ed ammodernamento dell’impianto ascensore installato presso Galleria Spada",11000,220,176,44,null,null,"Coll. RUP esecuzione",{"$f":"+H630*N630","v":3.52},0.02]
[2021,1305,"34 DEL 10/03/2021","ZD530EC0D3","affidamento degli interventi di adeguamento ed ammodernamento dell’impianto ascensore installato presso Galleria Spada",11000,220,176,44,null,null,"DEC",{"$f":"+H631*N631","v":20.240000000000002},0.115]
[2021,1305,"34 DEL 10/03/2021","ZD530EC0D3","affidamento degli interventi di adeguamento ed ammodernamento dell’impianto ascensore installato presso Galleria Spada",11000,220,176,44,null,null,"Coll. DEC",{"$f":"+H632*N632","v":3.96},2.2499999999999999E-2]
[2021,1305,"34 DEL 10/03/2021","ZD530EC0D3","affidamento degli interventi di adeguamento ed ammodernamento dell’impianto ascensore installato presso Galleria Spada",11000,220,176,44,null,null,"Coll. DEC",{"$f":"+H633*N633","v":3.96},2.2499999999999999E-2]
[2021,1305,"34 DEL 10/03/2021","ZD530EC0D3","affidamento degli interventi di adeguamento ed ammodernamento dell’impianto ascensore installato presso Galleria Spada",11000,220,176,44,null,null,"Inc. Ver. Conf",{"$f":"+H634*N634","v":6.16},3.5000000000000003E-2]
[2021,1305,"34 DEL 10/03/2021","ZD530EC0D3","affidamento degli interventi di adeguamento ed ammodernamento dell’impianto ascensore installato presso Galleria Spada",11000,220,176,44,null,null,"Coll. Inc Ver. Conf.",{"$f":"+H635*N635","v":2.6399999999999997},1.4999999999999999E-2]
[2020,1305,"14 del 27/1/2020","8182964B81","Adeguamento Rete VOIP ( SOLO ESECUZIONE)",30047.48,{"$f":"+F636*0.02","v":600.94960000000003},480.75968000000006,120.18992000000001,{"$f":"+H636-P636","v":47.469680000000039},{"$f":"+M636+M637+M638+M639+M640+M641+M642+M643","v":47.472000000000001},"RUP esecuzione",{"$f":"+[8]All.2!$F$51","v":19.872},0.18,null,433.29]
[2020,1305,"14 del 27/1/2020","8182964B81","Adeguamento Rete VOIP ( SOLO ESECUZIONE)",30047.48,600.94960000000003,480.75968000000006,120.18992000000001,null,null,"Coll. RUP esecuzione",{"$f":"+[8]All.2!$F$55","v":2.2080000000000002},0.01]
[2020,1305,"14 del 27/1/2020","8182964B81","Adeguamento Rete VOIP ( SOLO ESECUZIONE)",30047.48,600.94960000000003,480.75968000000006,120.18992000000001,null,null,"Coll. RUP esecuzione",{"$f":"+M637","v":2.2080000000000002},0.01]
[2020,1305,"14 del 27/1/2020","8182964B81","Adeguamento Rete VOIP ( SOLO ESECUZIONE)",30047.48,600.94960000000003,480.75968000000006,120.18992000000001,null,null,"DEC ESTERNO",{"$f":"+[8]All.2!$F$58","v":12.696000000000002},0.115]
[2020,1305,"14 del 27/1/2020","8182964B81","Adeguamento Rete VOIP ( SOLO ESECUZIONE)",30047.48,600.94960000000003,480.75968000000006,120.18992000000001,null,null,"Coll. DEC",{"$f":"+[8]All.2!$F$64","v":2.484},2.2499999999999999E-2]
[2020,1305,"14 del 27/1/2020","8182964B81","Adeguamento Rete VOIP ( SOLO ESECUZIONE)",30047.48,600.94960000000003,480.75968000000006,120.18992000000001,null,null,"Coll. DEC",{"$f":"+M640","v":2.484},2.2499999999999999E-2]
[2020,1305,"14 del 27/1/2020","8182964B81","Adeguamento Rete VOIP ( SOLO ESECUZIONE)",30047.48,600.94960000000003,480.75968000000006,120.18992000000001,null,null,"Inc. Ver. Conf",{"$f":"+[8]All.2!$F$72","v":3.8640000000000008},3.5000000000000003E-2]
[2020,1305,"14 del 27/1/2020","8182964B81","Adeguamento Rete VOIP ( SOLO ESECUZIONE)",30047.48,600.94960000000003,480.75968000000006,120.18992000000001,null,null,"Coll. Inc Ver. Conf.",{"$f":"+[8]All.2!$F$76","v":1.6559999999999999},1.4999999999999999E-2]
[2020,1305,"140 del 20/8/2020",8407650444,"Manutenzione ordinaria aree a verde  (SOLO ESECUZIONE)",149000,2980,{"$f":"+(G644)*0.8","v":2384},{"$f":"+(G644)*0.2","v":596},{"$f":"+H644-P644","v":1025.1199999999999},{"$f":"+M644+M650+M651+M652+M653+M645+M646+M647+M648+M649","v":341.62719999999996},"RUP esecuzione",{"$f":"+(H644*N644)/3","v":143.04},0.18,null,1358.88,{"$f":"+H644-O644-P644-K644","v":683.49279999999999}]
[2020,1305,"140 del 20/8/2020",8407650444,"Manutenzione ordinaria aree a verde  (SOLO ESECUZIONE)",149000,2980,{"$f":"+(G645)*0.8","v":2384},{"$f":"+(G645)*0.2","v":596},null,null,"Coll. RUP esecuzione",{"$f":"+(H645*N645)/3","v":10.569066666666666},1.3299999999999999E-2]
[2020,1305,"140 del 20/8/2020",8407650444,"Manutenzione ordinaria aree a verde  (SOLO ESECUZIONE)",149000,2980,2384,596,null,null,"Coll. RUP esecuzione",{"$f":"+(H646*N646)/3","v":10.569066666666666},1.3299999999999999E-2]
[2020,1305,"140 del 20/8/2020",8407650444,"Manutenzione ordinaria aree a verde  (SOLO ESECUZIONE)",149000,2980,2384,596,null,null,"Coll. RUP esecuzione",{"$f":"+(H647*N647)/3","v":10.569066666666666},1.3299999999999999E-2]
[2020,1305,"140 del 20/8/2020",8407650444,"Manutenzione ordinaria aree a verde  (SOLO ESECUZIONE)",149000,2980,2384,596,null,null,"DEC",{"$f":"+(H648*N648)/3","v":91.38666666666667},0.115]
[2020,1305,"140 del 20/8/2020",8407650444,"Manutenzione ordinaria aree a verde  (SOLO ESECUZIONE)",149000,2980,2384,596,null,null,"Coll. DEC",{"$f":"+(H649*N649)/3","v":11.92},1.4999999999999999E-2]
[2020,1305,"140 del 20/8/2020",8407650444,"Manutenzione ordinaria aree a verde  (SOLO ESECUZIONE)",149000,2980,2384,596,null,null,"Coll. DEC",{"$f":"+(H650*N650)/3","v":11.92},1.4999999999999999E-2]
[2020,1305,"140 del 20/8/2020",8407650444,"Manutenzione ordinaria aree a verde  (SOLO ESECUZIONE)",149000,2980,{"$f":"+(G651)*0.8","v":2384},596,null,null,"Coll. DEC",{"$f":"+(H651*N651)/3","v":11.92},1.4999999999999999E-2]
[2020,1305,"140 del 20/8/2020",8407650444,"Manutenzione ordinaria aree a verde  (SOLO ESECUZIONE)",149000,2980,{"$f":"+(G652)*0.8","v":2384},596,null,null,"INC. VER. CONFORMITA'",{"$f":"+(H652*N652)/3","v":27.813333333333336},3.5000000000000003E-2]
[2020,1305,"140 del 20/8/2020",8407650444,"Manutenzione ordinaria aree a verde  (SOLO ESECUZIONE)",149000,2980,{"$f":"+(G653)*0.8","v":2384},596,null,null,"Coll. Inc. Ver. Conf",{"$f":"+(H653*N653)/3","v":11.92},1.4999999999999999E-2]
[2020,1305,"124 del 14/7/2020","83705994D0","Manutenzione impianti elettrici (SOLO ESECUZIONE)",685750,13713,10970.400000000001,2742.6000000000004,{"$f":"+H654-P654","v":6033.7200000000012},{"$f":"+M654+M655+M656+M657+M658+M659+M660","v":1349.3600000000001},"RUP esecuzione",470.71,0.15,null,4936.68,{"$f":"+H654-O654-P654-K654","v":4684.3600000000006}]
[2020,1305,"124 del 14/7/2020","83705994D0","Manutenzione impianti elettrici (SOLO ESECUZIONE)",685750,13713,10970.400000000001,2742.6000000000004,null,null,"Coll. RUP esecuzione",62.76,0.02]
[2020,1305,"124 del 14/7/2020","83705994D0","Manutenzione impianti elettrici (SOLO ESECUZIONE)",685750,13713,10970.400000000001,2742.6000000000004,null,null,"Coll. RUP esecuzione",62.76,0.02]
[2020,1305,"124 del 14/7/2020","83705994D0","Manutenzione impianti elettrici (SOLO ESECUZIONE)",685750,13713,10970.400000000001,2742.6000000000004,null,null,"Direttore Lavori",360.88,0.115]
[2020,1305,"124 del 14/7/2020","83705994D0","Manutenzione impianti elettrici (SOLO ESECUZIONE)",685750,13713,10970.400000000001,2742.6000000000004,null,null,"Coll. D.l.",109.83,3.5000000000000003E-2]
[2020,1305,"124 del 14/7/2020","83705994D0","Manutenzione impianti elettrici (SOLO ESECUZIONE)",685750,13713,10970.400000000001,2742.6000000000004,null,null,"Collaudatore",219.66,7.0000000000000007E-2]
[2020,1305,"124 del 14/7/2020","83705994D0","Manutenzione impianti elettrici (SOLO ESECUZIONE)",685750,13713,10970.400000000001,2742.6000000000004,null,null,"Coll. Collaudatore",62.76,0.02]
[2019,1305,"223 del 16/12/2019",814272011,"Impianti riscaldamento - raffrescamento Palazzo Ossoli (solo fase esecuzione)",210800,4216,3372.8,843.2,{"$f":"+H661-P661","v":1450.3000000000002},{"$f":"+M661+M662+M663+M664+M665+M666+M667","v":1450.3039999999999},"RUP esecuzione",{"$f":"+H661*N661","v":505.92},0.15,null,1922.5]
[2019,1305,"224 del 16/12/2019",814272012,"Impianti riscaldamento - raffrescamento Palazzo Ossoli (solo fase esecuzione)",210800,4216,3372.8,843.2,null,null,"Coll. RUP esecuzione",{"$f":"H662*N662","v":67.456000000000003},0.02]
[2019,1305,"224 del 16/12/2019",814272012,"Impianti riscaldamento - raffrescamento Palazzo Ossoli (solo fase esecuzione)",210800,4216,{"$f":"+(G663)*0.8","v":3372.8},{"$f":"+(G663)*0.2","v":843.2},null,null,"Coll. RUP esecuzione",{"$f":"H663*N663","v":67.456000000000003},0.02]
[2019,1305,"225 del 16/12/2019",814272013,"Impianti riscaldamento - raffrescamento Palazzo Ossoli (solo fase esecuzione)",210800,4216,3372.8,843.2,null,null,"Direttore Lavori",{"$f":"H664*N664","v":387.87200000000001},0.115]
[2019,1305,"226 del 16/12/2019",814272014,"Impianti riscaldamento - raffrescamento Palazzo Ossoli (solo fase esecuzione)",210800,4216,3372.8,843.2,null,null,"Coll. D.l.",{"$f":"H665*N665","v":118.04800000000002},3.5000000000000003E-2]
[2019,1305,"227 del 16/12/2019",814272015,"Impianti riscaldamento - raffrescamento Palazzo Ossoli (solo fase esecuzione)",210800,4216,3372.8,843.2,null,null,"Collaudatore",{"$f":"H666*N666","v":236.09600000000003},7.0000000000000007E-2]
[2019,1305,"228 del 16/12/2019",814272016,"Impianti riscaldamento - raffrescamento Palazzo Ossoli (solo fase esecuzione)",210800,4216,3372.8,843.2,null,null,"Coll. Collaudatore",{"$f":"H667*N667","v":67.456000000000003},0.02]
[2021,3301,"100 DEL 26/07/2021","ZC1329346F","Acquisto divise",11550,{"$f":"+F668*0.02","v":231},184.8,46.2,{"$f":"+H668","v":184.8},{"$f":"+M668+M669+M670+M671+M672+M673","v":105.336},"Incaricato programm.",{"$f":"+H668*N668","v":5.5440000000000005},0.03,null,null,{"$f":"+H668-O668-P668-K668","v":79.464000000000013}]
[2021,3301,"100 DEL 26/07/2021","ZC1329346F","Acquisto divise",11550,{"$f":"+F669*0.02","v":231},{"$f":"+(G669)*0.8","v":184.8},{"$f":"+(G669)*0.2","v":46.2},null,null,"Coll. Inc. prog.",{"$f":"+H669*N669","v":3.6960000000000002},0.02]
[2021,3301,"100 DEL 26/07/2021","ZC1329346F","Acquisto divise",11550,231,184.8,46.2,null,null,"Inc. Pred. Doc. ",{"$f":"+H670*N670","v":24.948000000000004},0.13500000000000001]
[2021,3301,"100 DEL 26/07/2021","ZC1329346F","Acquisto divise",11550,231,184.8,46.2,null,null,"Coll. Inc. Pred.",{"$f":"+H671*N671","v":5.5440000000000005},0.03]
[2021,3301,"100 DEL 26/07/2021","ZC1329346F","Acquisto divise",11550,231,184.8,46.2,null,null,"RUP Affidamento",{"$f":"+H672*N672","v":53.591999999999999},0.28999999999999998]
[2021,3301,"100 DEL 26/07/2021","ZC1329346F","Acquisto divise",11550,231,184.8,46.2,null,null,"Coll. RUP Affidamento",{"$f":"+H673*N673","v":12.012},6.5000000000000002E-2]
[2021,1257,"68 DEL 06/05/2021","8744263A18","BUONI PASTO CAMPANIA (TRATTATIVA NON STIPULATA)",10598.14,{"$f":"+F674*0.02","v":211.96279999999999},{"$f":"+G674*80/100","v":169.57023999999998},{"$f":"+G674-H674","v":42.392560000000003},{"$f":"+K674","v":88.176524799999996},{"$f":"+M674+M675+M676+M677","v":88.176524799999996},"Inc. Pred. Doc",{"$f":"+H674*N674","v":22.8919824},0.13500000000000001]
[2021,1257,"68 DEL 06/05/2021","8744263A18","BUONI PASTO CAMPANIA (TRATTATIVA NON STIPULATA)",10598.14,{"$f":"+F675*0.02","v":211.96279999999999},{"$f":"+G675*80/100","v":169.57023999999998},{"$f":"+G675-H675","v":42.392560000000003},null,null,"Coll. Inc. Pred. Doc",{"$f":"+H675*N675","v":5.0871071999999993},0.03]
[2021,1257,"68 DEL 06/05/2021","8744263A18","BUONI PASTO CAMPANIA (TRATTATIVA NON STIPULATA)",10598.14,211.96279999999999,169.57023999999998,42.392560000000003,null,null,"RUP Affidamento",{"$f":"+H676*N676","v":49.175369599999989},0.28999999999999998]
[2021,1257,"68 DEL 06/05/2021","8744263A18","BUONI PASTO CAMPANIA (TRATTATIVA NON STIPULATA)",10598.14,211.96279999999999,169.57023999999998,42.392560000000003,null,null,"Coll RUP Aff.",{"$f":"+H677*N677","v":11.022065599999999},6.5000000000000002E-2]
[2021,1257,"62 DEL 28/04/2021",{"$f":"+[1]Foglio1!$F$25","v":"8730691A20"},"BUONI PASTO CAMPANIA (TRATTATIVA DESERTA)",{"$f":"+[1]Foglio1!$G$25","v":11538.31},{"$f":"+F678*0.02","v":230.7662},{"$f":"+G678*80/100","v":184.61295999999999},{"$f":"+G678-H678","v":46.153240000000011},{"$f":"+K678","v":95.998739200000003},{"$f":"+M678+M679+M680+M681","v":95.998739200000003},"Inc. Pred. Doc",{"$f":"+H678*N678","v":24.9227496},0.13500000000000001]
[2021,1257,"62 DEL 28/04/2021",{"$f":"+[1]Foglio1!$F$25","v":"8730691A20"},"BUONI PASTO CAMPANIA (TRATTATIVA DESERTA)",{"$f":"+[1]Foglio1!$G$25","v":11538.31},{"$f":"+F679*0.02","v":230.7662},{"$f":"+G679*80/100","v":184.61295999999999},{"$f":"+G679-H679","v":46.153240000000011},null,null,"Coll. Inc. Pred. Doc",{"$f":"+H679*N679","v":5.538388799999999},0.03]
[2021,1257,"62 DEL 28/04/2021",{"$f":"+[1]Foglio1!$F$25","v":"8730691A20"},"BUONI PASTO CAMPANIA (TRATTATIVA DESERTA)",{"$f":"+[1]Foglio1!$G$25","v":11538.31},230.7662,184.61295999999999,46.153240000000011,null,null,"RUP Affidamento",{"$f":"+H680*N680","v":53.537758399999994},0.28999999999999998]
[2021,1257,"62 DEL 28/04/2021",{"$f":"+[1]Foglio1!$F$25","v":"8730691A20"},"BUONI PASTO CAMPANIA (TRATTATIVA DESERTA)",{"$f":"+[1]Foglio1!$G$25","v":11538.31},230.7662,184.61295999999999,46.153240000000011,null,null,"Coll RUP Aff.",{"$f":"+H681*N681","v":11.9998424},6.5000000000000002E-2]
[2021,1257,"78 DEL 08/06/2021",{"$f":"+[1]Foglio1!$F$37","v":"87859012DE"},"BUONI PASTO CAMPANIA LOTTO 9",76296,{"$f":"+F682*0.02","v":1525.92},{"$f":"+G682*80/100","v":1220.7360000000001},{"$f":"+G682-H682","v":305.18399999999997},{"$f":"+K682","v":518.81279999999992},{"$f":"+M682+M683+M684+M685","v":518.81279999999992},"Inc. Pred. Doc",{"$f":"+H682*N682","v":146.48832000000002},0.12]
[2021,1257,"78 DEL 08/06/2021",{"$f":"+[1]Foglio1!$F$37","v":"87859012DE"},"BUONI PASTO CAMPANIA LOTTO 9",76296,{"$f":"+F683*0.02","v":1525.92},{"$f":"+G683*80/100","v":1220.7360000000001},{"$f":"+G683-H683","v":305.18399999999997},null,null,"Coll. Inc. Pred. Doc",{"$f":"+H683*N683","v":91.555199999999999},7.4999999999999997E-2]
[2021,1257,"78 DEL 08/06/2021",{"$f":"+[1]Foglio1!$F$37","v":"87859012DE"},"BUONI PASTO CAMPANIA LOTTO 9",76296,1525.92,1220.7360000000001,305.18399999999997,null,null,"RUP Affidamento",{"$f":"+H684*N684","v":183.1104},0.15]
[2021,1257,"78 DEL 08/06/2021",{"$f":"+[1]Foglio1!$F$37","v":"87859012DE"},"BUONI PASTO CAMPANIA LOTTO 9",76296,1525.92,1220.7360000000001,305.18399999999997,null,null,"Coll RUP Aff.",{"$f":"+H685*N685","v":97.658880000000011},0.08]
[2021,1257,"116 DEL 02/09/2021",{"$f":"+[1]Foglio1!$F$63","v":"88889945E6"},{"$f":"+[1]Foglio1!$E$63","v":"SERVIZIO SOSTITUTIVO DI MENSA TRAMITE ACQUISTO DI BUONI PASTO ELETTRONICI PER IL PERSONALE DI MAGISTRATURA E AMMINISTRATIVO DELLA G.A. IN SERVIZIO PRESSO I TRIBUNALI AMMINISTRATIVI REGIONALI PER IL PIEMONTE E LA VALLE D'AOSTA - MAGISTRATI"},{"$f":"+[1]Foglio1!$G$63","v":9204},{"$f":"+F686*0.02","v":184.08},{"$f":"+G686*80/100","v":147.26400000000001},{"$f":"+G686-H686","v":36.816000000000003},{"$f":"+K686","v":62.58720000000001},{"$f":"+M686+M687+M688+M689","v":62.58720000000001},"Inc. Pred. Doc",{"$f":"+H686*N686","v":17.671680000000002},0.12]
[2021,1257,"116 DEL 02/09/2021",{"$f":"+[1]Foglio1!$F$63","v":"88889945E6"},{"$f":"+[1]Foglio1!$E$63","v":"SERVIZIO SOSTITUTIVO DI MENSA TRAMITE ACQUISTO DI BUONI PASTO ELETTRONICI PER IL PERSONALE DI MAGISTRATURA E AMMINISTRATIVO DELLA G.A. IN SERVIZIO PRESSO I TRIBUNALI AMMINISTRATIVI REGIONALI PER IL PIEMONTE E LA VALLE D'AOSTA - MAGISTRATI"},{"$f":"+[1]Foglio1!$G$63","v":9204},{"$f":"+F687*0.02","v":184.08},{"$f":"+G687*80/100","v":147.26400000000001},{"$f":"+G687-H687","v":36.816000000000003},null,null,"Coll. Inc. Pred. Doc",{"$f":"+H687*N687","v":11.0448},7.4999999999999997E-2]
[2021,1257,"116 DEL 02/09/2021",{"$f":"+[1]Foglio1!$F$63","v":"88889945E6"},{"$f":"+[1]Foglio1!$E$63","v":"SERVIZIO SOSTITUTIVO DI MENSA TRAMITE ACQUISTO DI BUONI PASTO ELETTRONICI PER IL PERSONALE DI MAGISTRATURA E AMMINISTRATIVO DELLA G.A. IN SERVIZIO PRESSO I TRIBUNALI AMMINISTRATIVI REGIONALI PER IL PIEMONTE E LA VALLE D'AOSTA - MAGISTRATI"},{"$f":"+[1]Foglio1!$G$63","v":9204},184.08,147.26400000000001,36.816000000000003,null,null,"RUP Affidamento",{"$f":"+H688*N688","v":22.089600000000001},0.15]
[2021,1257,"116 DEL 02/09/2021",{"$f":"+[1]Foglio1!$F$63","v":"88889945E6"},{"$f":"+[1]Foglio1!$E$63","v":"SERVIZIO SOSTITUTIVO DI MENSA TRAMITE ACQUISTO DI BUONI PASTO ELETTRONICI PER IL PERSONALE DI MAGISTRATURA E AMMINISTRATIVO DELLA G.A. IN SERVIZIO PRESSO I TRIBUNALI AMMINISTRATIVI REGIONALI PER IL PIEMONTE E LA VALLE D'AOSTA - MAGISTRATI"},{"$f":"+[1]Foglio1!$G$63","v":9204},184.08,147.26400000000001,36.816000000000003,null,null,"Coll RUP Aff.",{"$f":"+H689*N689","v":11.781120000000001},0.08]
[2021,1265,"68 DEL 06/05/2021","8744263A18","BUONI PASTO CAMPANIA (TRATTATIVA NON STIPULATA)",64400.86,{"$f":"+F690*0.02","v":1288.0172},{"$f":"+G690*80/100","v":1030.4137600000001},{"$f":"+G690-H690","v":257.60343999999986},{"$f":"+K690","v":535.81515520000005},{"$f":"+M690+M691+M692+M693","v":535.81515520000005},"Inc. Pred. Doc",{"$f":"+H690*N690","v":139.10585760000004},0.13500000000000001]
[2021,1265,"68 DEL 06/05/2021","8744263A18","BUONI PASTO CAMPANIA (TRATTATIVA NON STIPULATA)",64400.86,{"$f":"+F691*0.02","v":1288.0172},{"$f":"+G691*80/100","v":1030.4137600000001},{"$f":"+G691-H691","v":257.60343999999986},null,null,"Coll. Inc. Pred. Doc",{"$f":"+H691*N691","v":30.912412800000002},0.03]
[2021,1265,"68 DEL 06/05/2021","8744263A18","BUONI PASTO CAMPANIA (TRATTATIVA NON STIPULATA)",64400.86,1288.0172,1030.4137600000001,257.60343999999986,null,null,"RUP Affidamento",{"$f":"+H692*N692","v":298.81999039999999},0.28999999999999998]
[2021,1265,"68 DEL 06/05/2021","8744263A18","BUONI PASTO CAMPANIA (TRATTATIVA NON STIPULATA)",64400.86,1288.0172,1030.4137600000001,257.60343999999986,null,null,"Coll RUP Aff.",{"$f":"+H693*N693","v":66.976894400000006},6.5000000000000002E-2]
[2021,1265,"62 DEL 28/04/2021",{"$f":"+[1]Foglio1!$F$25","v":"8730691A20"},"BUONI PASTO CAMPANIA (TRATTATIVA DESERTA)",{"$f":"+[1]Foglio1!$G$26","v":63460.69},{"$f":"+F694*0.02","v":1269.2138},{"$f":"+G694*80/100","v":1015.3710399999999},{"$f":"+G694-H694","v":253.84276000000011},{"$f":"+K694","v":527.99294079999993},{"$f":"+M694+M695+M696+M697","v":527.99294079999993},"Inc. Pred. Doc",{"$f":"+H694*N694","v":137.07509039999999},0.13500000000000001]
[2021,1265,"62 DEL 28/04/2021",{"$f":"+[1]Foglio1!$F$25","v":"8730691A20"},"BUONI PASTO CAMPANIA (TRATTATIVA DESERTA)",{"$f":"+[1]Foglio1!$G$26","v":63460.69},{"$f":"+F695*0.02","v":1269.2138},{"$f":"+G695*80/100","v":1015.3710399999999},{"$f":"+G695-H695","v":253.84276000000011},null,null,"Coll. Inc. Pred. Doc",{"$f":"+H695*N695","v":30.461131199999997},0.03]
[2021,1265,"62 DEL 28/04/2021",{"$f":"+[1]Foglio1!$F$25","v":"8730691A20"},"BUONI PASTO CAMPANIA (TRATTATIVA DESERTA)",{"$f":"+[1]Foglio1!$G$26","v":63460.69},{"$f":"+F696*0.02","v":1269.2138},{"$f":"+G696*80/100","v":1015.3710399999999},253.84276000000011,null,null,"RUP Affidamento",{"$f":"+H696*N696","v":294.45760159999992},0.28999999999999998]
[2021,1265,"62 DEL 28/04/2021",{"$f":"+[1]Foglio1!$F$25","v":"8730691A20"},"BUONI PASTO CAMPANIA (TRATTATIVA DESERTA)",{"$f":"+[1]Foglio1!$G$26","v":63460.69},{"$f":"+F697*0.02","v":1269.2138},{"$f":"+G697*80/100","v":1015.3710399999999},253.84276000000011,null,null,"Coll RUP Aff.",{"$f":"+H697*N697","v":65.999117599999991},6.5000000000000002E-2]
[2021,1265,"78 DEL 08/06/2021",{"$f":"+[1]Foglio1!$F$37","v":"87859012DE"},"BUONI PASTO CAMPANIA LOTTO 9",241230,{"$f":"+F698*1.9/100","v":4583.37},{"$f":"+G698*80/100","v":3666.6959999999999},{"$f":"+G698-H698","v":916.67399999999998},{"$f":"+K698","v":1558.3458000000001},{"$f":"+M698+M699+M700+M701","v":1558.3458000000001},"Inc. Pred. Doc",{"$f":"+H698*N698","v":440.00351999999998},0.12]
[2021,1265,"78 DEL 08/06/2021",{"$f":"+[1]Foglio1!$F$37","v":"87859012DE"},"BUONI PASTO CAMPANIA LOTTO 9",241230,{"$f":"+F699*1.9/100","v":4583.37},{"$f":"+G699*80/100","v":3666.6959999999999},{"$f":"+G699-H699","v":916.67399999999998},null,null,"Coll. Inc. Pred. Doc",{"$f":"+H699*N699","v":275.00219999999996},7.4999999999999997E-2]
[2021,1265,"78 DEL 08/06/2021",{"$f":"+[1]Foglio1!$F$37","v":"87859012DE"},"BUONI PASTO CAMPANIA LOTTO 9",241230,4583.37,3666.6959999999999,916.67399999999998,null,null,"RUP Affidamento",{"$f":"+H700*N700","v":550.00439999999992},0.15]
[2021,1265,"78 DEL 08/06/2021",{"$f":"+[1]Foglio1!$F$37","v":"87859012DE"},"BUONI PASTO CAMPANIA LOTTO 9",241230,4583.37,3666.6959999999999,916.67399999999998,null,null,"Coll RUP Aff.",{"$f":"+H701*N701","v":293.33568000000002},0.08]
[2021,1265,"116 DEL 02/09/2021",{"$f":"+[1]Foglio1!$F$63","v":"88889945E6"},{"$f":"+[1]Foglio1!$E$63","v":"SERVIZIO SOSTITUTIVO DI MENSA TRAMITE ACQUISTO DI BUONI PASTO ELETTRONICI PER IL PERSONALE DI MAGISTRATURA E AMMINISTRATIVO DELLA G.A. IN SERVIZIO PRESSO I TRIBUNALI AMMINISTRATIVI REGIONALI PER IL PIEMONTE E LA VALLE D'AOSTA - MAGISTRATI"},{"$f":"+[1]Foglio1!$G$64","v":63720},{"$f":"+F702*0.02","v":1274.4000000000001},{"$f":"+G702*80/100","v":1019.52},{"$f":"+G702-H702","v":254.88000000000011},{"$f":"+K702","v":433.29599999999999},{"$f":"+M702+M703+M704+M705","v":433.29599999999999},"Inc. Pred. Doc",{"$f":"+H702*N702","v":122.3424},0.12]
[2021,1265,"116 DEL 02/09/2021",{"$f":"+[1]Foglio1!$F$63","v":"88889945E6"},{"$f":"+[1]Foglio1!$E$63","v":"SERVIZIO SOSTITUTIVO DI MENSA TRAMITE ACQUISTO DI BUONI PASTO ELETTRONICI PER IL PERSONALE DI MAGISTRATURA E AMMINISTRATIVO DELLA G.A. IN SERVIZIO PRESSO I TRIBUNALI AMMINISTRATIVI REGIONALI PER IL PIEMONTE E LA VALLE D'AOSTA - MAGISTRATI"},{"$f":"+[1]Foglio1!$G$64","v":63720},{"$f":"+F703*0.02","v":1274.4000000000001},{"$f":"+G703*80/100","v":1019.52},{"$f":"+G703-H703","v":254.88000000000011},null,null,"Coll. Inc. Pred. Doc",{"$f":"+H703*N703","v":76.463999999999999},7.4999999999999997E-2]
[2021,1265,"116 DEL 02/09/2021",{"$f":"+[1]Foglio1!$F$63","v":"88889945E6"},{"$f":"+[1]Foglio1!$E$63","v":"SERVIZIO SOSTITUTIVO DI MENSA TRAMITE ACQUISTO DI BUONI PASTO ELETTRONICI PER IL PERSONALE DI MAGISTRATURA E AMMINISTRATIVO DELLA G.A. IN SERVIZIO PRESSO I TRIBUNALI AMMINISTRATIVI REGIONALI PER IL PIEMONTE E LA VALLE D'AOSTA - MAGISTRATI"},{"$f":"+[1]Foglio1!$G$64","v":63720},1274.4000000000001,1019.52,254.88000000000011,null,null,"RUP Affidamento",{"$f":"+H704*N704","v":152.928},0.15]
[2021,1265,"116 DEL 02/09/2021",{"$f":"+[1]Foglio1!$F$63","v":"88889945E6"},{"$f":"+[1]Foglio1!$E$63","v":"SERVIZIO SOSTITUTIVO DI MENSA TRAMITE ACQUISTO DI BUONI PASTO ELETTRONICI PER IL PERSONALE DI MAGISTRATURA E AMMINISTRATIVO DELLA G.A. IN SERVIZIO PRESSO I TRIBUNALI AMMINISTRATIVI REGIONALI PER IL PIEMONTE E LA VALLE D'AOSTA - MAGISTRATI"},{"$f":"+[1]Foglio1!$G$64","v":63720},1274.4000000000001,1019.52,254.88000000000011,null,null,"Coll RUP Aff.",{"$f":"+H705*N705","v":81.561599999999999},0.08]
[2021,1307,"16 del 05/02/2021","ZED307DB96 ","CORRIERE ESPRESSO",39900,{"$f":"+F706*0.02","v":798},638.4,159.60000000000002,{"$f":"+H706","v":638.4},{"$f":"+M706+M707+M708+M709+M710+M711+M712","v":363.88799999999992},"Inc. Prog.",{"$f":"+H706*N706","v":19.151999999999997},0.03,null,null,{"$f":"+H706-O706-P706-K706","v":274.51200000000006}]
[2021,1307,"16 del 05/02/2021","ZED307DB96 ","CORRIERE ESPRESSO",39900,{"$f":"+F707*0.02","v":798},{"$f":"+G707*80/100","v":638.4},{"$f":"+G707-H707","v":159.60000000000002},null,null,"Coll. Inc. Prog.",{"$f":"+H707*N707","v":6.3840000000000003},0.01]
[2021,1307,"16 del 05/02/2021","ZED307DB96 ","CORRIERE ESPRESSO",39900,{"$f":"+F708*0.02","v":798},638.4,159.60000000000002,null,null,"Coll. Inc. Prog.",{"$f":"+H708*N708","v":6.3840000000000003},0.01]
[2021,1307,"16 del 05/02/2021","ZED307DB96 ","CORRIERE ESPRESSO",39900,798,638.4,159.60000000000002,null,null,"Inc. Pred. Doc",{"$f":"+H709*N709","v":86.183999999999997},0.13500000000000001]
[2021,1307,"16 del 05/02/2021","ZED307DB96 ","CORRIERE ESPRESSO",39900,798,638.4,159.60000000000002,null,null,"Coll. Inc. Pred. Doc",{"$f":"+H710*N710","v":19.151999999999997},0.03]
[2021,1307,"16 del 05/02/2021","ZED307DB96 ","CORRIERE ESPRESSO",39900,798,638.4,159.60000000000002,null,null,"RUP Affidamento",{"$f":"+H711*N711","v":185.13599999999997},0.28999999999999998]
[2021,1307,"16 del 05/02/2021","ZED307DB96 ","CORRIERE ESPRESSO",39900,798,638.4,159.60000000000002,null,null,"Coll RUP Aff.",{"$f":"+H712*N712","v":41.496000000000002},6.5000000000000002E-2]