{"text_format":"1","workbook":"xlsx","n_sheets":1,"sheets":["All. 9 - RIEPILOGO PER UGBTEP"],"not_rendered":{"charts":0,"images":0,"macros":1,"external_links":2,"defined_names":2,"comments":0,"pivot_tables":0},"unopened":[],"bounds":{"document_bytes":16777216,"sheet_cells":100000,"rows_first":2000,"rows_last":500,"rows_between":2000,"halvings":0,"cell_chars":16384,"cell_head_chars":4096},"cells_cut":0,"cells_raw":0,"read":"whole","date_system":"1900"}

{"sheet":"All. 9 - RIEPILOGO PER UGBTEP","index":0,"n_rows":644,"n_cols":32,"rows_kept":644,"cut":false,"hidden":false,"merged":[[161,6,161,7],[162,6,162,7],[163,6,163,7],[164,6,164,7],[165,6,165,7],[212,6,212,7],[228,6,228,7],[271,6,271,7],[272,6,272,7],[248,6,248,7],[243,6,243,7],[188,18,188,20],[409,6,409,7],[406,6,406,7],[408,6,408,7],[403,6,403,7],[405,6,405,7],[397,6,397,7],[399,6,399,7],[400,6,400,7],[401,6,401,7],[238,6,238,7],[239,6,239,7],[240,6,240,7],[246,6,246,7],[247,6,247,7],[404,6,404,7],[407,6,407,7],[249,6,249,7],[241,6,241,7],[395,6,395,7],[396,6,396,7],[398,6,398,7],[244,6,244,7],[245,6,245,7],[274,6,274,7],[275,6,275,7],[266,6,266,7],[250,6,250,7],[251,6,251,7],[252,6,252,7],[253,6,253,7],[254,6,254,7],[255,6,255,7],[256,6,256,7],[257,6,257,7],[258,6,258,7],[273,6,273,7],[267,6,267,7],[268,6,268,7],[269,6,269,7],[270,6,270,7],[0,6,0,7],[34,6,34,7],[35,6,35,7],[36,6,36,7],[242,6,242,7],[117,6,117,7],[118,6,118,7],[119,6,119,7],[120,6,120,7],[121,6,121,7],[166,6,166,7],[167,6,167,7],[168,6,168,7],[169,6,169,7],[170,6,170,7],[37,6,37,7],[38,6,38,7],[14,6,14,7],[15,6,15,7],[16,6,16,7],[17,6,17,7],[18,6,18,7],[236,6,236,7],[237,6,237,7],[414,6,414,7],[415,6,415,7],[416,6,416,7],[417,6,417,7],[412,6,412,7],[411,6,411,7],[413,6,413,7],[306,6,306,7],[314,6,314,7],[322,6,322,7],[334,6,334,7],[341,6,341,7],[282,6,282,7],[283,6,283,7],[284,6,284,7],[285,6,285,7],[291,6,291,7],[276,6,276,7],[277,6,277,7],[278,6,278,7],[279,6,279,7],[280,6,280,7],[448,6,448,7],[454,6,454,7],[470,6,470,7],[574,6,574,7],[582,6,582,7],[606,6,606,7],[281,6,281,7],[423,6,423,7],[424,6,424,7],[425,6,425,7],[426,6,426,7],[427,6,427,7],[418,6,418,7],[419,6,419,7],[420,6,420,7],[421,6,421,7],[422,6,422,7],[292,6,292,7],[293,6,293,7],[286,6,286,7],[287,6,287,7],[288,6,288,7],[289,6,289,7],[290,6,290,7]]}
["LC","Anno","CAPITOLO DI SPESA","DETERMINA N.     DEL","CIG","OGGETTO DEL CONTRATTO","PERIODO CONTRATTUALE               (DAL ...….… AL……....)",null,"IMPORTO A BASE D'ASTA","AMMONTARE INCENTIVO \nPER SINGOLO CONTRATTO \n(2% -1,90%)",0.8,0.2,"quota 80% \nRELATIVA ALL'UFFICIO che ha predisposto l'allegato 10 (es. UUCR,  SPI, … ALTRO) anno in corso","quota 80% \nRELATIVA ALL'UFFICIO che ha predisposto l'allegato 10 (es. UUCR,  SPI, … ALTRO) anno in corso","Tipo incarico","importo unitario liquidato","percentuale di ripartizione dell'incentivo in base al tipo di incarico svolto","importo arrotondato","QUOTA LIQUIDATA NEL 2019","QUOTA LIQUIDATA NEL 2020","QUOTA LIQUIDATA NEL 2021","QUOTA LIQUIDATA NEL 2022","QUOTA LIQUIDATA NEL 2023"," QUOTA DA LIQUIDARE NEL 2024",2025,2026]
["CQ",2023,1273,"23 DEL 08-02-2023","9635852C9C","STARTWEB","2023-03-01","2023-12-31",18000,{"$f":"+I2*0.02","v":360},{"$f":"+J2*0.8","v":288},{"$f":"+J2*0.2","v":72},89.28,{"$f":"+R2+R3+R4+R5","v":89.28},"Inc. Pred. Doc",{"$f":"+K2*Q2","v":14.4},0.05,{"$f":"ROUND(P2,2)","v":14.4},null,null,null,null,null,0]
["CQ",2023,1273,"23 DEL 08-02-2023","9635852C9C","STARTWEB","2023-03-01","2023-12-31",18000,{"$f":"+I3*0.02","v":360},{"$f":"+J3*0.8","v":288},{"$f":"+J3*0.2","v":72},null,null,"Coll. Inc. Pred. Doc",{"$f":"+K3*Q3","v":28.8},0.1,{"$f":"ROUND(P3,2)","v":28.8}]
["CQ",2023,1273,"23 DEL 08-02-2023","9635852C9C","STARTWEB","2023-03-01","2023-12-31",18000,{"$f":"+I4*0.02","v":360},288,72,null,null,"RUP Affidamento",{"$f":"+K4*Q4","v":28.8},0.1,28.8]
["CQ",2023,1273,"23 DEL 08-02-2023","9635852C9C","STARTWEB","2023-03-01","2023-12-31",18000,{"$f":"+I5*0.02","v":360},288,72,null,null,"Coll RUP Aff.",{"$f":"+K5*Q5","v":17.28},0.06,17.28]
["MT",2022,1273,"210 del 16-12-2022","Z8C3923A4A","FORNITURA DI UNA SOLUZIONE TECNOLOGICA MFA FORTINET E DEI SERVIZI DI INSTALLAZIONE","2023-01-19","2026-01-18",39834.28,{"$f":"+I6*0.02","v":796.69},637.35,159.34,197.58,{"$f":"+R6+R7+R8+R9+R10","v":197.59},"Inc. Pred. Doc",{"$f":"+K6*Q6","v":31.87},0.05,{"$f":"ROUND(P6,2)","v":31.87},null,null,null,null,null,0]
["MT",2022,1273,"210 del 16-12-2022","Z8C3923A4A","FORNITURA DI UNA SOLUZIONE TECNOLOGICA MFA FORTINET E DEI SERVIZI DI INSTALLAZIONE","2023-01-19","2026-01-18",39834.28,796.69,637.35,{"$f":"+J7*0.2","v":159.34},null,null,"Coll. Inc. Pred. Doc",{"$f":"+K7*Q7","v":41.43},6.5000000000000002E-2,{"$f":"ROUND(P7,2)","v":41.43}]
["MT",2022,1273,"210 del 16-12-2022","Z8C3923A4A","FORNITURA DI UNA SOLUZIONE TECNOLOGICA MFA FORTINET E DEI SERVIZI DI INSTALLAZIONE","2023-01-19","2026-01-18",39834.28,796.69,637.35,159.34,null,null,"Coll. Inc. Pred. Doc",{"$f":"+K8*Q8","v":22.31},3.5000000000000003E-2,22.31]
["MT",2022,1273,"210 del 16-12-2022","Z8C3923A4A","FORNITURA DI UNA SOLUZIONE TECNOLOGICA MFA FORTINET E DEI SERVIZI DI INSTALLAZIONE","2023-01-19","2026-01-18",39834.28,796.69,637.35,159.34,null,null,"RUP Affidamento",{"$f":"+K9*Q9","v":63.74},0.1,63.74]
["MT",2022,1273,"210 del 16-12-2022","Z8C3923A4A","FORNITURA DI UNA SOLUZIONE TECNOLOGICA MFA FORTINET E DEI SERVIZI DI INSTALLAZIONE","2023-01-19","2026-01-18",39834.28,796.69,637.35,159.34,null,null,"Coll RUP Aff.",{"$f":"+K10*Q10","v":38.24},0.06,38.24]
["MT",2023,1273," 30 DEL 16-02-2023","Z1E39FCCD6","servizio di consulenza professionale Adobe per 12 mesi","2023-03-08","2024-03-07",17863.72,357.27,285.82,71.45,{"$f":"+R11+R12+R13+R14","v":40.01},{"$f":"+P11+P12+P13+P14","v":40.01},"Inc. Pred. Doc",{"$f":"+K11*Q11","v":5.72},0.02,{"$f":"ROUND(P11,2)","v":5.72},null,null,null,null,null,0]
["MT",2023,1273," 30 DEL 16-02-2023","Z1E39FCCD6","servizio di consulenza professionale Adobe per 12 mesi","2023-03-08","2024-03-07",17863.72,{"$f":"+I12*0.02","v":357.27},{"$f":"+J12*0.8","v":285.82},{"$f":"+J12*0.2","v":71.45},null,null,"Coll. Inc. Pred. Doc",2.85,0.01,2.85]
["MT",2023,1273," 30 DEL 16-02-2023","Z1E39FCCD6","servizio di consulenza professionale Adobe per 12 mesi","2023-03-08","2024-03-07",17863.72,357.27,285.82,71.45,null,null,"RUP Affidamento",{"$f":"+K13*Q13","v":22.87},0.08,22.87]
["MT",2023,1273," 30 DEL 16-02-2023","Z1E39FCCD6","servizio di consulenza professionale Adobe per 12 mesi","2023-03-08","2024-03-07",17863.72,357.27,285.82,71.45,null,null,"Coll RUP Aff.",{"$f":"+K14*Q14","v":8.57},0.03,{"$f":"ROUND(P14,2)","v":8.57}]
["MT",2023,1273,"34 del 27-02-2023","9678082DE8","Liferay DXP (versione7.3) per ventiquattro mesi,","24 mesi dalla stipula del contratto",null,195900,3918,3134.4,783.6,{"$f":"+R15+R16+R17+R18+R19","v":971.66},{"$f":"+R15+R16+R17+R18+R19","v":971.66},"Inc. Pred. Doc",{"$f":"+K15*Q15","v":156.72},0.05,{"$f":"ROUND(P15,2)","v":156.72},null,null,null,null,null,0]
["MT",2023,1273,"34 del 27-02-2023","9678082DE8","Liferay DXP (versione7.3) per ventiquattro mesi,","24 mesi dalla stipula del contratto",null,195900,3918,3134.4,783.6,null,null,"Coll. Inc. Pred. Doc",{"$f":"+K16*Q16","v":203.74},6.5000000000000002E-2,{"$f":"ROUND(P16,2)","v":203.74}]
["MT",2023,1273,"34 del 27-02-2023","9678082DE8","Liferay DXP (versione7.3) per ventiquattro mesi,","24 mesi dalla stipula del contratto",null,195900,3918,3134.4,783.6,null,null,"Coll. Inc. Pred. Doc",{"$f":"+K17*Q17","v":109.7},3.5000000000000003E-2,109.7]
["MT",2023,1273,"34 del 27-02-2023","9678082DE8","Liferay DXP (versione7.3) per ventiquattro mesi,","24 mesi dalla stipula del contratto",null,195900,3918,3134.4,783.6,null,null,"RUP Affidamento",{"$f":"+K18*Q18","v":313.44},0.1,313.44]
["MT",2023,1273,"34 del 27-02-2023","9678082DE8","Liferay DXP (versione7.3) per ventiquattro mesi,","24 mesi dalla stipula del contratto",null,195900,3918,3134.4,783.6,null,null,"Coll RUP Aff.",{"$f":"+K19*Q19","v":188.06},0.06,188.06]
["PC",2023,1273,"21 DEL 31-01-2023","9631100B23","Servizio di consultazione di durata biennale di banche dati giuridiche on line“ My Desk 24  + quotidiano digitale il Sole 24 Ore","2023-03-16","2025-03-15",298000,{"$f":"+I20*1.9/100","v":5662},4529.6000000000004,1132.4000000000001,{"$f":"+R20+R21+R22+R23+R24","v":0},{"$f":"+P20+P21+P22+P24+P23","v":1404.18},"Inc. Pred. Doc",{"$f":"+K20*Q20","v":226.48},0.05,null,null,null,null,null,null,0]
["PC",2023,1273,"21 DEL 31-01-2023","9631100B23","Servizio di consultazione di durata biennale di banche dati giuridiche on line“ My Desk 24  + quotidiano digitale il Sole 24 Ore","2023-03-16","2025-03-15",298000,{"$f":"+I21*1.9/100","v":5662},{"$f":"+J21*0.8","v":4529.6000000000004},{"$f":"+J21*0.2","v":1132.4000000000001},null,null,"Coll. Inc. Pred. Doc",{"$f":"+K21*Q21","v":294.42},6.5000000000000002E-2]
["PC",2023,1273,"21 DEL 31-01-2023","9631100B23","Servizio di consultazione di durata biennale di banche dati giuridiche on line“ My Desk 24  + quotidiano digitale il Sole 24 Ore","2023-03-16","2025-03-15",298000,5662,4529.6000000000004,1132.4000000000001,null,null,"Coll. Inc. Pred. Doc",{"$f":"+K22*Q22","v":158.54},3.5000000000000003E-2]
["PC",2023,1273,"21 DEL 31-01-2023","9631100B23","Servizio di consultazione di durata biennale di banche dati giuridiche on line“ My Desk 24  + quotidiano digitale il Sole 24 Ore","2023-03-16","2025-03-15",298000,5662,{"$f":"+J23*0.8","v":4529.6000000000004},{"$f":"+J23*0.2","v":1132.4000000000001},null,null,"RUP Affidamento",{"$f":"+K23*Q23","v":452.96},0.1]
["PC",2023,1273,"21 DEL 31-01-2023","9631100B23","Servizio di consultazione di durata biennale di banche dati giuridiche on line“ My Desk 24  + quotidiano digitale il Sole 24 Ore","2023-03-16","2025-03-15",298000,5662,4529.6000000000004,1132.4000000000001,null,null,"Coll RUP Aff.",{"$f":"+K24*Q24","v":271.77999999999997},0.06]
["PC",2022,1273,"202 del 12-12-2022","953213242B","consultazione della banca dati giuridica Lexitalia","2023-01-31","2024-01-30",125000,{"$f":"+I25*2/100","v":2500},2000,500,{"$f":"+R25+R26+R27+R28+R29","v":0},{"$f":"+P25+P27+P28+P29+P26","v":620},"Inc. Pred. Doc",{"$f":"+K25*Q25","v":100},0.05,null,null,null,null,null,null,0]
["PC",2022,1273,"202 del 12-12-2022","953213242B","consultazione della banca dati giuridica Lexitalia","2023-01-31","2024-01-30",125000,{"$f":"+I26*2/100","v":2500},{"$f":"+J26*0.8","v":2000},{"$f":"+J26*0.2","v":500},null,null,"Coll. Inc. Pred. Doc",{"$f":"+K26*Q26","v":130},6.5000000000000002E-2]
["PC",2022,1273,"202 del 12-12-2022","953213242B","consultazione della banca dati giuridica Lexitalia","2023-01-31","2024-01-30",125000,2500,2000,500,null,null,"Coll. Inc. Pred. Doc",{"$f":"+K27*Q27","v":70},3.5000000000000003E-2]
["PC",2022,1273,"202 del 12-12-2022","953213242B","consultazione della banca dati giuridica Lexitalia","2023-01-31","2024-01-30",125000,2500,2000,500,null,null,"RUP Affidamento",{"$f":"+K28*Q28","v":200},0.1]
["PC",2022,1273,"202 del 12-12-2022","953213242B","consultazione della banca dati giuridica Lexitalia","2023-01-31","2024-01-30",125000,2500,2000,500,null,null,"Coll RUP Aff.",{"$f":"+K29*Q29","v":120},0.06]
["LC",2023,1273,"DETERMINA N. n. 29 del 14/02/2023","9653321C7C","Azure Monetary Commit","2023-03-01","2023-06-30",499908.24,{"$f":"+I30*1.9%","v":9498.26},{"$f":"+J30*0.8","v":7598.61},{"$f":"+J30*0.2","v":1899.65},2355.5700000000002,{"$f":"+P30+P31+P32+P33+P34","v":2355.5700000000002},"Inc. Pred. Doc",{"$f":"+K30*Q30","v":379.93},0.05,{"$f":"ROUND(P30,2)","v":379.93},null,null,null,null,null,0]
["LC",2023,1273,"DETERMINA N. n. 29 del 14/02/2023","9653321C7C","Azure Monetary Commit","2023-03-01","2023-06-30",499908.24,{"$f":"+I31*1.9%","v":9498.26},{"$f":"+J31*0.8","v":7598.61},{"$f":"+J31*0.2","v":1899.65},null,null,"Coll. Inc. Pred. Doc",{"$f":"+K31*Q31","v":493.91},6.5000000000000002E-2,{"$f":"ROUND(P31,2)","v":493.91}]
["LC",2023,1273,"DETERMINA N. n. 29 del 14/02/2023","9653321C7C","Azure Monetary Commit","2023-03-01","2023-06-30",499908.24,9498.26,7598.61,1899.65,null,null,"Coll. Inc. Pred. Doc",{"$f":"+K32*Q32","v":265.95},3.5000000000000003E-2,265.95]
["LC",2023,1273,"DETERMINA N. n. 29 del 14/02/2023","9653321C7C","Azure Monetary Commit","2023-03-01","2023-06-30",499908.24,9498.26,7598.61,1899.65,null,null,"RUP Affidamento",{"$f":"+K33*Q33","v":759.86},0.1,759.86]
["LC",2023,1273,"DETERMINA N. n. 29 del 14/02/2023","9653321C7C","Azure Monetary Commit","2023-03-01","2023-06-30",499908.24,9498.26,7598.61,1899.65,null,null,"Coll RUP Aff.",{"$f":"+K34*Q34","v":455.92},0.06,455.92]
["LC",2023,1273,"DETERMINA N. n. 28 del 13/02/2023",9653292490,"Soluzione Alfresco","16 mesi dal verbale di avvio ",null,192800,{"$f":"+I35*2%","v":3856},{"$f":"+J35*0.8","v":3084.8},{"$f":"+J35*0.2","v":771.2},{"$f":"+R35+R36+R37+R38+R39","v":956.29},{"$f":"+P35+P36+P37+P38+P39","v":956.29},"Inc. Pred. Doc",{"$f":"+K35*Q35","v":154.24},0.05,{"$f":"ROUND(P35,2)","v":154.24},null,null,null,null,null,0]
["LC",2023,1273,"DETERMINA N. n. 28 del 13/02/2023",9653292490,"Soluzione Alfresco","16 mesi dal verbale di avvio ",null,192800,3856,{"$f":"+J36*0.8","v":3084.8},{"$f":"+J36*0.2","v":771.2},null,null,"Coll. Inc. Pred. Doc",{"$f":"+K36*Q36","v":200.51},6.5000000000000002E-2,{"$f":"ROUND(P36,2)","v":200.51}]
["LC",2023,1273,"DETERMINA N. n. 28 del 13/02/2023",9653292490,"Soluzione Alfresco","16 mesi dal verbale di avvio ",null,192800,3856,3084.8,771.2,null,null,"Coll. Inc. Pred. Doc",{"$f":"+K37*Q37","v":107.97},3.5000000000000003E-2,107.97]
["LC",2023,1273,"DETERMINA N. n. 28 del 13/02/2023",9653292490,"Soluzione Alfresco","16 mesi dal verbale di avvio ",null,192800,3856,3084.8,771.2,null,null,"RUP Affidamento",{"$f":"+K38*Q38","v":308.48},0.1,308.48]
["LC",2023,1273,"DETERMINA N. n. 28 del 13/02/2023",9653292490,"Soluzione Alfresco","16 mesi dal verbale di avvio ",null,192800,3856,3084.8,771.2,null,null,"Coll RUP Aff.",{"$f":"+K39*Q39","v":185.09},0.06,185.09]
["V",2023,4250,"DETERMINA N. n. 5 del 12/01/2023","959762310E","dispositivi attivi per le reti LAN","2023-03-22","2026-03-21",137800,2756,{"$f":"+J40*0.8","v":2204.8000000000002},{"$f":"+J40*0.2","v":551.20000000000005},{"$f":"+R40+R41+R42+R43+R44","v":683.49},{"$f":"+P40+P41+P42+P43+P44","v":683.49},"Inc. Pred. Doc",{"$f":"+K40*Q40","v":110.24},0.05,{"$f":"ROUND(P40,2)","v":110.24},null,null,null,null,null,0]
["V",2023,4250,"DETERMINA N. n. 5 del 12/01/2023","959762310E","dispositivi attivi per le reti LAN","2023-03-22","2026-03-21",137800,2756,{"$f":"+J41*0.8","v":2204.8000000000002},{"$f":"+J41*0.2","v":551.20000000000005},null,null,"Coll. Inc. Pred. Doc",{"$f":"+K41*Q41","v":143.31},6.5000000000000002E-2,{"$f":"ROUND(P41,2)","v":143.31}]
["V",2023,4250,"DETERMINA N. n. 5 del 12/01/2023","959762310E","dispositivi attivi per le reti LAN","2023-03-22","2026-03-21",137800,2756,2204.8000000000002,551.20000000000005,null,null,"Coll. Inc. Pred. Doc",{"$f":"+K42*Q42","v":77.17},3.5000000000000003E-2,77.17]
["V",2023,4250,"DETERMINA N. n. 5 del 12/01/2023","959762310E","dispositivi attivi per le reti LAN","2023-03-22","2026-03-21",137800,2756,2204.8000000000002,551.20000000000005,null,null,"RUP Affidamento",{"$f":"+K43*Q43","v":220.48},0.1,220.48]
["V",2023,4250,"DETERMINA N. n. 5 del 12/01/2023","959762310E","dispositivi attivi per le reti LAN","2023-03-22","2026-03-21",137800,2756,2204.8000000000002,551.20000000000005,null,null,"Coll RUP Aff.",{"$f":"+K44*Q44","v":132.29},0.06,132.29]
["PC",2023,1273,"52 DEL 29-03-2023","Z473A94DA5","Facile consumo","2023-05-10","2023-05-20",24000,{"$f":"+I45*0.02","v":480},384,96,{"$f":"+R45+R46+R47+R48","v":0},{"$f":"+P45+P46+P47+P48","v":119.04},"Inc. Pred. Doc",{"$f":"+K45*Q45","v":19.2},0.05,null,null,null,null,null,null,0]
["PC",2023,1273,"52 DEL 29-03-2023","Z473A94DA5","Facile consumo","2023-05-10","2023-05-20",24000,480,384,96,null,null,"Coll. Inc. Pred. Doc",{"$f":"+K46*Q46","v":38.4},0.1]
["PC",2023,1273,"52 DEL 29-03-2023","Z473A94DA5","Facile consumo","2023-05-10","2023-05-20",24000,480,384,96,null,null,"RUP Affidamento",{"$f":"+K47*Q47","v":38.4},0.1]
["PC",2023,1273,"52 DEL 29-03-2023","Z473A94DA5","Facile consumo","2023-05-10","2023-05-20",24000,480,384,96,null,null,"Coll RUP Aff.",{"$f":"+K48*Q48","v":23.04},0.06]
["ML",2023,1273,"59 DEL 12-04-2023","Z813ABF50E ","acquisto di materiale informatico","2023-02-01","2024-02-01",13000,{"$f":"+I49*0.02","v":260},{"$f":"+J49*0.8","v":208},{"$f":"+J49*0.2","v":52},{"$f":"+R49+R50+R51+R52","v":64.48},{"$f":"+P49+P50+P51+P52","v":64.48},"Inc. Pred. Doc",{"$f":"+K49*Q49","v":10.4},0.05,{"$f":"ROUND(P49,2)","v":10.4},null,null,null,null,null,0]
["ML",2023,1273,"59 DEL 12-04-2023","Z813ABF50E ","acquisto di materiale informatico","2023-02-01","2024-02-01",13000,260,208,52,null,null,"Coll. Inc. Pred. Doc",{"$f":"+K50*Q50","v":20.8},0.1,{"$f":"ROUND(P50,2)","v":20.8}]
["ML",2023,1273,"59 DEL 12-04-2023","Z813ABF50E ","acquisto di materiale informatico","2023-02-01","2024-02-01",13000,260,208,52,null,null,"RUP Affidamento",{"$f":"+K51*Q51","v":20.8},0.1,{"$f":"ROUND(P51,2)","v":20.8}]
["ML",2023,1273,"59 DEL 12-04-2023","Z813ABF50E ","acquisto di materiale informatico","2023-02-01","2024-02-01",13000,260,208,52,null,null,"Coll RUP Aff.",{"$f":"+K52*Q52","v":12.48},0.06,{"$f":"ROUND(P52,2)","v":12.48}]
["ML",2023,1273,"25 DEL 08-02-2023",9647144313,"Acquisizione licenze Qlik e supporto specialistico","2023-02-01","2024-02-01",137984.4,{"$f":"+I53*0.02","v":2759.69},{"$f":"+J53*0.8","v":2207.75},{"$f":"+J53*0.2","v":551.94000000000005},684.4,{"$f":"+R53+R54+R55+R56+R57","v":684.4},"Inc. Pred. Doc",{"$f":"+K53*Q53","v":110.39},0.05,{"$f":"ROUND(P53,2)","v":110.39},null,null,null,null,null,0]
["ML",2023,1273,"25 DEL 08-02-2023",9647144313,"Acquisizione licenze Qlik e supporto specialistico","2023-02-01","2024-02-01",137984.4,{"$f":"+I54*0.02","v":2759.69},{"$f":"+J54*0.8","v":2207.75},{"$f":"+J54*0.2","v":551.94000000000005},null,null,"Coll. Inc. Pred. Doc",{"$f":"+K54*Q54","v":143.5},6.5000000000000002E-2,{"$f":"ROUND(P54,2)","v":143.5}]
["ML",2023,1273,"25 DEL 08-02-2023",9647144313,"Acquisizione licenze Qlik e supporto specialistico","2023-02-01","2024-02-01",137984.4,2759.69,2207.75,551.94000000000005,null,null,"Coll. Inc. Pred. Doc",77.260000000000005,3.5000000000000003E-2,77.260000000000005]
["ML",2023,1273,"25 DEL 08-02-2023",9647144313,"Acquisizione licenze Qlik e supporto specialistico","2023-02-01","2024-02-01",137984.4,2759.69,2207.75,551.94000000000005,null,null,"RUP Affidamento",{"$f":"+K56*Q56","v":220.78},0.1,220.78]
["ML",2023,1273,"25 DEL 08-02-2023",9647144313,"Acquisizione licenze Qlik e supporto specialistico","2023-02-01","2024-02-01",137984.4,2759.69,2207.75,551.94000000000005,null,null,"Coll RUP Aff.",132.47,0.06,132.47]
["ML",2023,1273,"32 DEL 23-02-2023","ZC03A13C0E","“Supporto Solr Enterprise”","2023-02-01","2024-02-01",25000,500,400,100,124,{"$f":"+P58+P59+P60+P61","v":124},"Inc. Pred. Doc",{"$f":"+K58*Q58","v":20},0.05,{"$f":"ROUND(P58,2)","v":20},null,null,null,null,null,0]
["ML",2023,1273,"32 DEL 23-02-2023","ZC03A13C0E","“Supporto Solr Enterprise”","2023-02-01","2024-02-01",25000,{"$f":"+I59*0.02","v":500},{"$f":"+J59*0.8","v":400},{"$f":"+J59*0.2","v":100},null,null,"Coll. Inc. Pred. Doc",{"$f":"+K59*Q59","v":40},0.1,{"$f":"ROUND(P59,2)","v":40}]
["ML",2023,1273,"32 DEL 23-02-2023","ZC03A13C0E","“Supporto Solr Enterprise”","2023-02-01","2024-02-01",25000,500,400,100,null,null,"RUP Affidamento",{"$f":"+K60*Q60","v":40},0.1,{"$f":"ROUND(P60,2)","v":40}]
["ML",2023,1273,"32 DEL 23-02-2023","ZC03A13C0E","“Supporto Solr Enterprise”","2023-02-01","2024-02-01",25000,500,400,100,null,null,"Coll RUP Aff.",{"$f":"+K61*Q61","v":24},0.06,{"$f":"ROUND(P61,2)","v":24}]
["MC",2023,1273," 49 DEL 22-03-2023","9725664FD0","affidamento di servizi applicativi in ottica cloud","2023-06-30","2028-06-29",29275823,{"$f":"+I62*1.9/100","v":556240.64000000001},444992.51,111248.13,{"$f":"SUM(R62:R107)","v":62298.95},{"$f":"+P62+P63+P64+P65+P66+P67+P68+P69+P70+P71+P72+P73+P74+P75+P76+P77+P78+P79+P80+P81+P82+P83+P84+P85+P86+P87+P88+P89+P91+P90+P92+P93+P94+P95+P96+P97+P98+P99+P100+P101+P102+P103+P104+P105+P106+P107","v":62298.95},"Inc. Pred. Doc",809.08,1.8E-3,{"$f":"ROUND(P62,2)","v":809.08},null,null,null,null,null,0]
["MC",2023,1273," 49 DEL 22-03-2023","9725664FD0","affidamento di servizi applicativi in ottica cloud",null,null,29275823,{"$f":"+I63*1.9/100","v":556240.64000000001},{"$f":"+J63*0.8","v":444992.51},{"$f":"+J63*0.2","v":111248.13},null,null,"Inc. Pred. Doc",809.08,1.8E-3,{"$f":"ROUND(P63,2)","v":809.08}]
["MC",2023,1273," 49 DEL 22-03-2023","9725664FD0","affidamento di servizi applicativi in ottica cloud",null,null,29275823,556240.64000000001,444992.51,111248.13,null,null,"Inc. Pred. Doc",809.08,1.8E-3,809.08]
["MC",2023,1273," 49 DEL 22-03-2023","9725664FD0","affidamento di servizi applicativi in ottica cloud",null,null,29275823,556240.64000000001,444992.51,111248.13,null,null,"Inc. Pred. Doc",809.08,1.8E-3,809.08]
["MC",2023,1273," 49 DEL 22-03-2023","9725664FD0","affidamento di servizi applicativi in ottica cloud",null,null,29275823,556240.64000000001,444992.51,111248.13,null,null,"Inc. Pred. Doc",809.08,1.8E-3,809.08]
["MC",2023,1273," 49 DEL 22-03-2023","9725664FD0","affidamento di servizi applicativi in ottica cloud",null,null,29275823,556240.64000000001,444992.51,111248.13,null,null,"Inc. Pred. Doc",809.08,1.8E-3,809.08]
["MC",2023,1273," 49 DEL 22-03-2023","9725664FD0","affidamento di servizi applicativi in ottica cloud",null,null,29275823,556240.64000000001,444992.51,111248.13,null,null,"Inc. Pred. Doc",809.08,1.8E-3,809.08]
["MC",2023,1273," 49 DEL 22-03-2023","9725664FD0","affidamento di servizi applicativi in ottica cloud",null,null,29275823,556240.64000000001,444992.51,111248.13,null,null,"Inc. Pred. Doc",809.08,1.8E-3,809.08]
["MC",2023,1273," 49 DEL 22-03-2023","9725664FD0","affidamento di servizi applicativi in ottica cloud",null,null,29275823,556240.64000000001,444992.51,111248.13,null,null,"Inc. Pred. Doc",809.08,1.8E-3,809.08]
["MC",2023,1273," 49 DEL 22-03-2023","9725664FD0","affidamento di servizi applicativi in ottica cloud",null,null,29275823,556240.64000000001,444992.51,111248.13,null,null,"Inc. Pred. Doc",809.08,1.8E-3,809.08]
["MC",2023,1273," 49 DEL 22-03-2023","9725664FD0","affidamento di servizi applicativi in ottica cloud",null,null,29275823,556240.64000000001,444992.51,111248.13,null,null,"Inc. Pred. Doc",809.08,1.8E-3,809.08]
["MC",2023,1273," 49 DEL 22-03-2023","9725664FD0","affidamento di servizi applicativi in ottica cloud",null,null,29275823,556240.64000000001,444992.51,111248.13,null,null,"Coll. Inc. Pred. Doc",1112.47,2.5000000000000001E-3,1112.47]
["MC",2023,1273," 49 DEL 22-03-2023","9725664FD0","affidamento di servizi applicativi in ottica cloud",null,null,29275823,556240.64000000001,444992.51,111248.13,null,null,"Coll. Inc. Pred. Doc",1112.47,2.5000000000000001E-3,1112.47]
["MC",2023,1273," 49 DEL 22-03-2023","9725664FD0","affidamento di servizi applicativi in ottica cloud",null,null,29275823,556240.64000000001,444992.51,111248.13,null,null,"Coll. Inc. Pred. Doc",1112.47,2.5000000000000001E-3,1112.47]
["MC",2023,1273," 49 DEL 22-03-2023","9725664FD0","affidamento di servizi applicativi in ottica cloud",null,null,29275823,556240.64000000001,444992.51,111248.13,null,null,"Coll. Inc. Pred. Doc",1112.47,2.5000000000000001E-3,1112.47]
["MC",2023,1273," 49 DEL 22-03-2023","9725664FD0","affidamento di servizi applicativi in ottica cloud",null,null,29275823,556240.64000000001,444992.51,111248.13,null,null,"RUP Affidamento",0,0.08,0]
["MC",2023,1273," 49 DEL 22-03-2023","9725664FD0","affidamento di servizi applicativi in ottica cloud",null,null,29275823,556240.64000000001,444992.51,111248.13,null,null,"Suddivisione quota RUP ",2454.1999999999998,5.4999999999999997E-3,2454.1999999999998]
["MC",2023,1273," 49 DEL 22-03-2023","9725664FD0","affidamento di servizi applicativi in ottica cloud",null,null,29275823,556240.64000000001,444992.51,111248.13,null,null,"Suddivisione quota RUP ",2454.1999999999998,5.4999999999999997E-3,2454.1999999999998]
["MC",2023,1273," 49 DEL 22-03-2023","9725664FD0","affidamento di servizi applicativi in ottica cloud",null,null,29275823,556240.64000000001,444992.51,111248.13,null,null,"Suddivisione quota RUP ",2454.1999999999998,5.4999999999999997E-3,2454.1999999999998]
["MC",2023,1273," 49 DEL 22-03-2023","9725664FD0","affidamento di servizi applicativi in ottica cloud",null,null,29275823,556240.64000000001,444992.51,111248.13,null,null,"Suddivisione quota RUP ",2454.1999999999998,5.4999999999999997E-3,2454.1999999999998]
["MC",2023,1273," 49 DEL 22-03-2023","9725664FD0","affidamento di servizi applicativi in ottica cloud",null,null,29275823,556240.64000000001,444992.51,111248.13,null,null,"Suddivisione quota RUP ",2454.1999999999998,5.4999999999999997E-3,2454.1999999999998]
["MC",2023,1273," 49 DEL 22-03-2023","9725664FD0","affidamento di servizi applicativi in ottica cloud",null,null,29275823,556240.64000000001,444992.51,111248.13,null,null,"Suddivisione quota RUP ",2150.8000000000002,5.3E-3,2150.8000000000002]
["MC",2023,1273," 49 DEL 22-03-2023","9725664FD0","affidamento di servizi applicativi in ottica cloud",null,null,29275823,556240.64000000001,444992.51,111248.13,null,null,"Suddivisione quota RUP ",2454.1999999999998,5.4999999999999997E-3,2454.1999999999998]
["MC",2023,1273," 49 DEL 22-03-2023","9725664FD0","affidamento di servizi applicativi in ottica cloud",null,null,29275823,556240.64000000001,444992.51,111248.13,null,null,"Suddivisione quota RUP ",2454.1999999999998,5.4999999999999997E-3,2454.1999999999998]
["MC",2023,1273," 49 DEL 22-03-2023","9725664FD0","affidamento di servizi applicativi in ottica cloud",null,null,29275823,556240.64000000001,444992.51,111248.13,null,null,"Suddivisione quota RUP ",2454.1999999999998,5.4999999999999997E-3,2454.1999999999998]
["MC",2023,1273," 49 DEL 22-03-2023","9725664FD0","affidamento di servizi applicativi in ottica cloud",null,null,29275823,556240.64000000001,444992.51,111248.13,null,null,"Suddivisione quota RUP ",2150.8000000000002,5.3E-3,2150.8000000000002]
["MC",2023,1273," 49 DEL 22-03-2023","9725664FD0","affidamento di servizi applicativi in ottica cloud",null,null,29275823,556240.64000000001,444992.51,111248.13,null,null,"Suddivisione quota RUP ",2454.1999999999998,5.4999999999999997E-3,2454.1999999999998]
["MC",2023,1273," 49 DEL 22-03-2023","9725664FD0","affidamento di servizi applicativi in ottica cloud",null,null,29275823,556240.64000000001,444992.51,111248.13,null,null,"Suddivisione quota RUP ",2454.1999999999998,5.4999999999999997E-3,2454.1999999999998]
["MC",2023,1273," 49 DEL 22-03-2023","9725664FD0","affidamento di servizi applicativi in ottica cloud",null,null,29275823,556240.64000000001,444992.51,111248.13,null,null,"Suddivisione quota RUP ",2454.1999999999998,5.4999999999999997E-3,2454.1999999999998]
["MC",2023,1273," 49 DEL 22-03-2023","9725664FD0","affidamento di servizi applicativi in ottica cloud",null,null,29275823,556240.64000000001,444992.51,111248.13,null,null,"Suddivisione quota RUP ",2150.8000000000002,{"$f":"8%/15","v":5.3E-3},2150.8000000000002]
["MC",2023,1273," 49 DEL 22-03-2023","9725664FD0","affidamento di servizi applicativi in ottica cloud",null,null,29275823,556240.64000000001,444992.51,111248.13,null,null,"Suddivisione quota RUP ",2150.8000000000002,5.3E-3,2150.8000000000002]
["MC",2023,1273," 49 DEL 22-03-2023","9725664FD0","affidamento di servizi applicativi in ottica cloud",null,null,29275823,556240.64000000001,444992.51,111248.13,null,null,"Collaboratore RUP Aff.",889.99,{"$f":"3%/15","v":2E-3},889.99]
["MC",2023,1273," 49 DEL 22-03-2023","9725664FD0","affidamento di servizi applicativi in ottica cloud",null,null,29275823,556240.64000000001,444992.51,111248.13,null,null,"Collaboratore RUP Aff.",889.98,{"$f":"3%/15","v":2E-3},889.98]
["MC",2023,1273," 49 DEL 22-03-2023","9725664FD0","affidamento di servizi applicativi in ottica cloud",null,null,29275823,556240.64000000001,444992.51,111248.13,null,null,"Collaboratore RUP Aff.",889.99,2E-3,889.99]
["MC",2023,1273," 49 DEL 22-03-2023","9725664FD0","affidamento di servizi applicativi in ottica cloud",null,null,29275823,556240.64000000001,444992.51,111248.13,null,null,"Collaboratore RUP Aff.",889.98,2E-3,889.98]
["MC",2023,1273," 49 DEL 22-03-2023","9725664FD0","affidamento di servizi applicativi in ottica cloud",null,null,29275823,556240.64000000001,444992.51,111248.13,null,null,"Collaboratore RUP Aff.",889.98,2E-3,889.98]
["MC",2023,1273," 49 DEL 22-03-2023","9725664FD0","affidamento di servizi applicativi in ottica cloud",null,null,29275823,556240.64000000001,444992.51,111248.13,null,null,"Collaboratore RUP Aff.",889.98,2E-3,889.98]
["MC",2023,1273," 49 DEL 22-03-2023","9725664FD0","affidamento di servizi applicativi in ottica cloud",null,null,29275823,556240.64000000001,444992.51,111248.13,null,null,"Collaboratore RUP Aff.",889.98,2E-3,889.98]
["MC",2023,1273," 49 DEL 22-03-2023","9725664FD0","affidamento di servizi applicativi in ottica cloud",null,null,29275823,556240.64000000001,444992.51,111248.13,null,null,"Collaboratore RUP Aff.",889.99,2E-3,889.99]
["MC",2023,1273," 49 DEL 22-03-2023","9725664FD0","affidamento di servizi applicativi in ottica cloud",null,null,29275823,556240.64000000001,444992.51,111248.13,null,null,"Collaboratore RUP Aff.",889.98,2E-3,889.98]
["MC",2023,1273," 49 DEL 22-03-2023","9725664FD0","affidamento di servizi applicativi in ottica cloud",null,null,29275823,556240.64000000001,444992.51,111248.13,null,null,"Collaboratore RUP Aff.",889.99,2E-3,889.99]
["MC",2023,1273," 49 DEL 22-03-2023","9725664FD0","affidamento di servizi applicativi in ottica cloud",null,null,29275823,556240.64000000001,444992.51,111248.13,null,null,"Collaboratore RUP Aff.",889.99,2E-3,889.99]
["MC",2023,1273," 49 DEL 22-03-2023","9725664FD0","affidamento di servizi applicativi in ottica cloud",null,null,29275823,556240.64000000001,444992.51,111248.13,null,null,"Collaboratore RUP Aff.",889.99,2E-3,889.99]
["MC",2023,1273," 49 DEL 22-03-2023","9725664FD0","affidamento di servizi applicativi in ottica cloud",null,null,29275823,556240.64000000001,444992.51,111248.13,null,null,"Collaboratore RUP Aff.",889.99,2E-3,889.99]
["MC",2023,1273," 49 DEL 22-03-2023","9725664FD0","affidamento di servizi applicativi in ottica cloud",null,null,29275823,556240.64000000001,444992.51,111248.13,null,null,"Collaboratore RUP Aff.",889.99,2E-3,889.99]
["MC",2023,1273," 49 DEL 22-03-2023","9725664FD0","affidamento di servizi applicativi in ottica cloud",null,null,29275823,556240.64000000001,444992.51,111248.13,null,null,"Collaboratore RUP Aff.",889.99,2E-3,889.99]
["GC",2023,1273,"n.20 del 30.01.2023","9630286B67","Consulenza progettuale a consumo per prodotti Oracle","2023-03-27","2024-03-26",197600,{"$f":"+I108*2/100","v":3952},{"$f":"+J108*0.8","v":3161.6},{"$f":"+J108*0.2","v":790.4},{"$f":"+R108+R109+R110+R111+R112","v":980.1},{"$f":"+P108+P110+P111+P112+P109","v":980.1},"Inc. Pred. Doc",{"$f":"+K108*Q108","v":158.08000000000001},0.05,{"$f":"ROUND(P108,2)","v":158.08000000000001},null,null,null,null,null,0]
["GC",2023,1273,"n.20 del 30.01.2023","9630286B67","consulenza progettuale a consumo per prodotti Oracle","2023-03-27","2024-03-26",197600,{"$f":"+I109*2/100","v":3952},3161.6,790.4,null,null,"Coll. Inc. Pred. Doc",{"$f":"+K109*Q109","v":205.5},6.5000000000000002E-2,{"$f":"ROUND(P109,2)","v":205.5}]
["GC",2023,1273,"n.20 del 30.01.2023","9630286B67","Consulenza progettuale a consumo per prodotti Oracle","2023-03-27","2024-03-26",197600,3952,3161.6,790.4,null,null,"Coll. Inc. Pred. Doc",{"$f":"+K110*Q110","v":110.66},3.5000000000000003E-2,110.66]
["GC",2023,1273,"n.20 del 30.01.2023","9630286B67","Consulenza progettuale a consumo per prodotti Oracle","2023-03-27","2024-03-26",197600,3952,3161.6,790.4,null,null,"RUP Affidamento",{"$f":"+K111*Q111","v":316.16000000000003},0.1,316.16000000000003]
["GC",2023,1273,"n.20 del 30.01.2023","9630286B67","Consulenza progettuale a consumo per prodotti Oracle","2023-03-27","2024-03-26",197600,3952,3161.6,790.4,null,null,"Coll RUP Aff.",{"$f":"+K112*Q112","v":189.7},0.06,189.7]
["GC",2023,1273," n.53 del 30.03.2023 ",9719236745,"supporto tecnico di manutenzione ordinaria Oracle","2023-05-07","2024-05-06",166404.4,{"$f":"+I113*2/100","v":3328.09},{"$f":"+J113*0.8","v":2662.47},{"$f":"+J113*0.2","v":665.62},{"$f":"+R113+R114+R115+R116+R117","v":825.37},{"$f":"+P113+P115+P116+P117+P114","v":825.37},"Inc. Pred. Doc",{"$f":"+K113*Q113","v":133.12},0.05,{"$f":"ROUND(P113,2)","v":133.12},null,null,null,null,null,0]
["GC",2023,1273," n.53 del 30.03.2023 ",9719236745,"supporto tecnico di manutenzione ordinaria Oracle","2023-05-07","2024-05-06",166404.4,{"$f":"+I114*2/100","v":3328.09},2662.47,665.62,null,null,"Coll. Inc. Pred. Doc",{"$f":"+K114*Q114","v":173.06},6.5000000000000002E-2,{"$f":"ROUND(P114,2)","v":173.06}]
["GC",2023,1273," n.53 del 30.03.2023 ",9719236745,"supporto tecnico di manutenzione ordinaria Oracle","2023-05-07","2024-05-06",166404.4,3328.09,2662.47,665.62,null,null,"Coll. Inc. Pred. Doc",{"$f":"+K115*Q115","v":93.19},3.5000000000000003E-2,93.19]
["GC",2023,1273," n.53 del 30.03.2023 ",9719236745,"supporto tecnico di manutenzione ordinaria Oracle","2023-05-07","2024-05-06",166404.4,3328.09,2662.47,665.62,null,null,"RUP Affidamento",{"$f":"+K116*Q116","v":266.25},0.1,266.25]
["GC",2023,1273," n.53 del 30.03.2023 ",9719236745,"supporto tecnico di manutenzione ordinaria Oracle","2023-05-07","2024-05-06",166404.4,3328.09,2662.47,665.62,null,null,"Coll RUP Aff.",{"$f":"+K117*Q117","v":159.75},0.06,159.75]
["LC",2023,1273,"DETERMINA N. n. 86 del 23/05/2023",9840027728,"Oracle CLOUD Infrastructure","6 mesi dal verbale di avvio ",null,138998,{"$f":"+I118*2%","v":2779.96},{"$f":"+J118*0.8","v":2223.9699999999998},{"$f":"+J118*0.2","v":555.99},{"$f":"+R118+R119+R120+R121+R122","v":689.43},{"$f":"+P118+P119+P120+P121+P122+0.01","v":689.44},"Inc. Pred. Doc",{"$f":"+K118*Q118","v":111.2},0.05,{"$f":"ROUND(P118,2)","v":111.2},null,null,null,null,null,0]
["LC",2023,1273,"DETERMINA N. n. 86 del 23/05/2023",9840027728,"Oracle CLOUD Infrastructure","6 mesi dal verbale di avvio ",null,138998,{"$f":"+I119*2%","v":2779.96},{"$f":"+J119*0.8","v":2223.9699999999998},{"$f":"+J119*0.2","v":555.99},null,null,"Coll. Inc. Pred. Doc",144.55000000000001,6.5000000000000002E-2,{"$f":"ROUND(P119,2)","v":144.55000000000001}]
["LC",2023,1273,"DETERMINA N. n. 86 del 23/05/2023",9840027728,"Oracle CLOUD Infrastructure","6 mesi dal verbale di avvio ",null,138998,2779.96,2223.9699999999998,555.99,null,null,"Coll. Inc. Pred. Doc",{"$f":"+K120*Q120","v":77.84},3.5000000000000003E-2,77.84]
["LC",2023,1273,"DETERMINA N. n. 86 del 23/05/2023",9840027728,"Oracle CLOUD Infrastructure","6 mesi dal verbale di avvio ",null,138998,2779.96,2223.9699999999998,555.99,null,null,"RUP Affidamento",{"$f":"+K121*Q121","v":222.4},0.1,222.4]
["LC",2023,1273,"DETERMINA N. n. 86 del 23/05/2023",9840027728,"Oracle CLOUD Infrastructure","6 mesi dal verbale di avvio ",null,138998,{"$f":"+I122*2%","v":2779.96},{"$f":"+J122*0.8","v":2223.9699999999998},{"$f":"+J122*0.2","v":555.99},null,null,"Coll RUP Aff.",{"$f":"+K122*Q122","v":133.44},0.06,133.44]
["ML",2023,1273,"82 DEL 10/05/2023","Z843B1A8CD","Materiale informatico ","2023-05-01","2024-05-01",11000,{"$f":"+I123*0.02","v":220},{"$f":"+J123*0.8","v":176},{"$f":"+J123*0.2","v":44},{"$f":"+R123+R124+R125+R126","v":54.56},{"$f":"+P123+P124+P125+P126","v":54.56},"Inc. Pred. Doc",{"$f":"+K123*Q123","v":8.8000000000000007},0.05,{"$f":"ROUND(P123,2)","v":8.8000000000000007},null,null,null,null,null,0]
["ML",2023,1273,"82 DEL 10/05/2023","Z843B1A8CD","Materiale informatico","2023-05-01","2024-05-01",11000,220,176,44,null,null,"Coll. Inc. Pred. Doc",{"$f":"+K124*Q124","v":17.600000000000001},0.1,17.600000000000001]
["ML",2023,1273,"82 DEL 10/05/2023","Z843B1A8CD","Materiale informatico ","2023-05-01","2024-05-01",11000,220,176,44,null,null,"RUP Affidamento",{"$f":"+K125*Q125","v":17.600000000000001},0.1,17.600000000000001]
["ML",2023,1273,"82 DEL 10/05/2023","Z843B1A8CD","Materiale informatico ","2023-05-01","2024-05-01",11000,220,176,44,null,null,"Coll RUP Aff.",{"$f":"+K126*Q126","v":10.56},0.06,10.56]
["ML",2023,1273,"110 DEL 14/06/2023","ZBA3B8ACDE","Red Hat","2023-06-01","2026-06-01",15300,{"$f":"+I127*0.02","v":306},{"$f":"+J127*0.8","v":244.8},{"$f":"+J127*0.2","v":61.2},{"$f":"+R127+R128+R129+R130","v":75.89},{"$f":"+P127+P128+P129+P130","v":75.89},"Inc. Pred. Doc",{"$f":"+K127*Q127","v":12.24},0.05,12.24,null,null,null,null,null,0]
["ML",2023,1273,"110 DEL 14/06/2023","ZBA3B8ACDE","Red Hat","2023-06-01","2026-06-01",15300,306,244.8,61.2,null,null,"Coll. Inc. Pred. Doc",{"$f":"+K128*Q128","v":24.48},0.1,24.48]
["ML",2023,1273,"110 DEL 14/06/2023","ZBA3B8ACDE","Red Hat","2023-06-01","2026-06-01",15300,306,244.8,61.2,null,null,"RUP Affidamento",{"$f":"+K129*Q129","v":24.48},0.1,24.48]
["ML",2023,1273,"110 DEL 14/06/2023","ZBA3B8ACDE","Red Hat","2023-06-01","2026-06-01",15300,306,244.8,61.2,null,null,"Coll RUP Aff.",{"$f":"+K130*Q130","v":14.69},0.06,14.69]
["ML",2023,1273,"118 DEL 21/06/2023","9906093E89","Azure Monetary Commit","2023-07-01","2026-07-01",138500,{"$f":"+I131*0.02","v":2770},{"$f":"+J131*0.8","v":2216},{"$f":"+J131*0.2","v":554},{"$f":"+R131+R132+R133+R134+R135","v":686.96},{"$f":"+P131+P132+P133+P134+P135","v":686.96},"Inc. Pred. Doc",{"$f":"+K131*Q131","v":110.8},0.05,110.8,null,null,null,null,null,0]
["ML",2023,1273,"118 DEL 21/06/2023","9906093E89","Azure Monetary Commit","2023-07-01","2026-07-01",138500,2770,2216,554,null,null,"Coll. Inc. Pred. Doc",{"$f":"+K132*Q132","v":144.04},6.5000000000000002E-2,{"$f":"ROUND(P132,2)","v":144.04}]
["ML",2023,1273,"118 DEL 21/06/2023","9906093E89","Azure Monetary Commit","2023-07-01","2026-07-01",138500,2770,2216,554,null,null,"Coll. Inc. Pred. Doc",{"$f":"+K133*Q133","v":77.56},3.5000000000000003E-2,77.56]
["ML",2023,1273,"118 DEL 21/06/2023","9906093E89","Azure Monetary Commit","2023-07-01","2026-07-01",138500,2770,2216,554,null,null,"RUP Affidamento",{"$f":"+K134*Q134","v":221.6},0.1,221.6]
["ML",2023,1273,"118 DEL 21/06/2023","9906093E89","Azure Monetary Commit","2023-07-01","2026-07-01",138500,{"$f":"+I135*0.02","v":2770},{"$f":"+J135*0.8","v":2216},{"$f":"+J135*0.2","v":554},null,null,"Coll RUP Aff.",{"$f":"+K135*Q135","v":132.96},0.06,132.96]
["MT",2023,1273,"47 del 20/3/2023","9715229C95","Comvault","2023-06-29","2026-06-28",132000,2640,2112,528,{"$f":"+R136+R137+R138+R139+R140","v":654.72},{"$f":"+R136+R137+R138+R139+R140","v":654.72},"Inc. Pred. Doc",{"$f":"+K136*Q136","v":105.6},0.05,{"$f":"ROUND(P136,2)","v":105.6},null,null,null,null,null,0]
["MT",2023,1273,"47 del 20/3/2023","9715229C95","Comvault","2023-06-29","2026-06-28",132000,2640,2112,528,null,null,"Coll. Inc. Pred. Doc",{"$f":"+K137*Q137","v":137.28},6.5000000000000002E-2,{"$f":"ROUND(P137,2)","v":137.28}]
["MT",2023,1273,"47 del 20/3/2023","9715229C95","Comvault","2023-06-29","2026-06-28",132000,2640,2112,528,null,null,"Coll. Inc. Pred. Doc",{"$f":"+K138*Q138","v":73.92},3.5000000000000003E-2,73.92]
["MT",2023,1273,"47 del 20/3/2023","9715229C95","Comvault","2023-06-29","2026-06-28",132000,2640,2112,528,null,null,"RUP Affidamento",{"$f":"+K139*Q139","v":211.2},0.1,211.2]
["MT",2023,1273,"47 del 20/3/2023","9715229C95","Comvault","2023-06-29","2026-06-28",132000,2640,2112,528,null,null,"Coll RUP Aff.",{"$f":"+K140*Q140","v":126.72},0.06,126.72]
["MC",2023,1273,"115 DEL 15/06/2023",9884791395,"adesione convenzione licenze microsoft","2023-07-01","2026-06-30",3553687.44,{"$f":"+I141*1.9/100","v":67520.06},54016.05,13504.01,{"$f":"SUM(R141:R157)","v":7562.24},7562.24,"Inc. Pred. Doc",{"$f":"+K141*Q141","v":270.08},5.0000000000000001E-3,{"$f":"ROUND(P141,2)","v":270.08},null,null,null,null,null,0]
["MC",2023,1273,"115 DEL 15/06/2023",9884791395,"adesione convenzione licenze microsoft","2023-07-01","2026-06-30",3553687.44,{"$f":"+I142*1.9/100","v":67520.06},54016.05,13504.01,null,null,"Inc. Pred. Doc",{"$f":"+K142*Q142","v":270.08},5.0000000000000001E-3,{"$f":"ROUND(P142,2)","v":270.08}]
["MC",2023,1273,"115 DEL 15/06/2023",9884791395,"adesione convenzione licenze microsoft","2023-07-01","2026-06-30",3553687.44,67520.06,54016.05,13504.01,null,null,"Inc. Pred. Doc",{"$f":"+K143*Q143","v":270.08},5.0000000000000001E-3,270.08]
["MC",2023,1273,"115 DEL 15/06/2023",9884791395,"adesione convenzione licenze microsoft","2023-07-01","2026-06-30",3553687.44,67520.06,54016.05,13504.01,null,null,"Inc. Pred. Doc",{"$f":"+K144*Q144","v":270.08},5.0000000000000001E-3,270.08]
["MC",2023,1273,"115 DEL 15/06/2023",9884791395,"adesione convenzione licenze microsoft","2023-07-01","2026-06-30",3553687.44,67520.06,54016.05,13504.01,null,null,"Coll. Inc. Pred. Doc",{"$f":"+K145*Q145","v":135.04},2.5000000000000001E-3,135.04]
["MC",2023,1273,"115 DEL 15/06/2023",9884791395,"adesione convenzione licenze microsoft","2023-07-01","2026-06-30",3553687.44,67520.06,54016.05,13504.01,null,null,"Coll. Inc. Pred. Doc",{"$f":"+K146*Q146","v":135.04},2.5000000000000001E-3,135.04]
["MC",2023,1273,"115 DEL 15/06/2023",9884791395,"adesione convenzione licenze microsoft","2023-07-01","2026-06-30",3553687.44,67520.06,54016.05,13504.01,null,null,"Coll. Inc. Pred. Doc",{"$f":"+K147*Q147","v":135.04},2.5000000000000001E-3,135.04]
["MC",2023,1273,"115 DEL 15/06/2023",9884791395,"adesione convenzione licenze microsoft","2023-07-01","2026-06-30",3553687.44,67520.06,54016.05,13504.01,null,null,"Coll. Inc. Pred. Doc",{"$f":"+K148*Q148","v":135.04},2.5000000000000001E-3,135.04]
["MC",2023,1273,"115 DEL 15/06/2023",9884791395,"adesione convenzione licenze microsoft","2023-07-01","2026-06-30",3553687.44,67520.06,54016.05,13504.01,null,null,"RUP Affidamento",0,0.08,0]
["MC",2023,1273,"115 DEL 15/06/2023",9884791395,"adesione convenzione licenze microsoft","2023-07-01","2026-06-30",3553687.44,67520.06,54016.05,13504.01,null,null,"Suddivisione quota RUP ",{"$f":"+K150*Q150","v":1080.32},0.02,1080.32]
["MC",2023,1273,"115 DEL 15/06/2023",9884791395,"adesione convenzione licenze microsoft","2023-07-01","2026-06-30",3553687.44,67520.06,54016.05,13504.01,null,null,"Suddivisione quota RUP ",{"$f":"+K151*Q151","v":1080.32},0.02,1080.32]
["MC",2023,1273,"115 DEL 15/06/2023",9884791395,"adesione convenzione licenze microsoft","2023-07-01","2026-06-30",3553687.44,67520.06,54016.05,13504.01,null,null,"Suddivisione quota RUP ",{"$f":"+K152*Q152","v":1080.32},0.02,1080.32]
["MC",2023,1273,"115 DEL 15/06/2023",9884791395,"adesione convenzione licenze microsoft","2023-07-01","2026-06-30",3553687.44,67520.06,54016.05,13504.01,null,null,"Suddivisione quota RUP ",{"$f":"+K153*Q153","v":1080.32},0.02,1080.32]
["MC",2023,1273,"115 DEL 15/06/2023",9884791395,"adesione convenzione licenze microsoft","2023-07-01","2026-06-30",3553687.44,67520.06,54016.05,13504.01,null,null,"Collaboratore RUP Aff.",{"$f":"+K154*Q154","v":405.12},7.4999999999999997E-3,405.12]
["MC",2023,1273,"115 DEL 15/06/2023",9884791395,"adesione convenzione licenze microsoft","2023-07-01","2026-06-30",3553687.44,67520.06,54016.05,13504.01,null,null,"Collaboratore RUP Aff.",{"$f":"+K155*Q155","v":405.12},7.4999999999999997E-3,405.12]
["MC",2023,1273,"115 DEL 15/06/2023",9884791395,"adesione convenzione licenze microsoft","2023-07-01","2026-06-30",3553687.44,67520.06,54016.05,13504.01,null,null,"Collaboratore RUP Aff.",{"$f":"+K156*Q156","v":405.12},7.4999999999999997E-3,405.12]
["MC",2023,1273,"115 DEL 15/06/2023",9884791395,"adesione convenzione licenze microsoft","2023-07-01","2026-06-30",3553687.44,67520.06,54016.05,13504.01,null,null,"Collaboratore RUP Aff.",{"$f":"+K157*Q157","v":405.12},7.4999999999999997E-3,405.12]
["MP",2023,1273,"119 DEL 21-06-2023",9905447972,"Cybersecurity 2","2023-07-01","2025-06-30",411672,{"$f":"+I158*1.9/100","v":7821.77},6257.42,1564.35,{"$f":"+R158+R159+R160+R161","v":876.03},876.03,"Inc. Pred. Doc",{"$f":"+K158*Q158","v":125.15},0.02,{"$f":"ROUND(P158,2)","v":125.15},null,null,null,null,null,0]
["MP",2023,1273,"119 DEL 21-06-2023",9905447972,"Cybersecurity 2","2023-07-01","2025-06-30",411672,{"$f":"+I159*1.9/100","v":7821.77},6257.42,1564.35,null,null,"Coll. Inc. Pred. Doc",{"$f":"+K159*Q159","v":62.57},0.01,{"$f":"ROUND(P159,2)","v":62.57}]
["MP",2023,1273,"119 DEL 21-06-2023",9905447972,"Cybersecurity 2","2023-07-01","2025-06-30",411672,{"$f":"+I160*1.9/100","v":7821.77},6257.42,1564.35,null,null,"RUP Affidamento",{"$f":"+K160*Q160","v":500.59},0.08,500.59]
["MP",2023,1273,"119 DEL 21-06-2023",9905447972,"Cybersecurity 2","2023-07-01","2025-06-30",411672,{"$f":"+I161*1.9/100","v":7821.77},6257.42,1564.35,null,null,"Coll RUP Aff.",{"$f":"+K161*Q161","v":187.72},0.03,187.72]
["LC",2022,1273,"DETERMINA N. n. 203 del 12/12/2022","95381602A2","servizio di consultazione di durata biennale di banche dati giuridiche","24 mesi dal 28/02/2023",null,380000,{"$f":"+I162*1.9%","v":7220},{"$f":"+J162*0.8","v":5776},{"$f":"+J162*0.2","v":1444},{"$f":"+R162+R163+R164+R165+R166","v":1790.56},1790.56,"Inc. Pred. Doc",{"$f":"+K162*Q162","v":288.8},0.05,{"$f":"ROUND(P162,2)","v":288.8},null,null,null,null,null,0]
["LC",2022,1273,"DETERMINA N. n. 203 del 12/12/2022","95381602A2","servizio di consultazione di durata biennale di banche dati giuridiche",null,null,380000,{"$f":"+I163*1.9%","v":7220},{"$f":"+J163*0.8","v":5776},{"$f":"+J163*0.2","v":1444},null,null,"Coll. Inc. Pred. Doc",{"$f":"+K163*Q163","v":375.44},6.5000000000000002E-2,{"$f":"ROUND(P163,2)","v":375.44}]
["LC",2022,1273,"DETERMINA N. n. 203 del 12/12/2022","95381602A2","servizio di consultazione di durata biennale di banche dati giuridiche",null,null,380000,7220,5776,1444,null,null,"Coll. Inc. Pred. Doc",{"$f":"+K164*Q164","v":202.16},3.5000000000000003E-2,202.16]
["LC",2022,1273,"DETERMINA N. n. 203 del 12/12/2022","95381602A2","servizio di consultazione di durata biennale di banche dati giuridiche",null,null,380000,7220,5776,1444,null,null,"RUP Affidamento",{"$f":"+K165*Q165","v":577.6},0.1,577.6]
["LC",2022,1273,"DETERMINA N. n. 203 del 12/12/2022","95381602A2","servizio di consultazione di durata biennale di banche dati giuridiche",null,null,380000,7220,5776,1444,null,null,"Coll RUP Aff.",{"$f":"+K166*Q166","v":346.56},0.06,346.56]
["LC",2022,1273,"DETERMINA N. n. 214 del 20/12/2022","95585236B5","Servizi di Cloud Computing","6 mesi dal 01/02/2023",null,329087.61,{"$f":"+I167*1.9%","v":6252.66},{"$f":"+J167*0.8","v":5002.13},{"$f":"+J167*0.2","v":1250.53},{"$f":"+R167+R168+R169+R170+R171","v":1550.66},{"$f":"+P167+P168+P169+P171+P170","v":1550.66},"Inc. Pred. Doc",{"$f":"+K167*Q167","v":250.11},0.05,{"$f":"ROUND(P167,2)","v":250.11}]
["LC",2022,1273,"DETERMINA N. n. 214 del 20/12/2022","95585236B5","Servizi di Cloud Computing",null,null,329087.61,{"$f":"+I168*1.9%","v":6252.66},{"$f":"+J168*0.8","v":5002.13},{"$f":"+J168*0.2","v":1250.53},null,null,"Coll. Inc. Pred. Doc",{"$f":"+K168*Q168","v":325.14},6.5000000000000002E-2,{"$f":"ROUND(P168,2)","v":325.14}]
["LC",2022,1273,"DETERMINA N. n. 214 del 20/12/2022","95585236B5","Servizi di Cloud Computing",null,null,329087.61,6252.66,5002.13,1250.53,null,null,"Coll. Inc. Pred. Doc",{"$f":"+K169*Q169","v":175.07},3.5000000000000003E-2,175.07]
["LC",2022,1273,"DETERMINA N. n. 214 del 20/12/2022","95585236B5","Servizi di Cloud Computing",null,null,329087.61,6252.66,5002.13,1250.53,null,null,"RUP Affidamento",{"$f":"+K170*Q170","v":500.21},0.1,500.21]
["LC",2022,1273,"DETERMINA N. n. 214 del 20/12/2022","95585236B5","Servizi di Cloud Computing",null,null,329087.61,6252.66,5002.13,1250.53,null,null,"Coll RUP Aff.",{"$f":"+K171*Q171","v":300.13},0.06,300.13]
["CQ",2023,4250,"23 DEL 08-02-2023","9635852C9C","STARTWEB","2023-03-01","2023-12-31",30000,{"$f":"+I172*0.02","v":600},{"$f":"+J172*0.8","v":480},{"$f":"+J172*0.2","v":120},148.80000000000001,{"$f":"+R172+R173+R174+R175","v":148.80000000000001},"Inc. Pred. Doc",{"$f":"+K172*Q172","v":24},0.05,{"$f":"ROUND(P172,2)","v":24},null,null,null,null,null,0]
["CQ",2023,4250,"23 DEL 08-02-2023","9635852C9C","STARTWEB","2023-03-01","2023-12-31",30000,{"$f":"+I173*0.02","v":600},{"$f":"+J173*0.8","v":480},{"$f":"+J173*0.2","v":120},null,null,"Coll. Inc. Pred. Doc",{"$f":"+K173*Q173","v":48},0.1,{"$f":"ROUND(P173,2)","v":48}]
["CQ",2023,4250,"23 DEL 08-02-2023","9635852C9C","STARTWEB","2023-03-01","2023-12-31",30000,600,480,120,null,null,"RUP Affidamento",{"$f":"+K174*Q174","v":48},0.1,48]
["CQ",2023,4250,"23 DEL 08-02-2023","9635852C9C","STARTWEB","2023-03-01","2023-12-31",30000,600,480,120,null,null,"Coll RUP Aff.",{"$f":"+K175*Q175","v":28.8},0.06,28.8]
["MT",2023,4250,"104 del 06/06/2023","Z403B68D29","acquisto stampanti","2023-06-14","2028-06-13",4860,97.2,77.760000000000005,19.440000000000001,{"$f":"+R176+R177+R178+R179","v":10.89},{"$f":"+P176+P177+P178+P179","v":10.89},"Inc. Pred. Doc",{"$f":"+K176*Q176","v":1.56},0.02,{"$f":"ROUND(P176,2)","v":1.56},null,null,null,null,null,0]
["MT",2023,4250,"104 del 06/06/2023","Z403B68D29","acquisto stampanti","2023-06-14","2028-06-13",4860,97.2,77.760000000000005,19.440000000000001,null,null,"Coll. Inc. Pred. Doc",{"$f":"+K177*Q177","v":0.78},0.01,{"$f":"ROUND(P177,2)","v":0.78}]
["MT",2023,4250,"104 del 06/06/2023","Z403B68D29","acquisto stampanti","2023-06-14","2028-06-13",4860,97.2,77.760000000000005,19.440000000000001,null,null,"RUP Affidamento",{"$f":"+K178*Q178","v":6.22},0.08,6.22]
["MT",2023,4250,"104 del 06/06/2023","Z403B68D29","acquisto stampanti","2023-06-14","2028-06-13",4860,97.2,77.760000000000005,19.440000000000001,null,null,"Coll RUP Aff.",{"$f":"+K179*Q179","v":2.33},0.03,2.33]
["MT",2023,4250,"105 del 06/06/2023","Z3D3B6C72E ","acquisto stampanti magistrati","2023-07-05","2028-06-04",19900,{"$f":"+I180*0.02","v":398},{"$f":"+J180*0.8","v":318.39999999999998},{"$f":"+J180*0.2","v":79.599999999999994},{"$f":"+R180+R181+R182+R183","v":98.7},{"$f":"+P180+P181+P182+P183","v":98.7},"Inc. Pred. Doc",{"$f":"+K180*Q180","v":15.92},0.05,{"$f":"ROUND(P180,2)","v":15.92},null,null,null,null,null,0]
["MT",2023,4250,"105 del 06/06/2023","Z3D3B6C72E ","acquisto stampanti magistrati","2023-07-05","2028-06-04",19900,398,318.39999999999998,79.599999999999994,null,null,"Coll. Inc. Pred. Doc",{"$f":"+K181*Q181","v":31.84},0.1,{"$f":"ROUND(P181,2)","v":31.84}]
["MT",2023,4250,"105 del 06/06/2023","Z3D3B6C72E ","acquisto stampanti magistrati","2023-07-05","2028-06-04",19900,398,318.39999999999998,79.599999999999994,null,null,"RUP Affidamento",{"$f":"+K182*Q182","v":31.84},0.1,31.84]
["MT",2023,4250,"105 del 06/06/2023","Z3D3B6C72E ","acquisto stampanti magistrati","2023-07-05","2028-06-04",19900,398,318.39999999999998,79.599999999999994,null,null,"Coll RUP Aff.",{"$f":"+K183*Q183","v":19.100000000000001},0.06,19.100000000000001]
["MT",2023,4250,"56 del 06/04/2023","97621236BE","storage CED","2023-09-01","2026-08-31",214560,4291.2,3432.96,858.24,{"$f":"+R184+R185+R186+R187+R188","v":1064.22},{"$f":"+R184+R185+R186+R187+R188","v":1064.22},"Inc. Pred. Doc",{"$f":"+K184*Q184","v":171.65},0.05,{"$f":"ROUND(P184,2)","v":171.65},null,null,null,null,null,0]
["MT",2023,4250,"56 del 06/04/2023","97621236BE","storage CED","2023-09-01","2026-08-31",214560,4291.2,3432.96,858.24,null,null,"Coll. Inc. Pred. Doc",{"$f":"+K185*Q185","v":223.14},6.5000000000000002E-2,{"$f":"ROUND(P185,2)","v":223.14}]
["MT",2023,4250,"56 del 06/04/2023","97621236BE","storage CED","2023-09-01","2026-08-31",214560,4291.2,3432.96,858.24,null,null,"Coll. Inc. Pred. Doc",{"$f":"+K186*Q186","v":120.15},3.5000000000000003E-2,120.15]
["MT",2023,4250,"56 del 06/04/2023","97621236BE","storage CED","2023-09-01","2026-08-31",214560,4291.2,3432.96,858.24,null,null,"RUP Affidamento",{"$f":"+K187*Q187","v":343.3},0.1,343.3]
["MT",2023,4250,"56 del 06/04/2023","97621236BE","storage CED","2023-09-01","2026-08-31",214560,4291.2,3432.96,858.24,null,null,"Coll RUP Aff.",{"$f":"+K188*Q188","v":205.98},0.06,205.98]
["CQ",2022,1295,"10 del 20/01/2022","906878454D ","Servizio di pulizia presso le sedi del CDS (solo esecuzione)","2022-07-01","2023-03-31",214900,4298,3438.4,859.6,773.64,{"$f":"+P189+P190+P191+P192+P193+P194+P195+P196","v":773.64},"RUP esecuzione",{"$f":"+(K189*Q189)/5*3","v":361.03},0.17499999999999999,{"$f":"ROUND(P189,2)","v":361.03},null,null,null,2664.76,773.64,0]
["CQ",2022,1295,"10 del 20/01/2022","906878454D ","Servizio di pulizia presso le sedi del CDS (solo esecuzione)","2022-07-01","2023-03-31",214900,{"$f":"+I190*0.02","v":4298},{"$f":"+J190*0.8","v":3438.4},{"$f":"+J190*0.2","v":859.6},null,null,"Coll. RUP esecuzione",{"$f":"+(K190*Q190)/5*3","v":30.95},1.4999999999999999E-2,{"$f":"ROUND(P190,2)","v":30.95}]
["CQ",2022,1295,"10 del 20/01/2022","906878454D ","Servizio di pulizia presso le sedi del CDS (solo esecuzione)","2022-07-01","2023-03-31",214900,4298,3438.4,859.6,null,null,"Coll. RUP esecuzione",{"$f":"+(K191*Q191)/5*3","v":30.95},1.4999999999999999E-2,30.95]
["CQ",2022,1295,"10 del 20/01/2022","906878454D ","Servizio di pulizia presso le sedi del CDS (solo esecuzione)","2022-07-01","2023-03-31",214900,4298,3438.4,859.6,null,null,"DEC",{"$f":"+(K192*Q192)/5*3","v":206.3},0.1,206.3]
["CQ",2022,1295,"10 del 20/01/2022","906878454D ","Servizio di pulizia presso le sedi del CDS (solo esecuzione)","2022-07-01","2023-03-31",214900,4298,3438.4,859.6,null,null,"Coll. DEC",{"$f":"+(K193*Q193)/5*3","v":20.63},0.01,20.63]
["CQ",2022,1295,"10 del 20/01/2022","906878454D ","Servizio di pulizia presso le sedi del CDS (solo esecuzione)","2022-07-01","2023-03-31",214900,4298,3438.4,859.6,null,null,"Coll. DEC",{"$f":"+(K194*Q194)/5*3","v":20.63},0.01,20.63]
["CQ",2022,1295,"10 del 20/01/2022","906878454D ","Servizio di pulizia presso le sedi del CDS (solo esecuzione)","2022-07-01","2023-03-31",214900,4298,3438.4,859.6,null,null,"Inc. Ver. Conf",72.2,3.5000000000000003E-2,72.2]
["CQ",2022,1295,"10 del 20/01/2022","906878454D ","Servizio di pulizia presso le sedi del CDS (solo esecuzione)","2022-07-01","2023-03-31",214900,4298,3438.4,859.6,null,null,"Coll. Inc Ver. Conf.",{"$f":"+(K196*Q196)/5*3","v":30.95},1.4999999999999999E-2,30.95]
["CQ",2022,3310,"14 del 31/10/2022","90857527bc","Servizio di facchinaggio, trasloco e trasporto per le sedi del Consiglio di Stato”  (solo esecuzione)","2022-07-16","2024-01-15",214900,{"$f":"+I197*0.02","v":4298},{"$f":"+J197*0.8","v":3438.4},{"$f":"+J197*0.2","v":859.6},1002.86,{"$f":"SUM(P197:P204)","v":1002.86},"RUP esecuzione",468,0.17499999999999999,null,null,null,null,2435.54,null,0]
["CQ",2022,3310,"14 del 31/10/2022","90857527bc","Servizio di facchinaggio, trasloco e trasporto per le sedi del Consiglio di Stato”  (solo esecuzione)","2022-07-16","2024-01-15",214900,{"$f":"+I198*0.02","v":4298},{"$f":"+J198*0.8","v":3438.4},{"$f":"+J198*0.2","v":859.6},null,null,"Coll. RUP esecuzione",40.119999999999997,1.4999999999999999E-2]
["CQ",2022,3310,"14 del 31/10/2022","90857527bc","Servizio di facchinaggio, trasloco e trasporto per le sedi del Consiglio di Stato”  (solo esecuzione)","2022-07-16","2024-01-15",214900,4298,3438.4,859.6,null,null,"Coll. RUP esecuzione",40.119999999999997,1.4999999999999999E-2]
["CQ",2022,3310,"14 del 31/10/2022","90857527bc","Servizio di facchinaggio, trasloco e trasporto per le sedi del Consiglio di Stato”  (solo esecuzione)","2022-07-16","2024-01-15",214900,{"$f":"+I200*0.02","v":4298},{"$f":"+J200*0.8","v":3438.4},{"$f":"+J200*0.2","v":859.6},null,null,"DEC",267.42,0.1]
["CQ",2022,3310,"14 del 31/10/2022","90857527bc","Servizio di facchinaggio, trasloco e trasporto per le sedi del Consiglio di Stato”  (solo esecuzione)","2022-07-16","2024-01-15",214900,4298,3438.4,859.6,null,null,"Coll. DEC",26.74,0.01]
["CQ",2022,3310,"14 del 31/10/2022","90857527bc","Servizio di facchinaggio, trasloco e trasporto per le sedi del Consiglio di Stato”  (solo esecuzione)","2022-07-16","2024-01-15",214900,4298,3438.4,859.6,null,null,"Coll. DEC",26.74,0.01]
["CQ",2022,3310,"14 del 31/10/2022","90857527bc","Servizio di facchinaggio, trasloco e trasporto per le sedi del Consiglio di Stato”  (solo esecuzione)","2022-07-16","2024-01-15",214900,4298,3438.4,859.6,null,null,"Inc. Ver. Conf",93.6,3.5000000000000003E-2]
["CQ",2022,3310,"14 del 31/10/2022","90857527bc","Servizio di facchinaggio, trasloco e trasporto per le sedi del Consiglio di Stato”  (solo esecuzione)","2022-07-16","2024-01-15",214900,4298,3438.4,859.6,null,null,"Coll. Inc Ver. Conf.",40.119999999999997,1.4999999999999999E-2]
["CQ",2022,1302,"15 del 30/01/2022","9085836D0C","Servizio di vigilanza armata presso le sedi del CDS (solo esecuzione)","2022-08-07","2023-11-06",214900,{"$f":"+I205*0.02","v":4298},{"$f":"+J205*0.8","v":3438.4},{"$f":"+J205*0.2","v":859.6},967.05,{"$f":"+P205+P206+P207+P208+P209+P210+P211+P212","v":967.05},"RUP esecuzione",451.29,0.17499999999999999,null,null,null,null,2471.35,null,0]
["CQ",2022,1302,"15 del 30/01/2022","9085836D0C","Servizio di vigilanza armata presso le sedi del CDS (solo esecuzione)","2022-08-07","2023-11-06",214900,{"$f":"+I206*0.02","v":4298},{"$f":"+J206*0.8","v":3438.4},{"$f":"+J206*0.2","v":859.6},null,null,"Coll. RUP esecuzione",38.68,1.4999999999999999E-2]
["CQ",2022,1302,"15 del 30/01/2022","9085836D0C","Servizio di vigilanza armata presso le sedi del CDS (solo esecuzione)","2022-08-07","2023-11-06",214900,4298,3438.4,859.6,null,null,"Coll. RUP esecuzione",38.68,1.4999999999999999E-2]
["CQ",2022,1302,"15 del 30/01/2022","9085836D0C","Servizio di vigilanza armata presso le sedi del CDS (solo esecuzione)","2022-08-07","2023-11-06",214900,4298,3438.4,859.6,null,null,"DEC",257.88,0.1]
["CQ",2022,1302,"15 del 30/01/2022","9085836D0C","Servizio di vigilanza armata presso le sedi del CDS (solo esecuzione)","2022-08-07","2023-11-06",214900,4298,3438.4,859.6,null,null,"Coll. DEC",25.79,0.01]
["CQ",2022,1302,"15 del 30/01/2022","9085836D0C","Servizio di vigilanza armata presso le sedi del CDS (solo esecuzione)","2022-08-07","2023-11-06",214900,4298,3438.4,859.6,null,null,"Coll. DEC",25.79,0.01]
["CQ",2022,1302,"15 del 30/01/2022","9085836D0C","Servizio di vigilanza armata presso le sedi del CDS (solo esecuzione)","2022-08-07","2023-11-06",214900,4298,3438.4,859.6,null,null,"Inc. Ver. Conf",90.26,3.5000000000000003E-2]
["CQ",2022,1302,"15 del 30/01/2022","9085836D0C","Servizio di vigilanza armata presso le sedi del CDS (solo esecuzione)","2022-08-07","2023-11-06",214900,4298,3438.4,859.6,null,null,"Coll. Inc Ver. Conf.",38.68,1.4999999999999999E-2]
["PC",2022,1302,"48 del 05/04/2022","9170096A9A","servizio di noleggio di n. 18 fotocopiatrici in adesione alla Convenzione Consip","48 MESI DALLA STIPULA",null,66214.080000000002,{"$f":"+I213*0.02","v":1324.28},1059.42,{"$f":"+J213*0.2","v":264.86},524.41999999999996,{"$f":"SUM(P213:P220)","v":163.08000000000001},"RUP esecuzione",56,0.17,null,null,null,null,535,{"$f":"+N213","v":163.08000000000001},{"$f":"+K213-V213-W213","v":361.34}]
["PC",2022,1302,"48 del 05/04/2022","9170096A9A","servizio di noleggio di n. 18 fotocopiatrici in adesione alla Convenzione Consip ",null,null,66214.080000000002,{"$f":"+I214*0.02","v":1324.28},1059.42,{"$f":"+J214*0.2","v":264.86},null,null,"Coll. RUP esecuzione",13.18,0.04]
["PC",2022,1302,"48 del 05/04/2022","9170096A9A","servizio di noleggio di n. 18 fotocopiatrici in adesione alla Convenzione Consip ",null,null,66214.080000000002,{"$f":"+I215*0.02","v":1324.28},1059.42,{"$f":"+J215*0.2","v":264.86},null,null,"Coll. RUP esecuzione",13.18,0.04]
["PC",2022,1302,"48 del 05/04/2022","9170096A9A","servizio di noleggio di n. 18 fotocopiatrici in adesione alla Convenzione Consip ",null,null,66214.080000000002,1324.28,1059.42,264.86,null,null,"DEC ",36.24,0.11]
["PC",2022,1302,"48 del 05/04/2022","9170096A9A","servizio di noleggio di n. 18 fotocopiatrici in adesione alla Convenzione Consip ",null,null,66214.080000000002,1324.28,1059.42,264.86,null,null,"Coll. DEC",10.71,3.2500000000000001E-2]
["PC",2022,1302,"48 del 05/04/2022","9170096A9A","servizio di noleggio di n. 18 fotocopiatrici in adesione alla Convenzione Consip ",null,null,66214.080000000002,1324.28,1059.42,264.86,null,null,"Coll. DEC",10.71,3.2500000000000001E-2]
["PC",2022,1302,"48 del 05/04/2022","9170096A9A","servizio di noleggio di n. 18 fotocopiatrici in adesione alla Convenzione Consip ",null,null,66214.080000000002,1324.28,1059.42,264.86,null,null,"Incaricato ver. conf.",13.18,0.04]
["PC",2022,1302,"48 del 05/04/2022","9170096A9A","servizio di noleggio di n. 18 fotocopiatrici in adesione alla Convenzione Consip ",null,null,66214.080000000002,1324.28,1059.42,264.86,null,null,"Coll. Inc. Ver. Conf",9.8800000000000008,0.03]
["PC",2020,1302,"17 del 28/1/2020","8186938AF4","Verbalizzazione udienze (SOLO ESECUZIONE) ","2020-10-20","2023-10-19",69300,{"$f":"+I221*0.02","v":1386},{"$f":"+(J221)*0.8","v":1108.8},{"$f":"+(J221)*0.2","v":277.2},350.9,{"$f":"+P221+P222+P223+P224+P225+P226+P227+P228","v":28.15},"RUP esecuzione",13.13,0.17499999999999999,null,null,693,33.43,31.47,null,{"$f":"+M221-N221","v":322.75}]
["PC",2020,1302,"17 del 28/1/2020","8186938AF4","Verbalizzazione udienze (SOLO ESECUZIONE)","2020-10-20","2023-10-19",69300,{"$f":"+I222*0.02","v":1386},{"$f":"+(J222)*0.8","v":1108.8},{"$f":"+(J222)*0.2","v":277.2},null,null,"Coll. RUP esecuzione",1.1299999999999999,1.4999999999999999E-2]
["PC",2020,1302,"17 del 28/1/2020","8186938AF4","Verbalizzazione udienze (SOLO ESECUZIONE)","2020-10-20","2023-10-19",69300,1386,1108.8,277.2,null,null,"Coll. RUP esecuzione",1.1299999999999999,1.4999999999999999E-2]
["PC",2020,1302,"17 del 28/1/2020","8186938AF4","Verbalizzazione udienze (SOLO ESECUZIONE)","2020-10-20","2023-10-19",69300,1386,1108.8,277.2,null,null,"DEC esterno",7.5,0.1]
["PC",2020,1302,"17 del 28/1/2020","8186938AF4","Verbalizzazione udienze (SOLO ESECUZIONE)","2020-10-20","2023-10-19",69300,1386,1108.8,277.2,null,null,"Coll. DEC",0.75,0.01]
["PC",2020,1302,"17 del 28/1/2020","8186938AF4","Verbalizzazione udienze (SOLO ESECUZIONE)","2020-10-20","2023-10-19",69300,1386,1108.8,277.2,null,null,"Coll. DEC",0.75,0.01]
["PC",2020,1302,"17 del 28/1/2020","8186938AF4","Verbalizzazione udienze (SOLO ESECUZIONE)","2020-10-20","2023-10-19",69300,1386,1108.8,277.2,null,null,"Inc. Ver. Conf",2.63,3.5000000000000003E-2]
["PC",2020,1302,"17 del 28/1/2020","8186938AF4","Verbalizzazione udienze (SOLO ESECUZIONE)","2020-10-20","2023-10-19",69300,1386,1108.8,277.2,null,null,"Coll. Inc Ver. Conf.",1.1299999999999999,1.4999999999999999E-2]
["PC",2021,1302,"70 del 12/05/2021","Z5531B0901"," affidamento del servizio di manutenzione di n. 11 fotocopiatrici (solo esecuzione)","48 MESI DALLA STIPULA",null,25200,{"$f":"+I229*0.02","v":504},{"$f":"+(J229)*0.8","v":403.2},{"$f":"+(J229)*0.2","v":100.8},128.66,{"$f":"+P229+P230+P231+P232+P233+P234+P235+P236","v":7.7},"RUP esecuzione",2.7,0.18,null,null,null,229.82,44.72,null,{"$f":"+M229-N229","v":120.96}]
["PC",2021,1302,"70 del 12/05/2021","Z5531B0901"," affidamento del servizio di manutenzione di n. 11 fotocopiatrici (solo esecuzione)",null,null,25200,{"$f":"+I230*0.02","v":504},{"$f":"+(J230)*0.8","v":403.2},{"$f":"+(J230)*0.2","v":100.8},null,null,"Coll. RUP esecuzione",0.6,0.02]
["PC",2021,1302,"70 del 12/05/2021","Z5531B0901"," affidamento del servizio di manutenzione di n. 11 fotocopiatrici (solo esecuzione)",null,null,25200,504,403.2,100.8,null,null,"Coll. RUP esecuzione",0.6,0.02]
["PC",2021,1302,"70 del 12/05/2021","Z5531B0901"," affidamento del servizio di manutenzione di n. 11 fotocopiatrici (solo esecuzione)",null,null,25200,504,403.2,100.8,null,null,"DEC",1.72,0.115]
["PC",2021,1302,"70 del 12/05/2021","Z5531B0901"," affidamento del servizio di manutenzione di n. 11 fotocopiatrici (solo esecuzione)",null,null,25200,504,403.2,100.8,null,null,"Coll. DEC",0.67,2.2499999999999999E-2]
["PC",2021,1302,"70 del 12/05/2021","Z5531B0901"," affidamento del servizio di manutenzione di n. 11 fotocopiatrici (solo esecuzione)",null,null,25200,504,403.2,100.8,null,null,"Coll. DEC",0.67,2.2499999999999999E-2]
["PC",2021,1302,"70 del 12/05/2021","Z5531B0901"," affidamento del servizio di manutenzione di n. 11 fotocopiatrici (solo esecuzione)",null,null,25200,504,403.2,100.8,null,null,"Inc. Ver. Conf",0.52,3.5000000000000003E-2]
["PC",2021,1302,"70 del 12/05/2021","Z5531B0901"," affidamento del servizio di manutenzione di n. 11 fotocopiatrici (solo esecuzione)",null,null,25200,504,403.2,100.8,null,null,"Coll. Inc Ver. Conf.",0.22,1.4999999999999999E-2]
["PC",2023,1302,"51 DEL 29/03/2023","Z803A94675","fornitura di cancelleria varia","10 GG DALLA STIPULA ",null,15000,{"$f":"+I237*0.02","v":300},{"$f":"+J237*0.8","v":240},{"$f":"+J237*0.2","v":60},{"$f":"+K237","v":240},{"$f":"SUM(P237:P250)","v":240},"Incaricato programm.",{"$f":"+K237*Q237","v":7.2},0.03,null,null,null,null,null,null,0]
["PC",2023,1302,"51 DEL 29/03/2023","Z803A94675","fornitura di cancelleria varia","10 GG DALLA STIPULA ",null,15000,{"$f":"+I238*0.02","v":300},{"$f":"+J238*0.8","v":240},{"$f":"+J238*0.2","v":60},null,null,"Coll. Inc. prog.",{"$f":"+K238*Q238","v":4.8},0.02]
["PC",2023,1302,"51 DEL 29/03/2023","Z803A94675","fornitura di cancelleria varia","10 GG DALLA STIPULA ",null,15000,300,{"$f":"+J239*0.8","v":240},60,null,null,"Inc. Pred. Doc. ",{"$f":"+K239*Q239","v":32.4},0.13500000000000001]
["PC",2023,1302,"51 DEL 29/03/2023","Z803A94675","fornitura di cancelleria varia","10 GG DALLA STIPULA ",null,15000,300,240,60,null,null,"Coll. Inc. Pred.",{"$f":"+K240*Q240","v":7.2},0.03]
["PC",2023,1302,"51 DEL 29/03/2023","Z803A94675","fornitura di cancelleria varia","10 GG DALLA STIPULA ",null,15000,300,240,60,null,null,"RUP Affidamento",{"$f":"+K241*Q241","v":69.599999999999994},0.28999999999999998]
["PC",2023,1302,"51 DEL 29/03/2023","Z803A94675","fornitura di cancelleria varia","10 GG DALLA STIPULA ",null,15000,300,240,60,null,null,"Coll. RUP Affidamento",{"$f":"+K242*Q242","v":15.6},6.5000000000000002E-2]
["PC",2023,1302,"51 DEL 29/03/2023","Z803A94675","fornitura di cancelleria varia","10 GG DALLA STIPULA ",null,15000,300,240,60,null,null,"RUP esecuzione",{"$f":"+K243*Q243","v":43.2},0.18]
["PC",2023,1302,"51 DEL 29/03/2023","Z803A94675","fornitura di cancelleria varia","10 GG DALLA STIPULA ",null,15000,300,240,60,null,null,"Coll. RUP esecuzione",{"$f":"+K244*Q244","v":4.8},0.02]
["PC",2023,1302,"51 DEL 29/03/2023","Z803A94675","fornitura di cancelleria varia","10 GG DALLA STIPULA ",null,15000,300,240,60,null,null,"Coll. RUP esecuzione",{"$f":"+K245*Q245","v":4.8},0.02]
["PC",2023,1302,"51 DEL 29/03/2023","Z803A94675","fornitura di cancelleria varia","10 GG DALLA STIPULA ",null,15000,300,240,60,null,null,"DEC ",{"$f":"+K246*Q246","v":27.6},0.115]
["PC",2023,1302,"51 DEL 29/03/2023","Z803A94675","fornitura di cancelleria varia","10 GG DALLA STIPULA ",null,15000,300,240,60,null,null,"Coll. DEC",{"$f":"+K247*Q247","v":5.4},2.2499999999999999E-2]
["PC",2023,1302,"51 DEL 29/03/2023","Z803A94675","fornitura di cancelleria varia","10 GG DALLA STIPULA ",null,15000,300,240,60,null,null,"Coll. DEC",{"$f":"+K248*Q248","v":5.4},2.2499999999999999E-2]
["PC",2023,1302,"51 DEL 29/03/2023","Z803A94675","fornitura di cancelleria varia","10 GG DALLA STIPULA ",null,15000,300,240,60,null,null,"Inc. Ver. Conf",{"$f":"+K249*Q249","v":8.4},3.5000000000000003E-2]
["PC",2023,1302,"51 DEL 29/03/2023","Z803A94675","fornitura di cancelleria varia","10 GG DALLA STIPULA ",null,15000,300,240,60,null,null,"Coll. Inc Ver. Conf.",{"$f":"+K250*Q250","v":3.6},1.4999999999999999E-2]
["LC",2020,1302,"96 del 18/5/2020","8300348FD7","Noleggio apparecchiature multifunzione (SOLO ESECUZIONE)  ","48 MESI DALLA STIPULA",null,78291.199999999997,1565.82,{"$f":"+(J251)*0.8","v":1252.6600000000001},{"$f":"+(J251)*0.2","v":313.16000000000003},271.31,{"$f":"+P251+P252+P253+P257+P258+P254+P255+P256","v":193.77},"RUP esecuzione",66.55,0.17,null,null,232.51,632.59,116.25,{"$f":"+N251","v":193.77},{"$f":"+K251-T251-U251-V251-W251","v":77.540000000000006}]
["LC",2020,1302,"96 del 18/5/2020","8300348FD7","Noleggio apparecchiature multifunzione (SOLO ESECUZIONE)","48 MESI DALLA STIPULA",null,78291.199999999997,1565.82,1252.6600000000001,313.16000000000003,null,null,{"$f":"+O253","v":"Coll. RUP esecuzione"},15.66,0.04]
["LC",2020,1302,"96 del 18/5/2020","8300348FD7","Noleggio apparecchiature multifunzione (SOLO ESECUZIONE)","48 MESI DALLA STIPULA",null,78291.199999999997,1565.82,1252.6600000000001,313.16000000000003,null,null,"Coll. RUP esecuzione",15.66,0.04]
["LC",2020,1302,"96 del 18/5/2020","8300348FD7","Noleggio apparecchiature multifunzione (SOLO ESECUZIONE)","48 MESI DALLA STIPULA",null,78291.199999999997,1565.82,{"$f":"+(J254)*0.8","v":1252.6600000000001},{"$f":"+(J254)*0.2","v":313.16000000000003},null,null,"DEC",43.06,0.11]
["LC",2020,1302,"96 del 18/5/2020","8300348FD7","Noleggio apparecchiature multifunzione (SOLO ESECUZIONE)","48 MESI DALLA STIPULA",null,78291.199999999997,1565.82,{"$f":"+(J255)*0.8","v":1252.6600000000001},{"$f":"+(J255)*0.2","v":313.16000000000003},null,null,"Coll. DEC",12.72,3.2500000000000001E-2]
["LC",2020,1302,"96 del 18/5/2020","8300348FD7","Noleggio apparecchiature multifunzione (SOLO ESECUZIONE)","48 MESI DALLA STIPULA",null,78291.199999999997,1565.82,{"$f":"+(J256)*0.8","v":1252.6600000000001},{"$f":"+(J256)*0.2","v":313.16000000000003},null,null,"Coll. DEC",12.72,3.2500000000000001E-2]
["LC",2020,1302,"96 del 18/5/2020","8300348FD7","Noleggio apparecchiature multifunzione (SOLO ESECUZIONE)","48 MESI DALLA STIPULA",null,78291.199999999997,1565.82,1252.6600000000001,313.16000000000003,null,null,"Inc. verifica conformità",15.66,0.04]
["LC",2020,1302,"96 del 18/5/2020","8300348FD7","Noleggio apparecchiature multifunzione (SOLO ESECUZIONE)","48 MESI DALLA STIPULA",null,78291.199999999997,1565.82,1252.6600000000001,313.16000000000003,null,null,"Coll. Inc. Ver. Conf",11.74,0.03]
["PC",2022,1302,"151 DEL 27/09/2022","Z3137E81D7","noleggio di n. 1 fotocopiatrice in adesione alla Convenzione Consip (SOLO ESECUZIONE)","48 MESI DALLA STIPULA",null,2957.12,{"$f":"+I259*0.02","v":59.14},{"$f":"+(J259)*0.8","v":47.31},{"$f":"+(J259)*0.2","v":11.83},23.4,{"$f":"SUM(P259:P266)","v":4.3600000000000003},"RUP esecuzione",1.5,0.17,null,null,null,null,23.91,4.3600000000000003,0]
["PC",2022,1302,"151 DEL 27/09/2022","Z3137E81D7","noleggio di n. 1 fotocopiatrice in adesione alla Convenzione Consip (SOLO ESECUZIONE)",null,null,2957.12,{"$f":"+I260*0.02","v":59.14},{"$f":"+(J260)*0.8","v":47.31},{"$f":"+(J260)*0.2","v":11.83},null,null,"Coll. RUP esecuzione",0.35,0.04]
["PC",2022,1302,"151 DEL 27/09/2022","Z3137E81D7","noleggio di n. 1 fotocopiatrice in adesione alla Convenzione Consip (SOLO ESECUZIONE)",null,null,2957.12,{"$f":"+I261*0.02","v":59.14},{"$f":"+(J261)*0.8","v":47.31},{"$f":"+(J261)*0.2","v":11.83},null,null,"Coll. RUP esecuzione",0.35,0.04]
["PC",2022,1302,"151 DEL 27/09/2022","Z3137E81D7","noleggio di n. 1 fotocopiatrice in adesione alla Convenzione Consip (SOLO ESECUZIONE)",null,null,2957.12,59.14,47.31,11.83,null,null,"DEC ",0.97,0.11]
["PC",2022,1302,"151 DEL 27/09/2022","Z3137E81D7","noleggio di n. 1 fotocopiatrice in adesione alla Convenzione Consip (SOLO ESECUZIONE)",null,null,2957.12,59.14,47.31,11.83,null,null,"Coll. DEC",0.28999999999999998,3.2500000000000001E-2]
["PC",2022,1302,"151 DEL 27/09/2022","Z3137E81D7","noleggio di n. 1 fotocopiatrice in adesione alla Convenzione Consip (SOLO ESECUZIONE)",null,null,2957.12,59.14,47.31,11.83,null,null,"Coll. DEC",0.28999999999999998,3.2500000000000001E-2]
["PC",2022,1302,"151 DEL 27/09/2022","Z3137E81D7","noleggio di n. 1 fotocopiatrice in adesione alla Convenzione Consip (SOLO ESECUZIONE)",null,null,2957.12,59.14,47.31,11.83,null,null,"Incaricato ver. conf.",0.35,0.04]
["PC",2022,1302,"151 DEL 27/09/2022","Z3137E81D7","noleggio di n. 1 fotocopiatrice in adesione alla Convenzione Consip (SOLO ESECUZIONE)",null,null,2957.12,59.14,47.31,11.83,null,null,"Coll. Inc. Ver. Conf",0.26,0.03]
["PC",2023,6250,"64 del 20/04/2023","Z173ADF3BE","Fornitura mobili","10 GG DALLA STIPULA ",null,15000,{"$f":"+I267*0.02","v":300},{"$f":"+J267*0.8","v":240},{"$f":"+J267*0.2","v":60},{"$f":"+K267","v":240},{"$f":"SUM(P267:P280)","v":240},"Incaricato programm.",{"$f":"+K267*Q267","v":7.2},0.03,null,null,null,null,null,null,0]
["PC",2023,6250,"64 del 20/04/2023","Z173ADF3BE","Fornitura mobili","10 GG DALLA STIPULA ",null,15000,{"$f":"+I268*0.02","v":300},{"$f":"+J268*0.8","v":240},{"$f":"+J268*0.2","v":60},null,null,"Coll. Inc. prog.",{"$f":"+K268*Q268","v":4.8},0.02]
["PC",2023,6250,"64 del 20/04/2023","Z173ADF3BE","Fornitura mobili","10 GG DALLA STIPULA ",null,15000,300,{"$f":"+J269*0.8","v":240},60,null,null,"Inc. Pred. Doc. ",{"$f":"+K269*Q269","v":32.4},0.13500000000000001]
["PC",2023,6250,"64 del 20/04/2023","Z173ADF3BE","Fornitura mobili","10 GG DALLA STIPULA ",null,15000,300,240,60,null,null,"Coll. Inc. Pred.",{"$f":"+K270*Q270","v":7.2},0.03]
["PC",2023,6250,"64 del 20/04/2023","Z173ADF3BE","Fornitura mobili","10 GG DALLA STIPULA ",null,15000,300,240,60,null,null,"RUP Affidamento",{"$f":"+K271*Q271","v":69.599999999999994},0.28999999999999998]
["PC",2023,6250,"64 del 20/04/2023","Z173ADF3BE","Fornitura mobili","10 GG DALLA STIPULA ",null,15000,300,240,60,null,null,"Coll. RUP Affidamento",{"$f":"+K272*Q272","v":15.6},6.5000000000000002E-2]
["PC",2023,6250,"64 del 20/04/2023","Z173ADF3BE","Fornitura mobili","10 GG DALLA STIPULA ",null,15000,300,240,60,null,null,"RUP esecuzione",{"$f":"+K273*Q273","v":43.2},0.18]
["PC",2023,6250,"64 del 20/04/2023","Z173ADF3BE","Fornitura mobili","10 GG DALLA STIPULA ",null,15000,300,240,60,null,null,"Coll. RUP esecuzione",{"$f":"+K274*Q274","v":4.8},0.02]
["PC",2023,6250,"64 del 20/04/2023","Z173ADF3BE","Fornitura mobili","10 GG DALLA STIPULA ",null,15000,300,240,60,null,null,"Coll. RUP esecuzione",{"$f":"+K275*Q275","v":4.8},0.02]
["PC",2023,6250,"64 del 20/04/2023","Z173ADF3BE","Fornitura mobili","10 GG DALLA STIPULA ",null,15000,300,240,60,null,null,"DEC ",{"$f":"+K276*Q276","v":27.6},0.115]
["PC",2023,6250,"64 del 20/04/2023","Z173ADF3BE","Fornitura mobili","10 GG DALLA STIPULA ",null,15000,300,240,60,null,null,"Coll. DEC",{"$f":"+K277*Q277","v":5.4},2.2499999999999999E-2]
["PC",2023,6250,"64 del 20/04/2023","Z173ADF3BE","Fornitura mobili","10 GG DALLA STIPULA ",null,15000,300,240,60,null,null,"Coll. DEC",{"$f":"+K278*Q278","v":5.4},2.2499999999999999E-2]
["PC",2023,6250,"64 del 20/04/2023","Z173ADF3BE","Fornitura mobili","10 GG DALLA STIPULA ",null,15000,300,240,60,null,null,"Inc. Ver. Conf",{"$f":"+K279*Q279","v":8.4},3.5000000000000003E-2]
["PC",2023,6250,"64 del 20/04/2023","Z173ADF3BE","Fornitura mobili","10 GG DALLA STIPULA ",null,15000,300,240,60,null,null,"Coll. Inc Ver. Conf.",{"$f":"+K280*Q280","v":3.6},1.4999999999999999E-2]
["PC",2023,1308,"113 DEL 15/06/2023","Z463B89477","Fornitura audiometro per carabinieri","10 GG DALLA STIPULA ",null,9605,{"$f":"+I281*0.02","v":192.1},{"$f":"+J281*0.8","v":153.68},{"$f":"+J281*0.2","v":38.42},{"$f":"+K281","v":153.68},{"$f":"SUM(P281:P294)","v":153.68},"Incaricato programm.",{"$f":"+K281*Q281","v":4.6100000000000003},0.03,null,null,null,null,null,null,0]
["PC",2023,1308,"113 DEL 15/06/2023","Z463B89477","Fornitura audiometro per carabinieri","10 GG DALLA STIPULA ",null,9605,{"$f":"+I282*0.02","v":192.1},{"$f":"+J282*0.8","v":153.68},{"$f":"+J282*0.2","v":38.42},null,null,"Coll. Inc. prog.",{"$f":"+K282*Q282","v":3.07},0.02]
["PC",2023,1308,"113 DEL 15/06/2023","Z463B89477","Fornitura audiometro per carabinieri","10 GG DALLA STIPULA ",null,9605,192.1,153.68,38.42,null,null,"Inc. Pred. Doc. ",{"$f":"+K283*Q283","v":20.75},0.13500000000000001]
["PC",2023,1308,"113 DEL 15/06/2023","Z463B89477","Fornitura audiometro per carabinieri","10 GG DALLA STIPULA ",null,9605,192.1,153.68,38.42,null,null,"Coll. Inc. Pred.",{"$f":"+K284*Q284","v":4.6100000000000003},0.03]
["PC",2023,1308,"113 DEL 15/06/2023","Z463B89477","Fornitura audiometro per carabinieri","10 GG DALLA STIPULA ",null,9605,192.1,153.68,38.42,null,null,"RUP Affidamento",{"$f":"+K285*Q285","v":44.57},0.28999999999999998]
["PC",2023,1308,"113 DEL 15/06/2023","Z463B89477","Fornitura audiometro per carabinieri","10 GG DALLA STIPULA ",null,9605,192.1,153.68,38.42,null,null,"Coll. RUP Affidamento",{"$f":"+K286*Q286","v":9.99},6.5000000000000002E-2]
["PC",2023,1308,"113 DEL 15/06/2023","Z463B89477","Fornitura audiometro per carabinieri","10 GG DALLA STIPULA ",null,9605,192.1,153.68,38.42,null,null,"RUP esecuzione",{"$f":"+K287*Q287","v":27.66},0.18]
["PC",2023,1308,"113 DEL 15/06/2023","Z463B89477","Fornitura audiometro per carabinieri","10 GG DALLA STIPULA ",null,9605,192.1,153.68,38.42,null,null,"Coll. RUP esecuzione",{"$f":"+K288*Q288","v":3.07},0.02]
["PC",2023,1308,"113 DEL 15/06/2023","Z463B89477","Fornitura audiometro per carabinieri","10 GG DALLA STIPULA ",null,9605,192.1,153.68,38.42,null,null,"Coll. RUP esecuzione",{"$f":"+K289*Q289","v":3.07},0.02]
["PC",2023,1308,"113 DEL 15/06/2023","Z463B89477","Fornitura audiometro per carabinieri","10 GG DALLA STIPULA ",null,9605,192.1,153.68,38.42,null,null,"DEC ",{"$f":"+K290*Q290","v":17.670000000000002},0.115]
["PC",2023,1308,"113 DEL 15/06/2023","Z463B89477","Fornitura audiometro per carabinieri","10 GG DALLA STIPULA ",null,9605,192.1,153.68,38.42,null,null,"Coll. DEC",{"$f":"+K291*Q291","v":3.46},2.2499999999999999E-2]
["PC",2023,1308,"113 DEL 15/06/2023","Z463B89477","Fornitura audiometro per carabinieri","10 GG DALLA STIPULA ",null,9605,192.1,153.68,38.42,null,null,"Coll. DEC",{"$f":"+K292*Q292","v":3.46},2.2499999999999999E-2]
["PC",2023,1308,"113 DEL 15/06/2023","Z463B89477","Fornitura audiometro per carabinieri","10 GG DALLA STIPULA ",null,9605,192.1,153.68,38.42,null,null,"Inc. Ver. Conf",{"$f":"+K293*Q293","v":5.38},3.5000000000000003E-2]
["PC",2023,1308,"113 DEL 15/06/2023","Z463B89477","Fornitura audiometro per carabinieri","10 GG DALLA STIPULA ",null,9605,192.1,153.68,38.42,null,null,"Coll. Inc Ver. Conf.",{"$f":"+K294*Q294","v":2.31},1.4999999999999999E-2]
["V",2023,1308,"70 DEL 27/04/2023","Z953AEBE58","bonifica del gas radon","2023-05-09","2024-11-08",6000,{"$f":"+I295*0.02","v":120},{"$f":"+J295*0.8","v":96},{"$f":"+J295*0.2","v":24},{"$f":"+K295","v":96},{"$f":"SUM(P295:P306)","v":96},"Incaricato programm.",{"$f":"+K295*Q295","v":2.88},0.03,{"$f":"ROUND(P295,2)","v":2.88},null,null,null,null,null,0]
["V",2023,1308,"70 DEL 27/04/2023","Z953AEBE58","bonifica del gas radon","2023-05-09","2024-11-08",6000,{"$f":"+I296*0.02","v":120},{"$f":"+J296*0.8","v":96},{"$f":"+J296*0.2","v":24},null,null,"Coll. Inc. prog.",{"$f":"+K296*Q296","v":1.92},0.02,1.92]
["V",2023,1308,"70 DEL 27/04/2023","Z953AEBE58","bonifica del gas radon","2023-05-09","2024-11-08",6000,120,96,24,null,null,"Inc. Pred. Doc. ",{"$f":"+K297*Q297","v":12.96},0.13500000000000001,12.96]
["V",2023,1308,"70 DEL 27/04/2023","Z953AEBE58","bonifica del gas radon","2023-05-09","2024-11-08",6000,120,96,24,null,null,"Coll. Inc. Pred.",{"$f":"+K298*Q298","v":2.88},0.03,2.88]
["V",2023,1308,"70 DEL 27/04/2023","Z953AEBE58","bonifica del gas radon","2023-05-09","2024-11-08",6000,120,96,24,null,null,"RUP Affidamento",{"$f":"+K299*Q299","v":27.84},0.28999999999999998,27.84]
["V",2023,1308,"70 DEL 27/04/2023","Z953AEBE58","bonifica del gas radon","2023-05-09","2024-11-08",6000,120,96,24,null,null,"Coll. RUP Affidamento",{"$f":"+K300*Q300","v":6.24},6.5000000000000002E-2,6.24]
["V",2023,1308,"70 DEL 27/04/2023","Z953AEBE58","bonifica del gas radon","2023-05-09","2024-11-08",6000,120,96,24,null,null,"RUP esecuzione",{"$f":"+K301*Q301","v":17.28},0.18,17.28]
["V",2023,1308,"70 DEL 27/04/2023","Z953AEBE58","bonifica del gas radon","2023-05-09","2024-11-08",6000,120,96,24,null,null,"Coll. RUP esecuzione",{"$f":"+K302*Q302","v":3.84},0.04,3.84]
["V",2023,1308,"70 DEL 27/04/2023","Z953AEBE58","bonifica del gas radon","2023-05-09","2024-11-08",6000,120,96,24,null,null,"DEC ",{"$f":"+K303*Q303","v":11.04},0.115,11.04]
["V",2023,1308,"70 DEL 27/04/2023","Z953AEBE58","bonifica del gas radon","2023-05-09","2024-11-08",6000,120,96,24,null,null,"Coll. DEC",{"$f":"+K304*Q304","v":4.32},4.4999999999999998E-2,4.32]
["V",2023,1308,"70 DEL 27/04/2023","Z953AEBE58","bonifica del gas radon","2023-05-09","2024-11-08",6000,120,96,24,null,null,"Inc. Ver. Conf",{"$f":"+K305*Q305","v":3.36},3.5000000000000003E-2,3.36]
["V",2023,1308,"70 DEL 27/04/2023","Z953AEBE58","bonifica del gas radon","2023-05-09","2024-11-08",6000,120,96,24,null,null,"Coll. Inc Ver. Conf.",{"$f":"+K306*Q306","v":1.44},1.4999999999999999E-2,1.44]
["PC",2022,1303,"138 DEL 08/09/2022","9393670DB3","Adesione alla convenzione “Energia elettrica ed.19” Lotto 10 ","12 mesi dalla stipula",null,214000,{"$f":"+I307*0.02","v":4280},{"$f":"+(J307)*0.8","v":3424},{"$f":"+(J307)*0.2","v":856},1694.88,{"$f":"+P307+P310+P311+P312+P313+P314+P309+P308","v":1694.88},"RUP esecuzione",{"$f":"+K307*Q307","v":582.08000000000004},0.17,null,null,null,null,1729.12,1694.88,0]
["PC",2022,1303,"138 DEL 08/09/2022","9393670DB3","Adesione alla convenzione “Energia elettrica ed.19” Lotto 10 ",null,null,214000,{"$f":"+I308*0.02","v":4280},3424,856,null,null,"Coll. RUP esecuzione",{"$f":"+K308*Q308","v":136.96},0.04]
["PC",2022,1303,"138 DEL 08/09/2022","9393670DB3","Adesione alla convenzione “Energia elettrica ed.19” Lotto 10 ",null,null,214000,4280,3424,856,null,null,"Coll. RUP esecuzione",{"$f":"+K309*Q309","v":136.96},0.04]
["PC",2022,1303,"138 DEL 08/09/2022","9393670DB3","Adesione alla convenzione “Energia elettrica ed.19” Lotto 10 ",null,null,214000,{"$f":"+I310*0.02","v":4280},{"$f":"+(J310)*0.8","v":3424},{"$f":"+(J310)*0.2","v":856},null,null,"DEC ",{"$f":"+K310*Q310","v":376.64},0.11]
["PC",2022,1303,"138 DEL 08/09/2022","9393670DB3","Adesione alla convenzione “Energia elettrica ed.19” Lotto 10 ",null,null,214000,4280,3424,856,null,null,"Coll. DEC",{"$f":"+K311*Q311","v":111.28},3.2500000000000001E-2]
["PC",2022,1303,"138 DEL 08/09/2022","9393670DB3","Adesione alla convenzione “Energia elettrica ed.19” Lotto 10 ",null,null,214000,4280,3424,856,null,null,"Coll. DEC",{"$f":"+K312*Q312","v":111.28},3.2500000000000001E-2]
["PC",2022,1303,"138 DEL 08/09/2022","9393670DB3","Adesione alla convenzione “Energia elettrica ed.19” Lotto 10 ",null,null,214000,4280,3424,856,null,null,"Incaricato ver. conf.",{"$f":"+K313*Q313","v":136.96},0.04]
["PC",2022,1303,"138 DEL 08/09/2022","9393670DB3","Adesione alla convenzione “Energia elettrica ed.19” Lotto 10 ",null,null,214000,4280,{"$f":"+(J314)*0.8","v":3424},{"$f":"+(J314)*0.2","v":856},null,null,"Coll. Inc. Ver. Conf",{"$f":"+K314*Q314","v":102.72},0.03]
["PC",2022,6251,"179 DEL 08/10/2022","Z2E387A46E","acquisto di riviste giuridiche, anno 2023","30 giorni dalla stipula",null,13000,{"$f":"+I315*0.02","v":260},{"$f":"+(J315)*0.8","v":208},{"$f":"+(J315)*0.2","v":52},89.44,{"$f":"+P315+P319+P320+P321+P322+P316+P317+P318","v":89.44},"RUP esecuzione",{"$f":"+K315*Q315","v":37.44},0.18,null,null,null,null,118.56,{"$f":"+N315","v":89.44},0,null,null,null,null,null,null,null,"+"]
["PC",2022,6251,"179 DEL 08/10/2022","Z2E387A46E","acquisto di riviste giuridiche, anno 2023",null,null,13000,{"$f":"+I316*0.02","v":260},208,52,null,null,"Coll. RUP esecuzione",{"$f":"+K316*Q316","v":4.16},0.02]
["PC",2022,6251,"179 DEL 08/10/2022","Z2E387A46E","acquisto di riviste giuridiche, anno 2023",null,null,13000,260,208,52,null,null,"Coll. RUP esecuzione",{"$f":"+K317*Q317","v":4.16},0.02]
["PC",2022,6251,"179 DEL 08/10/2022","Z2E387A46E","acquisto di riviste giuridiche, anno 2023",null,null,13000,260,208,52,null,null,"DEC ",{"$f":"+K318*Q318","v":23.92},0.115]
["PC",2022,6251,"179 DEL 08/10/2022","Z2E387A46E","acquisto di riviste giuridiche, anno 2023",null,null,13000,{"$f":"+I319*0.02","v":260},{"$f":"+(J319)*0.8","v":208},{"$f":"+(J319)*0.2","v":52},null,null,"Coll. DEC",{"$f":"+K319*Q319","v":4.68},2.2499999999999999E-2,null,null,null,null,null,null,null,null,null,null,null,null,null,null,{"$f":"+#REF!+#REF!++#REF!+#REF!+P295+#REF!+#REF!+#REF!+#REF!","v":{"$error":"#REF!"}}]
["PC",2022,6251,"179 DEL 08/10/2022","Z2E387A46E","acquisto di riviste giuridiche, anno 2023",null,null,13000,260,208,52,null,null,"Coll. DEC",{"$f":"+K320*Q320","v":4.68},2.2499999999999999E-2]
["PC",2022,6251,"179 DEL 08/10/2022","Z2E387A46E","acquisto di riviste giuridiche, anno 2023",null,null,13000,260,208,52,null,null,"Inc. Ver. Conf",{"$f":"+K321*Q321","v":7.28},3.5000000000000003E-2]
["PC",2022,6251,"179 DEL 08/10/2022","Z2E387A46E","acquisto di riviste giuridiche, anno 2023",null,null,13000,260,208,52,null,null,"Coll. Inc Ver. Conf.",{"$f":"+K322*Q322","v":3.12},1.4999999999999999E-2]
["PC",2022,6251,"190 del 23/12/2022","Z5E38B5BAD","Fornitura di libri per le esigenze della Biblioteca del C.D.S.","30 giorni dalla stipula",null,10201.75,{"$f":"+I323*0.02","v":204.04},163.22999999999999,40.81,70.180000000000007,{"$f":"SUM(P323:P330)","v":70.16},"RUP esecuzione",{"$f":"+K323*Q323","v":29.38},0.18,null,null,null,null,93.05,70.16,0]
["PC",2022,6251,"190 del 23/12/2022","Z5E38B5BAD","Fornitura di libri per le esigenze della Biblioteca del C.D.S.",null,null,10201.75,{"$f":"+I324*0.02","v":204.04},{"$f":"+(J324)*0.8","v":163.22999999999999},{"$f":"+(J324)*0.2","v":40.81},null,null,"Coll. RUP esecuzione",{"$f":"+K324*Q324","v":3.26},0.02]
["PC",2022,6251,"190 del 23/12/2022","Z5E38B5BAD","Fornitura di libri per le esigenze della Biblioteca del C.D.S.",null,null,10201.75,{"$f":"+I325*0.02","v":204.04},{"$f":"+(J325)*0.8","v":163.22999999999999},{"$f":"+(J325)*0.2","v":40.81},null,null,"Coll. RUP esecuzione",{"$f":"+K325*Q325","v":3.26},0.02]
["PC",2022,6251,"190 del 23/12/2022","Z5E38B5BAD","Fornitura di libri per le esigenze della Biblioteca del C.D.S.",null,null,10201.75,204.04,163.22999999999999,40.81,null,null,"DEC ",{"$f":"+K326*Q326","v":18.77},0.115]
["PC",2022,6251,"190 del 23/12/2022","Z5E38B5BAD","Fornitura di libri per le esigenze della Biblioteca del C.D.S.",null,null,10201.75,204.04,163.22999999999999,40.81,null,null,"Coll. DEC",{"$f":"+K327*Q327","v":3.67},2.2499999999999999E-2]
["PC",2022,6251,"190 del 23/12/2022","Z5E38B5BAD","Fornitura di libri per le esigenze della Biblioteca del C.D.S.",null,null,10201.75,204.04,163.22999999999999,40.81,null,null,"Coll. DEC",{"$f":"+K328*Q328","v":3.67},2.2499999999999999E-2]
["PC",2022,6251,"190 del 23/12/2022","Z5E38B5BAD","Fornitura di libri per le esigenze della Biblioteca del C.D.S.",null,null,10201.75,204.04,163.22999999999999,40.81,null,null,"Inc. Ver. Conf",5.7,3.5000000000000003E-2]
["PC",2022,6251,"190 del 23/12/2022","Z5E38B5BAD","Fornitura di libri per le esigenze della Biblioteca del C.D.S.",null,null,10201.75,204.04,163.22999999999999,40.81,null,null,"Coll. Inc Ver. Conf.",{"$f":"+K330*Q330","v":2.4500000000000002},1.4999999999999999E-2]
["PC",2023,1210," n. 40 del 09/03/2023","Z063A47676","Trasferte di lavoro per il personale di magistratura ed amministrativo","2023-05-18","2026-05-17",39978.6,{"$f":"+I331*0.02","v":799.57},{"$f":"+J331*0.8","v":639.66},{"$f":"+J331*0.2","v":159.91},{"$f":"+R331+R332+R333+R334","v":271.85000000000002},{"$f":"+P331+P332+P333+P334","v":271.85000000000002},"Inc. Pred. Doc. ",{"$f":"+K331*Q331","v":76.760000000000005},0.12,{"$f":"ROUND(P331,2)","v":76.760000000000005},null,null,null,null,null,0]
["PC",2023,1210," n. 40 del 09/03/2023","Z063A47676","Trasferte di lavoro per il personale di magistratura ed amministrativo","2023-05-18","2026-05-17",39978.6,{"$f":"+I332*0.02","v":799.57},{"$f":"+J332*0.8","v":639.66},{"$f":"+J332*0.2","v":159.91},null,null,"Coll. Inc. Pred.",{"$f":"+K332*Q332","v":47.97},7.4999999999999997E-2,{"$f":"ROUND(P332,2)","v":47.97}]
["PC",2023,1210," n. 40 del 09/03/2023","Z063A47676","Trasferte di lavoro per il personale di magistratura ed amministrativo","2023-05-18","2026-05-17",39978.6,799.57,639.66,159.91,null,null,"RUP Affidamento",{"$f":"+K333*Q333","v":95.95},0.15,95.95]
["PC",2023,1210," n. 40 del 09/03/2023","Z063A47676","Trasferte di lavoro per il personale di magistratura ed amministrativo","2023-05-18","2026-05-17",39978.6,799.57,639.66,159.91,null,null,"Coll. RUP Affidamento",{"$f":"+K334*Q334","v":51.17},0.08,51.17]
["T",2021,1292,"95 DEL 15/07/2021",{"$f":"+[1]Foglio1!$F$46","v":"8833454CD5"},{"$f":"+[1]Foglio1!$E$46","v":"PROCEDURA DI GARA AVENTE AD OGGETTO L’AFFIDAMENTO DI SERVIZI ASSICURATIVI (ALL RISKS PATRIMONIO IMMOBILIARE e RESPONSABILITÀ CIVILE VERSO TERZI E DIPENDENTI)"},"30 mesi dalla stipula",null,210000,{"$f":"+I335*0.02","v":4200},{"$f":"+(J335)*0.8","v":3360},{"$f":"+(J335)*0.2","v":840},420,{"$f":"+P335+P336+P337+P338+P339+P340+P341","v":420},"RUP esecuzione",{"$f":"+(K335*Q335)/3","v":196},0.17499999999999999,null,null,null,2520,420,{"$f":"+K335-U335-N335","v":420},0]
["T",2021,1292,"95 DEL 15/07/2021",{"$f":"+[1]Foglio1!$F$46","v":"8833454CD5"},{"$f":"+[1]Foglio1!$E$46","v":"PROCEDURA DI GARA AVENTE AD OGGETTO L’AFFIDAMENTO DI SERVIZI ASSICURATIVI (ALL RISKS PATRIMONIO IMMOBILIARE e RESPONSABILITÀ CIVILE VERSO TERZI E DIPENDENTI)"},null,null,210000,{"$f":"+I336*0.02","v":4200},{"$f":"+(J336)*0.8","v":3360},{"$f":"+(J336)*0.2","v":840},null,null,"Coll. RUP esecuzione",{"$f":"+(K336*Q336)/3","v":33.6},0.03]
["T",2021,1292,"95 DEL 15/07/2021",{"$f":"+[1]Foglio1!$F$46","v":"8833454CD5"},{"$f":"+[1]Foglio1!$E$46","v":"PROCEDURA DI GARA AVENTE AD OGGETTO L’AFFIDAMENTO DI SERVIZI ASSICURATIVI (ALL RISKS PATRIMONIO IMMOBILIARE e RESPONSABILITÀ CIVILE VERSO TERZI E DIPENDENTI)"},null,null,210000,{"$f":"+I337*0.02","v":4200},{"$f":"+(J337)*0.8","v":3360},{"$f":"+(J337)*0.2","v":840},null,null,"DEC",{"$f":"+(K337*Q337)/3","v":112},0.1]
["T",2021,1292,"95 DEL 15/07/2021",{"$f":"+[1]Foglio1!$F$46","v":"8833454CD5"},{"$f":"+[1]Foglio1!$E$46","v":"PROCEDURA DI GARA AVENTE AD OGGETTO L’AFFIDAMENTO DI SERVIZI ASSICURATIVI (ALL RISKS PATRIMONIO IMMOBILIARE e RESPONSABILITÀ CIVILE VERSO TERZI E DIPENDENTI)"},null,null,210000,4200,3360,840,null,null,"Coll. DEC",{"$f":"+(K338*Q338)/3","v":11.2},0.01]
["T",2021,1292,"95 DEL 15/07/2021",{"$f":"+[1]Foglio1!$F$46","v":"8833454CD5"},{"$f":"+[1]Foglio1!$E$46","v":"PROCEDURA DI GARA AVENTE AD OGGETTO L’AFFIDAMENTO DI SERVIZI ASSICURATIVI (ALL RISKS PATRIMONIO IMMOBILIARE e RESPONSABILITÀ CIVILE VERSO TERZI E DIPENDENTI)"},null,null,210000,4200,3360,840,null,null,"Coll. DEC",{"$f":"+(K339*Q339)/3","v":11.2},0.01]
["T",2021,1292,"95 DEL 15/07/2021",{"$f":"+[1]Foglio1!$F$46","v":"8833454CD5"},{"$f":"+[1]Foglio1!$E$46","v":"PROCEDURA DI GARA AVENTE AD OGGETTO L’AFFIDAMENTO DI SERVIZI ASSICURATIVI (ALL RISKS PATRIMONIO IMMOBILIARE e RESPONSABILITÀ CIVILE VERSO TERZI E DIPENDENTI)"},null,null,210000,4200,3360,840,null,null,"Inc. Ver. Conf",{"$f":"+(K340*Q340)/3","v":39.200000000000003},3.5000000000000003E-2]
["T",2021,1292,"95 DEL 15/07/2021",{"$f":"+[1]Foglio1!$F$46","v":"8833454CD5"},{"$f":"+[1]Foglio1!$E$46","v":"PROCEDURA DI GARA AVENTE AD OGGETTO L’AFFIDAMENTO DI SERVIZI ASSICURATIVI (ALL RISKS PATRIMONIO IMMOBILIARE e RESPONSABILITÀ CIVILE VERSO TERZI E DIPENDENTI)"},null,null,210000,4200,3360,840,null,null,"Coll. Inc Ver. Conf.",{"$f":"+(K341*Q341)/3","v":16.8},1.4999999999999999E-2]
["PC",2021,1306,"160 DEL 10/11/2021","Z6833D8171","Buoni TAXI per membri CdS (SOLO ESECUZIONE) ","24 mesi dalla stipula",null,39999,{"$f":"+I342*0.02","v":799.98},{"$f":"+(J342)*0.8","v":639.98},{"$f":"+(J342)*0.2","v":160},189.27,{"$f":"+P342+P345+P346+P347+P348+P349+P343+P344","v":9.08},"RUP esecuzione",3.17,0.18,null,null,null,364.79,85.92,null,{"$f":"+K342-U342-V342-N342","v":180.19}]
["PC",2021,1306,"160 DEL 10/11/2021","Z6833D8171","Buoni TAXI per membri CdS (SOLO ESECUZIONE) ",null,null,39999,{"$f":"+I343*0.02","v":799.98},{"$f":"+(J343)*0.8","v":639.98},{"$f":"+(J343)*0.2","v":160},null,null,"Coll. RUP esecuzione",0.71,0.02]
["PC",2021,1306,"160 DEL 10/11/2021","Z6833D8171","Buoni TAXI per membri CdS (SOLO ESECUZIONE) ",null,null,39999,799.98,639.98,160,null,null,"Coll. RUP esecuzione",0.71,0.02]
["PC",2021,1306,"160 DEL 10/11/2021","Z6833D8171","Buoni TAXI per membri CdS (SOLO ESECUZIONE) ",null,null,39999,799.98,639.98,160,null,null,"DEC ",2.0299999999999998,0.115]
["PC",2021,1306,"160 DEL 10/11/2021","Z6833D8171","Buoni TAXI per membri CdS (SOLO ESECUZIONE) ",null,null,39999,799.98,639.98,160,null,null,"Coll. DEC",0.79,2.2499999999999999E-2]
["PC",2021,1306,"160 DEL 10/11/2021","Z6833D8171","Buoni TAXI per membri CdS (SOLO ESECUZIONE) ",null,null,39999,799.98,639.98,160,null,null,"Coll. DEC",0.79,2.2499999999999999E-2]
["PC",2021,1306,"160 DEL 10/11/2021","Z6833D8171","Buoni TAXI per membri CdS (SOLO ESECUZIONE) ",null,null,39999,799.98,639.98,160,null,null,"Incaricato ver. conf.",0.62,3.5000000000000003E-2]
["PC",2021,1306,"160 DEL 10/11/2021","Z6833D8171","Buoni TAXI per membri CdS (SOLO ESECUZIONE) ",null,null,39999,799.98,639.98,160,null,null,"Coll. Inc. Ver. Conf",0.26,1.4999999999999999E-2]
["MP",2020,3305,"128 del 17/7/2020","83737458F8","Manutenzione ordinaria ed adeguamento impianti incendi (SOLO ESECUZIONE)","2021-01-01","2022-12-30",618000,12360,{"$f":"+(J350)*0.8","v":9888},{"$f":"+(J350)*0.2","v":2472},636.92999999999995,{"$f":"+P350+P351+P352+P353+P354+P356+P357+P355","v":636.92999999999995},"RUP esecuzione",222.18,0.15,{"$f":"ROUND(P350,2)","v":222.18},null,null,5636.16,1057.02,{"$f":"+N350","v":636.92999999999995},0]
["MP",2020,3305,"128 del 17/7/2020","83737458F8","Manutenzione ordinaria ed adeguamento impianti incendi (SOLO ESECUZIONE)","2021-01-01","2022-12-30",618000,12360,9888,2472,null,null,"Coll. RUP esecuzione",29.62,0.02,29.62]
["MP",2020,3305,"128 del 17/7/2020","83737458F8","Manutenzione ordinaria ed adeguamento impianti incendi (SOLO ESECUZIONE)","2021-01-01","2022-12-30",618000,12360,9888,2472,null,null,"Coll. RUP esecuzione",29.62,0.02,29.62]
["MP",2020,3305,"128 del 17/7/2020","83737458F8","Manutenzione ordinaria ed adeguamento impianti incendi (SOLO ESECUZIONE)","2021-01-01","2022-12-30",618000,12360,9888,2472,null,null,"DL",170.34,0.115,170.34]
["MP",2020,3305,"128 del 17/7/2020","83737458F8","Manutenzione ordinaria ed adeguamento impianti incendi (SOLO ESECUZIONE)","2021-01-01","2022-12-30",618000,12360,9888,2472,null,null,"COLL. DL",22.22,1.4999999999999999E-2,22.22]
["MP",2020,3305,"128 del 17/7/2020","83737458F8","Manutenzione ordinaria ed adeguamento impianti incendi (SOLO ESECUZIONE)","2021-01-01","2022-12-30",618000,12360,{"$f":"+(J355)*0.8","v":9888},{"$f":"+(J355)*0.2","v":2472},null,null,"COLL. DL",29.63,0.02,29.63]
["MP",2020,3305,"128 del 17/7/2020","83737458F8","Manutenzione ordinaria ed adeguamento impianti incendi (SOLO ESECUZIONE)","2021-01-01","2022-12-30",618000,12360,9888,2472,null,null,"Collaudatore",103.69,7.0000000000000007E-2,103.69]
["MP",2020,3305,"128 del 17/7/2020","83737458F8","Manutenzione ordinaria ed adeguamento impianti incendi (SOLO ESECUZIONE)","2021-01-01","2022-12-30",618000,12360,9888,2472,null,null,"Coll. Collaudatore",29.63,0.02,29.63]
["V",2022,3305,"127 DEL 27/07/2022",9330992231," BARRIERE ARCHITETTONICHE (SOLO ESECUZIONE) ","2022-12-15",{"$f":"+G358+530","v":"2024-05-28"},680044,{"$f":"+I358*0.02","v":13600.88},10880.7,2720.18,4678.71,{"$f":"+P358+P359+P361+P362+P364+P360+P363","v":1710.95},"RUP esecuzione",596.84,{"$f":"+[2]infissi!$E$47","v":0.15},null,null,null,null,6201.99,{"$f":"+N358","v":1710.95},{"$f":"+K358-V358-W358","v":2967.76}]
["V",2022,3305,"127 DEL 27/07/2022",9330992231," BARRIERE ARCHITETTONICHE (SOLO ESECUZIONE)",null,null,680044,{"$f":"+I359*0.02","v":13600.88},10880.7,2720.18,null,null,"Coll. RUP esecuzione",79.58,{"$f":"+[2]infissi!$E$49","v":0.02}]
["V",2022,3305,"127 DEL 27/07/2022",9330992231," BARRIERE ARCHITETTONICHE (SOLO ESECUZIONE)",null,null,680044,{"$f":"+I360*0.02","v":13600.88},{"$f":"+(J360)*0.8","v":10880.7},{"$f":"+(J360)*0.2","v":2720.18},null,null,"Coll. RUP esecuzione",79.58,{"$f":"+Q359","v":0.02}]
["V",2022,3305,"127 DEL 27/07/2022",9330992231," BARRIERE ARCHITETTONICHE (SOLO ESECUZIONE)",null,null,680044,13600.88,10880.7,2720.18,null,null,"DL",457.58,0.115]
["V",2022,3305,"127 DEL 27/07/2022",9330992231," BARRIERE ARCHITETTONICHE (SOLO ESECUZIONE)",null,null,680044,13600.88,10880.7,2720.18,null,null,"COLLAB. DL",139.26,3.5000000000000003E-2]
["V",2022,3305,"127 DEL 27/07/2022",9330992231," BARRIERE ARCHITETTONICHE (SOLO ESECUZIONE)",null,null,680044,{"$f":"+I363*0.02","v":13600.88},{"$f":"+(J363)*0.8","v":10880.7},{"$f":"+(J363)*0.2","v":2720.18},null,null,"COLLADAUTORE",278.52999999999997,7.0000000000000007E-2]
["V",2022,3305,"127 DEL 27/07/2022",9330992231," BARRIERE ARCHITETTONICHE (SOLO ESECUZIONE)",null,null,680044,13600.88,10880.7,2720.18,null,null,"COLL. COLLADAUTORE",79.58,0.02]
["V",2020,3305,"185 DEL 26/11/2020","8482948E21","lavori di manutenzione ordinaria degli impianti di condizionamento  (SOLO ESECUZIONE.) ","2021-04-01","2024-03-31",200000,{"$f":"+I365*0.02","v":4000},{"$f":"+(J365)*0.8","v":3200},{"$f":"+(J365)*0.2","v":800},751.72,{"$f":"+P365+P366+P368+P369+P370+P371+P367","v":399.88},"RUP esecuzione",139.49,{"$f":"+[2]infissi!$E$47","v":0.15},null,null,null,2073.39,374.89,399.88,{"$f":"+K365-U365-V365-W365","v":351.84}]
["V",2020,3305,"185 DEL 26/11/2020","8482948E21","lavori di manutenzione ordinaria degli impianti di condizionamento  (SOLO ESECUZIONE.)",null,null,200000,{"$f":"+I366*0.02","v":4000},3200,800,null,null,"Coll. RUP esecuzione",18.600000000000001,{"$f":"+[2]infissi!$E$49","v":0.02}]
["V",2020,3305,"185 DEL 26/11/2020","8482948E21","lavori di manutenzione ordinaria degli impianti di condizionamento  (SOLO ESECUZIONE.)",null,null,200000,4000,3200,800,null,null,"Coll. RUP esecuzione",18.600000000000001,{"$f":"+Q366","v":0.02}]
["V",2020,3305,"185 DEL 26/11/2020","8482948E21","lavori di manutenzione ordinaria degli impianti di condizionamento  (SOLO ESECUZIONE.)",null,null,200000,4000,3200,800,null,null,"DL",106.94,0.115]
["V",2020,3305,"185 DEL 26/11/2020","8482948E21","lavori di manutenzione ordinaria degli impianti di condizionamento  (SOLO ESECUZIONE.)",null,null,200000,4000,3200,800,null,null,"COLLAB. DL",32.549999999999997,3.5000000000000003E-2]
["V",2020,3305,"185 DEL 26/11/2020","8482948E21","lavori di manutenzione ordinaria degli impianti di condizionamento  (SOLO ESECUZIONE.)",null,null,200000,4000,3200,800,null,null,"COLLADAUTORE",65.099999999999994,7.0000000000000007E-2]
["V",2020,3305,"185 DEL 26/11/2020","8482948E21","lavori di manutenzione ordinaria degli impianti di condizionamento  (SOLO ESECUZIONE.)",null,null,200000,4000,3200,800,null,null,"COLLAB. COLLAUD.",18.600000000000001,{"$f":"+[2]infissi!$E$59","v":0.02}]
["V",2022,3305,"137 DEL 05/09/2022","9388977CEA","IMPIANTI DI SICUREZZA E DEGLI IMPIANTI ANTINCENDIO  (SOLO ESECUZIONE.) ","2023-01-01","2024-12-31",544440,{"$f":"+I372*0.02","v":10888.8},8711.0400000000009,2177.7600000000002,3745.75,{"$f":"+P372+P373+P375+P376+P377+P378+P374","v":1352.36},"RUP esecuzione",471.75,{"$f":"+[2]infissi!$E$47","v":0.15},null,null,null,null,4965.29,1352.36,{"$f":"+K372-V372-W372","v":2393.39}]
["V",2022,3305,"137 DEL 05/09/2022","9388977CEA","IMPIANTI DI SICUREZZA E DEGLI IMPIANTI ANTINCENDIO  (SOLO ESECUZIONE.)",null,null,544440,{"$f":"+I373*0.02","v":10888.8},{"$f":"+(J373)*0.8","v":8711.0400000000009},{"$f":"+(J373)*0.2","v":2177.7600000000002},null,null,"Coll. RUP esecuzione",62.9,{"$f":"+[2]infissi!$E$49","v":0.02}]
["V",2022,3305,"137 DEL 05/09/2022","9388977CEA","IMPIANTI DI SICUREZZA E DEGLI IMPIANTI ANTINCENDIO  (SOLO ESECUZIONE.)",null,null,544440,10888.8,8711.0400000000009,2177.7600000000002,null,null,"Coll. RUP esecuzione",62.9,{"$f":"+Q373","v":0.02}]
["V",2022,3305,"137 DEL 05/09/2022","9388977CEA","IMPIANTI DI SICUREZZA E DEGLI IMPIANTI ANTINCENDIO  (SOLO ESECUZIONE.)",null,null,544440,10888.8,8711.0400000000009,2177.7600000000002,null,null,"DL",361.68,0.115]
["V",2022,3305,"137 DEL 05/09/2022","9388977CEA","IMPIANTI DI SICUREZZA E DEGLI IMPIANTI ANTINCENDIO  (SOLO ESECUZIONE.)",null,null,544440,10888.8,8711.0400000000009,2177.7600000000002,null,null,"COLLAB. DL",110.08,3.5000000000000003E-2]
["V",2022,3305,"137 DEL 05/09/2022","9388977CEA","IMPIANTI DI SICUREZZA E DEGLI IMPIANTI ANTINCENDIO  (SOLO ESECUZIONE.)",null,null,544440,10888.8,8711.0400000000009,2177.7600000000002,null,null,"COLLADAUTORE",220.15,7.0000000000000007E-2]
["V",2022,3305,"137 DEL 05/09/2022","9388977CEA","IMPIANTI DI SICUREZZA E DEGLI IMPIANTI ANTINCENDIO  (SOLO ESECUZIONE.)",null,null,544440,10888.8,8711.0400000000009,2177.7600000000002,null,null,"COLLAB. COLLAUD.",62.9,{"$f":"+[2]infissi!$E$59","v":0.02}]
["AE",2022,4254,"32 DEL 21/02/2022",9110513928,"LAVORI URGENTI DI NATURA STRUTTURALE E CONSERVATIVA DELLE COPERTURE DI PALAZZO SPADA esecuzione ","2022-11-16",{"$f":"+G379+730","v":"2024-11-15"},965500,{"$f":"+I379*0.02","v":19310},{"$f":"+(J379)*0.8","v":15448},{"$f":"+(J379)*0.2","v":3862},6642.64,{"$f":"+P379+P384+P380+P381+P382+P383+P385+P386","v":3288.5},"RUP esecuzione",1147.1500000000001,0.15,null,null,null,null,8805.36,3288.5,{"$f":"+K379-V379-W379","v":3354.14}]
["AE",2022,4254,"32 DEL 21/02/2022",9110513928,"LAVORI URGENTI DI NATURA STRUTTURALE E CONSERVATIVA DELLE COPERTURE DI PALAZZO SPADA esecuzione",null,null,965500,{"$f":"+I380*0.02","v":19310},{"$f":"+(J380)*0.8","v":15448},{"$f":"+(J380)*0.2","v":3862},null,null,"Coll. RUP esecuzione",152.94999999999999,0.02]
["AE",2022,4254,"32 DEL 21/02/2022",9110513928,"LAVORI URGENTI DI NATURA STRUTTURALE E CONSERVATIVA DELLE COPERTURE DI PALAZZO SPADA esecuzione",null,null,965500,19310,15448,3862,null,null,"Coll. RUP esecuzione",76.48,0.01]
["AE",2022,4254,"32 DEL 21/02/2022",9110513928,"LAVORI URGENTI DI NATURA STRUTTURALE E CONSERVATIVA DELLE COPERTURE DI PALAZZO SPADA esecuzione",null,null,965500,19310,15448,3862,null,null,"Coll. RUP esecuzione",76.48,0.01]
["AE",2022,4254,"32 DEL 21/02/2022",9110513928,"LAVORI URGENTI DI NATURA STRUTTURALE E CONSERVATIVA DELLE COPERTURE DI PALAZZO SPADA esecuzione",null,null,965500,19310,15448,3862,null,null,"Direttore Lavori",879.48,0.115]
["AE",2022,4254,"32 DEL 21/02/2022",9110513928,"LAVORI URGENTI DI NATURA STRUTTURALE E CONSERVATIVA DELLE COPERTURE DI PALAZZO SPADA esecuzione",null,null,965500,19310,{"$f":"+(J384)*0.8","v":15448},{"$f":"+(J384)*0.2","v":3862},null,null,"Coll. D.l.",267.67,3.5000000000000003E-2]
["AE",2022,4254,"32 DEL 21/02/2022",9110513928,"LAVORI URGENTI DI NATURA STRUTTURALE E CONSERVATIVA DELLE COPERTURE DI PALAZZO SPADA esecuzione",null,null,965500,19310,15448,3862,null,null,"Collaudatore",535.34,7.0000000000000007E-2]
["AE",2022,4254,"32 DEL 21/02/2022",9110513928,"LAVORI URGENTI DI NATURA STRUTTURALE E CONSERVATIVA DELLE COPERTURE DI PALAZZO SPADA esecuzione",null,null,965500,19310,15448,3862,null,null,"Coll. Collaudatore",152.94999999999999,0.02]
["MP",2022,1305,"121 DEL 22/07/2022","933328566E","MANUTENZIONE ORDINARIA EDILE (SOLO ESECUZIONE)","2022-12-01","2024-11-30",827200,16544,{"$f":"+J387*0.8","v":13235.2},{"$f":"+J387-K387","v":3308.8},{"$f":"SUM(R387:R394)","v":2030.49},{"$f":"SUM(P387:P394)","v":2030.49},"RUP esecuzione",708.31,0.15,{"$f":"ROUND(P387,2)","v":708.31},null,null,null,7544.06,2030.49,{"$f":"+K387-V387-W387","v":3660.65}]
["MP",2022,1305,"121 DEL 22/07/2022","933328566E","MANUTENZIONE ORDINARIA EDILE (SOLO ESECUZIONE)","2022-12-01","2024-11-30",827200,{"$f":"+I388*0.02","v":16544},{"$f":"+J388*0.8","v":13235.2},{"$f":"+J388-K388","v":3308.8},null,null,"Coll. RUP esecuzione",94.44,0.02,94.44]
["MP",2022,1305,"121 DEL 22/07/2022","933328566E","MANUTENZIONE ORDINARIA EDILE (SOLO ESECUZIONE)","2022-12-01","2024-11-30",827200,16544,13235.2,3308.8,null,null,"Coll. RUP esecuzione",94.44,0.02,94.44]
["MP",2022,1305,"121 DEL 22/07/2022","933328566E","MANUTENZIONE ORDINARIA EDILE (SOLO ESECUZIONE)","2022-12-01","2024-11-30",827200,16544,13235.2,3308.8,null,null,"DEL",543.04,0.115,543.04]
["MP",2022,1305,"121 DEL 22/07/2022","933328566E","MANUTENZIONE ORDINARIA EDILE (SOLO ESECUZIONE)","2022-12-01","2024-11-30",827200,16544,13235.2,3308.8,null,null,"COLL. DEL",70.83,1.4999999999999999E-2,70.83]
["MP",2022,1305,"121 DEL 22/07/2022","933328566E","MANUTENZIONE ORDINARIA EDILE (SOLO ESECUZIONE)","2022-12-01","2024-11-30",827200,16544,13235.2,3308.8,null,null,"COLL. DEL",94.44,0.02,{"$f":"ROUND(P392,2)","v":94.44}]
["MP",2022,1305,"121 DEL 22/07/2022","933328566E","MANUTENZIONE ORDINARIA EDILE (SOLO ESECUZIONE)","2022-12-01","2024-11-30",827200,16544,13235.2,3308.8,null,null,"Collaudatore",330.55,7.0000000000000007E-2,{"$f":"ROUND(P393,2)","v":330.55}]
["MP",2022,1305,"121 DEL 22/07/2022","933328566E","MANUTENZIONE ORDINARIA EDILE (SOLO ESECUZIONE)","2022-12-01","2024-11-30",827200,16544,13235.2,3308.8,null,null,"Coll. Collaudatore",94.44,0.02,94.44]
["GC",2022,1305,"125 DEL 26/07/2022","93350853D7","IMPIANTI DI CONDIZIONAMENTO PRESSO PALAZZO SPADA (SOLO ESECUZIONE)","2023-01-10",{"$f":"+G395+540","v":"2024-07-03"},654043.42000000004,{"$f":"+I395*0.02","v":13080.87},{"$f":"+J395*0.8","v":10464.700000000001},{"$f":"+J395-K395","v":2616.17},{"$f":"SUM(R395:R402)","v":3085.52},{"$f":"+P395+P398+P402+P401+P400+P396+P397+P399","v":3085.52},"RUP esecuzione",1076.3499999999999,0.15,{"$f":"ROUND(P395,2)","v":1076.3499999999999},null,null,null,5964.88,{"$f":"+N395","v":3085.52},{"$f":"+K395-V395-W395","v":1414.3}]
["GC",2022,1305,"125 DEL 26/07/2022","93350853D7","IMPIANTI DI CONDIZIONAMENTO PRESSO PALAZZO SPADA (SOLO ESECUZIONE)",null,null,654043.42000000004,{"$f":"+I396*0.02","v":13080.87},{"$f":"+J396*0.8","v":10464.700000000001},{"$f":"+J396-K396","v":2616.17},null,null,"Coll. RUP esecuzione",143.51,0.02,143.51]
["GC",2022,1305,"125 DEL 26/07/2022","93350853D7","IMPIANTI DI CONDIZIONAMENTO PRESSO PALAZZO SPADA (SOLO ESECUZIONE)",null,null,654043.42000000004,13080.87,10464.700000000001,2616.17,null,null,"Coll. RUP esecuzione",143.51,0.02,143.51]
["GC",2022,1305,"125 DEL 26/07/2022","93350853D7","IMPIANTI DI CONDIZIONAMENTO PRESSO PALAZZO SPADA (SOLO ESECUZIONE)",null,null,654043.42000000004,13080.87,10464.700000000001,2616.17,null,null,"DEL",825.2,0.115,825.2]
["GC",2022,1305,"125 DEL 26/07/2022","93350853D7","IMPIANTI DI CONDIZIONAMENTO PRESSO PALAZZO SPADA (SOLO ESECUZIONE)",null,null,654043.42000000004,13080.87,10464.700000000001,2616.17,null,null,"Coll. DEL",251.15,3.5000000000000003E-2,251.15]
["GC",2022,1305,"125 DEL 26/07/2022","93350853D7","IMPIANTI DI CONDIZIONAMENTO PRESSO PALAZZO SPADA (SOLO ESECUZIONE)",null,null,654043.42000000004,13080.87,10464.700000000001,2616.17,null,null,"Collaudatore",502.3,7.0000000000000007E-2,502.3]
["GC",2022,1305,"125 DEL 26/07/2022","93350853D7","IMPIANTI DI CONDIZIONAMENTO PRESSO PALAZZO SPADA (SOLO ESECUZIONE)",null,null,654043.42000000004,13080.87,10464.700000000001,2616.17,null,null,"Coll. Collaudatore",71.75,0.01,71.75]
["GC",2022,1305,"125 DEL 26/07/2022","93350853D7","IMPIANTI DI CONDIZIONAMENTO PRESSO PALAZZO SPADA (SOLO ESECUZIONE)",null,null,654043.42000000004,13080.87,10464.700000000001,2616.17,null,null,"Coll. Collaudatore",71.75,0.01,71.75]
["V",2022,1305,"166 DEL 19/10/2022","Z963834455","MANUTENZIONE ASCENSORI (SOLO ESECUZIONE) ","2022-12-01","2024-11-30",31930,{"$f":"+I403*0.02","v":638.6},{"$f":"+J403*0.8","v":510.88},{"$f":"+J403-K403","v":127.72},219.66,{"$f":"SUM(P403:P410)","v":31.89},"RUP esecuzione",13.35,0.18,null,null,null,null,291.22000000000003,31.89,187.77]
["V",2022,1305,"166 DEL 19/10/2022","Z963834455","MANUTENZIONE ASCENSORI (SOLO ESECUZIONE)",null,null,31930,638.6,510.88,127.72,null,null,"Coll. RUP esecuzione",1.48,0.02]
["V",2022,1305,"166 DEL 19/10/2022","Z963834455","MANUTENZIONE ASCENSORI (SOLO ESECUZIONE)",null,null,31930,{"$f":"+I405*0.02","v":638.6},{"$f":"+J405*0.8","v":510.88},{"$f":"+J405-K405","v":127.72},null,null,"Coll. RUP esecuzione",1.48,0.02]
["V",2022,1305,"166 DEL 19/10/2022","Z963834455","MANUTENZIONE ASCENSORI (SOLO ESECUZIONE)",null,null,31930,638.6,510.88,127.72,null,null,"DEC",8.5299999999999994,0.115]
["V",2022,1305,"166 DEL 19/10/2022","Z963834455","MANUTENZIONE ASCENSORI (SOLO ESECUZIONE)",null,null,31930,638.6,510.88,127.72,null,null,"COLLAB. DEC",1.67,2.2499999999999999E-2]
["V",2022,1305,"166 DEL 19/10/2022","Z963834455","MANUTENZIONE ASCENSORI (SOLO ESECUZIONE)",null,null,31930,{"$f":"+I408*0.02","v":638.6},{"$f":"+J408*0.8","v":510.88},{"$f":"+J408-K408","v":127.72},null,null,"COLLAB. DEC",1.67,2.2499999999999999E-2]
["V",2022,1305,"166 DEL 19/10/2022","Z963834455","MANUTENZIONE ASCENSORI (SOLO ESECUZIONE)",null,null,31930,638.6,510.88,127.72,null,null,"Inc. verifica conformità",2.6,3.5000000000000003E-2]
["V",2022,1305,"166 DEL 19/10/2022","Z963834455","MANUTENZIONE ASCENSORI (SOLO ESECUZIONE)",null,null,31930,638.6,510.88,127.72,null,null,"COLLAB. Inc. verif. Conformità",1.1100000000000001,1.4999999999999999E-2]
["V",2021,1305,"81 DEL 14/06/2021",8792072755,"IMPIANTI TELEFONICI  (solo  esecuzione)","2021-07-20","2023-07-20",177050,{"$f":"+I411*0.02","v":3541},{"$f":"+J411*0.8","v":2832.8},{"$f":"+J411-K411","v":708.2},406.04,{"$f":"+P411+P412+P414+P415+P416+P417+P418+P413","v":406.04},"RUP esecuzione",169.96,0.18,null,null,null,1817.7,609.05999999999995,{"$f":"+N411","v":406.04},0]
["V",2021,1305,"81 DEL 14/06/2021",8792072755,"IMPIANTI TELEFONICI  (solo  esecuzione)",null,null,177050,{"$f":"+I412*0.02","v":3541},{"$f":"+J412*0.8","v":2832.8},{"$f":"+J412-K412","v":708.2},null,null,"Coll. RUP esecuzione",18.89,0.02]
["V",2021,1305,"81 DEL 14/06/2021",8792072755,"IMPIANTI TELEFONICI  (solo  esecuzione)",null,null,177050,3541,2832.8,{"$f":"+J413-K413","v":708.2},null,null,"Coll. RUP esecuzione",18.89,0.02]
["V",2021,1305,"81 DEL 14/06/2021",8792072755,"IMPIANTI TELEFONICI  (solo  esecuzione)",null,null,177050,3541,2832.8,708.2,null,null,"dec",108.59,0.115]
["V",2021,1305,"81 DEL 14/06/2021",8792072755,"IMPIANTI TELEFONICI  (solo  esecuzione)",null,null,177050,3541,2832.8,708.2,null,null,"coll. Dec",21.25,2.2499999999999999E-2]
["V",2021,1305,"81 DEL 14/06/2021",8792072755,"IMPIANTI TELEFONICI  (solo  esecuzione)",null,null,177050,3541,2832.8,708.2,null,null,"coll DEC",21.25,2.2499999999999999E-2]
["V",2021,1305,"81 DEL 14/06/2021",8792072755,"IMPIANTI TELEFONICI  (solo  esecuzione)",null,null,177050,3541,2832.8,708.2,null,null,"Inc. verifica conformità",33.049999999999997,3.5000000000000003E-2]
["V",2021,1305,"81 DEL 14/06/2021",8792072755,"IMPIANTI TELEFONICI  (solo  esecuzione)",null,null,177050,3541,2832.8,708.2,null,null,"Coll. Inc. Ver. Conf",14.16,1.4999999999999999E-2]
["T",2020,1305,"140 del 20/8/2020",8407650444,"Manutenzione ordinaria aree a verde  (SOLO ESECUZIONE)","24 MESI DALLA STIPULA",null,149000,2980,{"$f":"+(J419)*0.8","v":2384},{"$f":"+(J419)*0.2","v":596},341.78,{"$f":"+P419+P425+P426+P427+P428+P420+P421+P422+P423+P424","v":341.78},"RUP esecuzione",143.05000000000001,0.18,null,null,1358.88,341.63,341.71,{"$f":"+N419","v":341.78},{"$f":"+K419-T419-U419-V419-N419","v":0}]
["T",2020,1305,"140 del 20/8/2020",8407650444,"Manutenzione ordinaria aree a verde  (SOLO ESECUZIONE)","24 MESI DALLA STIPULA",null,149000,2980,2384,596,null,null,"Coll. RUP esecuzione",10.6,1.3299999999999999E-2]
["T",2020,1305,"140 del 20/8/2020",8407650444,"Manutenzione ordinaria aree a verde  (SOLO ESECUZIONE)","24 MESI DALLA STIPULA",null,149000,2980,2384,596,null,null,"Coll. RUP esecuzione",10.6,1.3299999999999999E-2]
["T",2020,1305,"140 del 20/8/2020",8407650444,"Manutenzione ordinaria aree a verde  (SOLO ESECUZIONE)","24 MESI DALLA STIPULA",null,149000,2980,2384,596,null,null,"Coll. RUP esecuzione",10.6,1.3299999999999999E-2]
["T",2020,1305,"140 del 20/8/2020",8407650444,"Manutenzione ordinaria aree a verde  (SOLO ESECUZIONE)","24 MESI DALLA STIPULA",null,149000,2980,2384,596,null,null,"DEC",91.4,0.115]
["T",2020,1305,"140 del 20/8/2020",8407650444,"Manutenzione ordinaria aree a verde  (SOLO ESECUZIONE)","24 MESI DALLA STIPULA",null,149000,2980,2384,596,null,null,"Coll. DEC",{"$f":"+(K424*Q424)/3","v":11.92},1.4999999999999999E-2]
["T",2020,1305,"140 del 20/8/2020",8407650444,"Manutenzione ordinaria aree a verde  (SOLO ESECUZIONE)","24 MESI DALLA STIPULA",null,149000,2980,2384,596,null,null,"Coll. DEC",{"$f":"+(K425*Q425)/3","v":11.92},1.4999999999999999E-2]
["T",2020,1305,"140 del 20/8/2020",8407650444,"Manutenzione ordinaria aree a verde  (SOLO ESECUZIONE)","24 MESI DALLA STIPULA",null,149000,2980,2384,596,null,null,"Coll. DEC",{"$f":"+(K426*Q426)/3","v":11.92},1.4999999999999999E-2]
["T",2020,1305,"140 del 20/8/2020",8407650444,"Manutenzione ordinaria aree a verde  (SOLO ESECUZIONE)","24 MESI DALLA STIPULA",null,149000,2980,2384,596,null,null,"INC. VER. CONFORMITA'",27.85,3.5000000000000003E-2]
["T",2020,1305,"140 del 20/8/2020",8407650444,"Manutenzione ordinaria aree a verde  (SOLO ESECUZIONE)","24 MESI DALLA STIPULA",null,149000,2980,2384,596,null,null,"Coll. Inc. Ver. Conf",{"$f":"+(K428*Q428)/3","v":11.92},1.4999999999999999E-2]
["AE",2022,1305,"136 del 5/9/2022",9386991606,"Impianti elettrici (solo esecuzione)","2023-01-01","2024-12-31",585273,{"$f":"+I429*0.02","v":11705.46},9364.3700000000008,2341.09,4026.68,{"$f":"+P429+P430+P431+P432+P433+P434+P435+P436","v":1312.99},"RUP esecuzione",458.02,0.15,null,null,null,null,5337.69,1312.99,{"$f":"+K429-V429-W429","v":2713.69}]
["AE",2022,1305,"136 del 5/9/2022",9386991606,"Impianti elettrici (solo esecuzione)",null,null,585273,{"$f":"+I430*0.02","v":11705.46},{"$f":"+(J430)*0.8","v":9364.3700000000008},{"$f":"+(J430)*0.2","v":2341.09},null,null,"Coll. RUP esecuzione",61.07,0.02]
["AE",2022,1305,"136 del 5/9/2022",9386991606,"Impianti elettrici (solo esecuzione)",null,null,585273,11705.46,9364.3700000000008,2341.09,null,null,"Coll. RUP esecuzione",61.07,0.02]
["AE",2022,1305,"136 del 5/9/2022",9386991606,"Impianti elettrici (solo esecuzione)",null,null,585273,11705.46,9364.3700000000008,2341.09,null,null,"Direttore Lavori",351.15,0.115]
["AE",2022,1305,"136 del 5/9/2022",9386991606,"Impianti elettrici (solo esecuzione)",null,null,585273,11705.46,9364.3700000000008,2341.09,null,null,"Coll. D.l.",45.8,1.4999999999999999E-2]
["AE",2022,1305,"136 del 5/9/2022",9386991606,"Impianti elettrici (solo esecuzione)",null,null,585273,11705.46,9364.3700000000008,2341.09,null,null,"Coll. D.l.",61.07,0.02]
["AE",2022,1305,"136 del 5/9/2022",9386991606,"Impianti elettrici (solo esecuzione)",null,null,585273,11705.46,9364.3700000000008,2341.09,null,null,"Collaudatore",213.74,7.0000000000000007E-2]
["AE",2022,1305,"136 del 5/9/2022",9386991606,"Impianti elettrici (solo esecuzione)",null,null,585273,11705.46,9364.3700000000008,2341.09,null,null,"Coll. Collaudatore",61.07,0.02]
["PC",2022,3301,"154 DEL 30/09/2022","ZA437F66E4","Fornitura di n. 6 Fuel card  - (SOLO ESECUZIONE)","2022-10-04","2024-10-03",36000,{"$f":"+I437*0.02","v":720},{"$f":"+(J437)*0.8","v":576},{"$f":"+(J437)*0.2","v":144},285.12,{"$f":"+P437+P441+P442+P443+P444+P438+P439+P440","v":64.14},"RUP esecuzione",22.03,0.17,null,null,null,null,290.88,64.14,{"$f":"+K437-V437-W437","v":220.98}]
["PC",2022,3301,"154 DEL 30/09/2022","ZA437F66E4","Fornitura di n. 6 Fuel card ",null,null,36000,{"$f":"+I438*0.02","v":720},{"$f":"+(J438)*0.8","v":576},{"$f":"+(J438)*0.2","v":144},null,null,"Coll. RUP esecuzione",5.18,0.04]
["PC",2022,3301,"154 DEL 30/09/2022","ZA437F66E4","Fornitura di n. 6 Fuel card ",null,null,36000,720,576,144,null,null,"Coll. RUP esecuzione",5.18,0.04]
["PC",2022,3301,"154 DEL 30/09/2022","ZA437F66E4","Fornitura di n. 6 Fuel card ",null,null,36000,720,576,144,null,null,"DEC ",14.26,0.11]
["PC",2022,3301,"154 DEL 30/09/2022","ZA437F66E4","Fornitura di n. 6 Fuel card ",null,null,36000,{"$f":"+I441*0.02","v":720},{"$f":"+(J441)*0.8","v":576},{"$f":"+(J441)*0.2","v":144},null,null,"Coll. DEC",4.21,3.2500000000000001E-2]
["PC",2022,3301,"154 DEL 30/09/2022","ZA437F66E4","Fornitura di n. 6 Fuel card ",null,null,36000,720,576,144,null,null,"Coll. DEC",4.21,3.2500000000000001E-2]
["PC",2022,3301,"154 DEL 30/09/2022","ZA437F66E4","Fornitura di n. 6 Fuel card ",null,null,36000,720,576,144,null,null,"Incaricato ver. conf.",5.18,0.04]
["PC",2022,3301,"154 DEL 30/09/2022","ZA437F66E4","Fornitura di n. 6 Fuel card ",null,null,36000,720,576,144,null,null,"Coll. Inc. Ver. Conf",3.89,0.03]
["T",2023,1257,"67 del 24/04/2023","97901531D6","Adesione alla convenzione “Buoni pasto 9” Lotto accessorio Campania ","2023-05-01","2024-04-30",86751,{"$f":"+I445*0.02","v":1735.02},{"$f":"+(J445)*0.8","v":1388.02},{"$f":"+(J445)*0.2","v":347},589.89,{"$f":"SUM(P445:P448)","v":589.89},"Inc. Pred. Doc. ",166.55,0.12,null,null,null,null,null,null,0]
["T",2023,1257,"67 del 24/04/2023","97901531D6","Adesione alla convenzione “Buoni pasto 9” Lotto accessorio Campania ","2023-05-01","2024-04-30",86751,{"$f":"+I446*0.02","v":1735.02},1388.02,347,null,null,"Coll. Inc. Pred.",{"$f":"+K446*Q446","v":104.1},7.4999999999999997E-2]
["T",2023,1257,"67 del 24/04/2023","97901531D6","Adesione alla convenzione “Buoni pasto 9” Lotto accessorio Campania ","2023-05-01","2024-04-30",86751,1735.02,1388.02,347,null,null,"RUP Affidamento",{"$f":"+K447*Q447","v":208.2},0.15]
["T",2023,1257,"67 del 24/04/2023","97901531D6","Adesione alla convenzione “Buoni pasto 9” Lotto accessorio Campania ","2023-05-01","2024-04-30",86751,1735.02,1388.02,347,null,null,"Coll. RUP Affidamento",{"$f":"+K448*Q448","v":111.04},0.08]
["PC",2023,3301," 48 del 22/03/2023","Z253A76DDB","Veicoli in noleggio 1","36 mesi dalla data di consegna",null,16092,{"$f":"+I449*0.02","v":321.83999999999997},{"$f":"+J449*0.8","v":257.47000000000003},{"$f":"+K449*0.2","v":51.49},{"$f":"+J449","v":321.83999999999997},{"$f":"+P449+P450+P451+P453+P452+P454","v":130.02000000000001},"Incaricato programm.",{"$f":"+K449*Q449","v":12.87},0.05,{"$f":"ROUND(P449,2)","v":12.87},null,null,null,null,null,{"$f":"+K449-N449","v":127.45}]
["PC",2023,3301," 48 del 22/03/2023","Z253A76DDB","Veicoli in noleggio 1",null,null,16092,{"$f":"+I450*0.02","v":321.83999999999997},{"$f":"+J450*0.8","v":257.47000000000003},{"$f":"+K450*0.2","v":51.49},null,null,"Coll. Inc. prog.",{"$f":"+K450*Q450","v":7.72},0.03,{"$f":"ROUND(P450,2)","v":7.72}]
["PC",2023,3301," 48 del 22/03/2023","Z253A76DDB","Veicoli in noleggio 1",null,null,16092,321.83999999999997,257.47000000000003,51.49,null,null,"Inc. Pred. Doc. ",{"$f":"+K451*Q451","v":30.9},0.12,30.9]
["PC",2023,3301," 48 del 22/03/2023","Z253A76DDB","Veicoli in noleggio 1",null,null,16092,321.83999999999997,257.47000000000003,51.49,null,null,"Coll. Inc. Pred.",{"$f":"+K452*Q452","v":19.309999999999999},7.4999999999999997E-2,19.309999999999999]
["PC",2023,3301," 48 del 22/03/2023","Z253A76DDB","Veicoli in noleggio 1",null,null,16092,321.83999999999997,257.47000000000003,51.49,null,null,"RUP Affidamento",{"$f":"+K453*Q453","v":38.619999999999997},0.15,38.619999999999997]
["PC",2023,3301," 48 del 22/03/2023","Z253A76DDB","Veicoli in noleggio 1",null,null,16092,321.83999999999997,257.47000000000003,51.49,null,null,"Coll. RUP Affidamento",{"$f":"+K454*Q454","v":20.6},0.08,20.6]
["MC",2023,1273,"123 del 27/06/2023","990615735D","SDAPA ICT LOTTO 1","48 MESI DALLA STIPULA",null,4200000,{"$f":"+I455*1.9%","v":79800},63840,12768,{"$f":"SUM(R455:R470)","v":20832},{"$f":"SUM(P455:P470)","v":20832},"Inc. Pred. Doc",1120,1.67E-2,1120,null,null,null,null,null,0]
["MC",2023,1273,"123 del 27/06/2023","990615735D","SDAPA ICT LOTTO 1",null,null,4200000,{"$f":"+I456*1.9%","v":79800},{"$f":"+J456*0.8","v":63840},{"$f":"+K456*0.2","v":12768},null,null,"Inc. Pred. Doc",1120,1.67E-2,1120]
["MC",2023,1273,"123 del 27/06/2023","990615735D","SDAPA ICT LOTTO 1",null,null,4200000,79800,63840,12768,null,null,"Inc. Pred. Doc",1120,1.67E-2,1120]
["MC",2023,1273,"123 del 27/06/2023","990615735D","SDAPA ICT LOTTO 1",null,null,4200000,79800,63840,12768,null,null,"Coll. Inc. Pred. Doc",2016,0.03,2016]
["MC",2023,1273,"123 del 27/06/2023","990615735D","SDAPA ICT LOTTO 1",null,null,4200000,79800,63840,12768,null,null,"Coll. Inc. Pred. Doc",2016,0.03,2016]
["MC",2023,1273,"123 del 27/06/2023","990615735D","SDAPA ICT LOTTO 1",null,null,4200000,79800,63840,12768,null,null,"Coll. Inc. Pred. Doc",2016,0.03,2016]
["MC",2023,1273,"123 del 27/06/2023","990615735D","SDAPA ICT LOTTO 1",null,null,4200000,79800,63840,12768,null,null,"Coll. Inc. Pred. Doc",672,0.01,672]
["MC",2023,1273,"123 del 27/06/2023","990615735D","SDAPA ICT LOTTO 1",null,null,4200000,79800,63840,12768,null,null,"RUP Affidamento",0,0.1,0]
["MC",2023,1273,"123 del 27/06/2023","990615735D","SDAPA ICT LOTTO 1",null,null,4200000,79800,63840,12768,null,null,"Suddivisione quota RUP ",2016,0.03,2016]
["MC",2023,1273,"123 del 27/06/2023","990615735D","SDAPA ICT LOTTO 1",null,null,4200000,79800,63840,12768,null,null,"Suddivisione quota RUP ",2016,0.03,2016]
["MC",2023,1273,"123 del 27/06/2023","990615735D","SDAPA ICT LOTTO 1",null,null,4200000,79800,63840,12768,null,null,"Suddivisione quota RUP ",2016,0.03,2016]
["MC",2023,1273,"123 del 27/06/2023","990615735D","SDAPA ICT LOTTO 1",null,null,4200000,79800,63840,12768,null,null,"Suddivisione quota RUP ",672,0.01,672]
["MC",2023,1273,"123 del 27/06/2023","990615735D","SDAPA ICT LOTTO 1",null,null,4200000,79800,63840,12768,null,null,"Coll RUP Aff.",1008,1.4999999999999999E-2,1008]
["MC",2023,1273,"123 del 27/06/2023","990615735D","SDAPA ICT LOTTO 1",null,null,4200000,79800,63840,12768,null,null,"Coll RUP Aff.",1008,1.4999999999999999E-2,1008]
["MC",2023,1273,"123 del 27/06/2023","990615735D","SDAPA ICT LOTTO 1",null,null,4200000,79800,63840,12768,null,null,"Coll RUP Aff.",1008,1.4999999999999999E-2,1008]
["MC",2023,1273,"123 del 27/06/2023","990615735D","SDAPA ICT LOTTO 1",null,null,4200000,79800,63840,12768,null,null,"Coll RUP Aff.",1008,1.4999999999999999E-2,1008]
["MC",2023,1273,"123 del 27/06/2023",9906271171,"SDAPA ICT LOTTO 2","48 MESI DALLA STIPULA",null,4200000,{"$f":"+I471*1.9%","v":79800},63840,12768,{"$f":"SUM(R471:R486)","v":20832},{"$f":"SUM(P471:P486)","v":20832},"Inc. Pred. Doc",1120,1.67E-2,1120,null,null,null,null,null,0]
["MC",2023,1273,"123 del 27/06/2023",9906271171,"SDAPA ICT LOTTO 2",null,null,4200000,79800,{"$f":"+J472*0.8","v":63840},{"$f":"+K472*0.2","v":12768},null,null,"Inc. Pred. Doc",1120,1.67E-2,1120]
["MC",2023,1273,"123 del 27/06/2023",9906271171,"SDAPA ICT LOTTO 2",null,null,4200000,79800,63840,12768,null,null,"Inc. Pred. Doc",1120,1.67E-2,1120]
["MC",2023,1273,"123 del 27/06/2023",9906271171,"SDAPA ICT LOTTO 2",null,null,4200000,79800,63840,12768,null,null,"Coll. Inc. Pred. Doc",2016,0.03,2016]
["MC",2023,1273,"123 del 27/06/2023",9906271171,"SDAPA ICT LOTTO 2",null,null,4200000,79800,63840,12768,null,null,"Coll. Inc. Pred. Doc",2016,0.03,2016]
["MC",2023,1273,"123 del 27/06/2023",9906271171,"SDAPA ICT LOTTO 2",null,null,4200000,79800,63840,12768,null,null,"Coll. Inc. Pred. Doc",2016,0.03,2016]
["MC",2023,1273,"123 del 27/06/2023",9906271171,"SDAPA ICT LOTTO 2",null,null,4200000,79800,63840,12768,null,null,"Coll. Inc. Pred. Doc",672,0.01,672]
["MC",2023,1273,"123 del 27/06/2023",9906271171,"SDAPA ICT LOTTO 2",null,null,4200000,79800,63840,12768,null,null,"RUP Affidamento",0,0.1,0]
["MC",2023,1273,"123 del 27/06/2023",9906271171,"SDAPA ICT LOTTO 2",null,null,4200000,79800,63840,12768,null,null,"Suddivisione quota RUP ",2016,0.03,2016]
["MC",2023,1273,"123 del 27/06/2023",9906271171,"SDAPA ICT LOTTO 2",null,null,4200000,79800,63840,12768,null,null,"Suddivisione quota RUP ",2016,0.03,2016]
["MC",2023,1273,"123 del 27/06/2023",9906271171,"SDAPA ICT LOTTO 2",null,null,4200000,79800,63840,12768,null,null,"Suddivisione quota RUP ",2016,0.03,2016]
["MC",2023,1273,"123 del 27/06/2023",9906271171,"SDAPA ICT LOTTO 2",null,null,4200000,79800,63840,12768,null,null,"Suddivisione quota RUP ",672,0.01,672]
["MC",2023,1273,"123 del 27/06/2023",9906271171,"SDAPA ICT LOTTO 2",null,null,4200000,79800,63840,12768,null,null,"Coll RUP Aff.",1008,1.4999999999999999E-2,1008]
["MC",2023,1273,"123 del 27/06/2023",9906271171,"SDAPA ICT LOTTO 2",null,null,4200000,79800,63840,12768,null,null,"Coll RUP Aff.",1008,1.4999999999999999E-2,1008]
["MC",2023,1273,"123 del 27/06/2023",9906271171,"SDAPA ICT LOTTO 2",null,null,4200000,79800,63840,12768,null,null,"Coll RUP Aff.",1008,1.4999999999999999E-2,1008]
["MC",2023,1273,"123 del 27/06/2023",9906271171,"SDAPA ICT LOTTO 2",null,null,4200000,79800,63840,12768,null,null,"Coll RUP Aff.",1008,1.4999999999999999E-2,1008]
["MC",2022,1295,"201 del 07/12/2022","95172868DB","SERVIZI DI PULIZIA E IGIENE AMBIENTALE IVI COMPRESA LA FORNITURA DEL MATERIALE IGIENICO SANITARIO (LOTTO 1)","2024-01-01","31/12/2025 (salvo rinnovo)",3227900,{"$f":"+I487*1.9%","v":61330.1},49064.08,{"$f":"+J487*0.2","v":12266.02},49064.08,30665.03,"Inc. Programmazione",{"$f":"+K487*Q487","v":613.29999999999995},1.2500000000000001E-2,613.29999999999995,null,null,null,null,null,{"$f":"+M487-N487","v":18399.05}]
["MC",2022,1295,"201 del 07/12/2023","95172868DB","SERVIZI DI PULIZIA E IGIENE AMBIENTALE IVI COMPRESA LA FORNITURA DEL MATERIALE IGIENICO SANITARIO (LOTTO 1)",null,null,3227900,{"$f":"+I488*1.9%","v":61330.1},{"$f":"+J488*0.8","v":49064.08},{"$f":"+J488*0.2","v":12266.02},null,null,"Inc. Programmazione",{"$f":"+K488*Q488","v":613.29999999999995},1.2500000000000001E-2,613.29999999999995]
["MC",2022,1295,"201 del 07/12/2022","95172868DB","SERVIZI DI PULIZIA E IGIENE AMBIENTALE IVI COMPRESA LA FORNITURA DEL MATERIALE IGIENICO SANITARIO (LOTTO 1)",null,null,3227900,{"$f":"+I489*1.9%","v":61330.1},{"$f":"+J489*0.8","v":49064.08},12266.02,null,null,"Inc. Programmazione",{"$f":"+K489*Q489","v":245.32},5.0000000000000001E-3,245.32]
["MC",2022,1295,"201 del 07/12/2022","95172868DB","SERVIZI DI PULIZIA E IGIENE AMBIENTALE IVI COMPRESA LA FORNITURA DEL MATERIALE IGIENICO SANITARIO (LOTTO 1)",null,null,3227900,61330.1,49064.08,12266.02,null,null,"Coll. Inc. Programmazione",{"$f":"+K490*Q490","v":245.32},5.0000000000000001E-3,245.32]
["MC",2022,1295,"201 del 07/12/2022","95172868DB","SERVIZI DI PULIZIA E IGIENE AMBIENTALE IVI COMPRESA LA FORNITURA DEL MATERIALE IGIENICO SANITARIO (LOTTO 1)",null,null,3227900,{"$f":"+I491*1.9%","v":61330.1},{"$f":"+J491*0.8","v":49064.08},12266.02,null,null,"Coll. Inc. Programmazione",{"$f":"+K491*Q491","v":171.72},3.5000000000000001E-3,{"$f":"ROUND(P491,2)","v":171.72}]
["MC",2022,1295,"201 del 07/12/2022","95172868DB","SERVIZI DI PULIZIA E IGIENE AMBIENTALE IVI COMPRESA LA FORNITURA DEL MATERIALE IGIENICO SANITARIO (LOTTO 1)",null,null,3227900,61330.1,49064.08,12266.02,null,null,"Coll. Inc. Programmazione",{"$f":"+K492*Q492","v":417.04},8.5000000000000006E-3,417.04]
["MC",2022,1295,"201 del 07/12/2022","95172868DB","SERVIZI DI PULIZIA E IGIENE AMBIENTALE IVI COMPRESA LA FORNITURA DEL MATERIALE IGIENICO SANITARIO (LOTTO 1)",null,null,3227900,61330.1,49064.08,12266.02,null,null,"Coll. Inc. Programmazione",{"$f":"+K493*Q493","v":98.13},2E-3,{"$f":"ROUND(P493,2)","v":98.13}]
["MC",2022,1295,"201 del 07/12/2022","95172868DB","SERVIZI DI PULIZIA E IGIENE AMBIENTALE IVI COMPRESA LA FORNITURA DEL MATERIALE IGIENICO SANITARIO (LOTTO 1)",null,null,3227900,{"$f":"+I494*1.9%","v":61330.1},{"$f":"+J494*0.8","v":49064.08},12266.02,null,null,"Coll. Inc. Programmazione",{"$f":"+K494*Q494","v":24.53},5.0000000000000001E-4,{"$f":"ROUND(P494,2)","v":24.53}]
["MC",2022,1295,"201 del 07/12/2022","95172868DB","SERVIZI DI PULIZIA E IGIENE AMBIENTALE IVI COMPRESA LA FORNITURA DEL MATERIALE IGIENICO SANITARIO (LOTTO 1)",null,null,3227900,61330.1,49064.08,12266.02,null,null,"Coll. Inc. Programmazione",{"$f":"+K495*Q495","v":24.53},5.0000000000000001E-4,24.53]
["MC",2022,1295,"201 del 07/12/2022","95172868DB","SERVIZI DI PULIZIA E IGIENE AMBIENTALE IVI COMPRESA LA FORNITURA DEL MATERIALE IGIENICO SANITARIO (LOTTO 1)",null,null,3227900,61330.1,49064.08,12266.02,null,null,"Inc. Pred. Doc",{"$f":"+K496*Q496","v":3802.47},7.7499999999999999E-2,3802.47]
["MC",2022,1295,"201 del 07/12/2022","95172868DB","SERVIZI DI PULIZIA E IGIENE AMBIENTALE IVI COMPRESA LA FORNITURA DEL MATERIALE IGIENICO SANITARIO (LOTTO 1)",null,null,3227900,61330.1,49064.08,12266.02,null,null,"Inc. Pred. Doc",{"$f":"+K497*Q497","v":3802.47},7.7499999999999999E-2,3802.47]
["MC",2022,1295,"201 del 07/12/2022","95172868DB","SERVIZI DI PULIZIA E IGIENE AMBIENTALE IVI COMPRESA LA FORNITURA DEL MATERIALE IGIENICO SANITARIO (LOTTO 1)",null,null,3227900,61330.1,49064.08,12266.02,null,null,"Coll. Inc. Pred. Doc",{"$f":"+K498*Q498","v":367.98},7.4999999999999997E-3,367.98]
["MC",2022,1295,"201 del 07/12/2022","95172868DB","SERVIZI DI PULIZIA E IGIENE AMBIENTALE IVI COMPRESA LA FORNITURA DEL MATERIALE IGIENICO SANITARIO (LOTTO 1)",null,null,3227900,61330.1,49064.08,12266.02,null,null,"Coll. Inc. Pred. Doc",{"$f":"+K499*Q499","v":367.98},7.4999999999999997E-3,367.98]
["MC",2022,1295,"201 del 07/12/2022","95172868DB","SERVIZI DI PULIZIA E IGIENE AMBIENTALE IVI COMPRESA LA FORNITURA DEL MATERIALE IGIENICO SANITARIO (LOTTO 1)",null,null,3227900,61330.1,49064.08,12266.02,null,null,"Coll. Inc. Pred. Doc",{"$f":"+K500*Q500","v":245.32},5.0000000000000001E-3,245.32]
["MC",2022,1295,"201 del 07/12/2022","95172868DB","SERVIZI DI PULIZIA E IGIENE AMBIENTALE IVI COMPRESA LA FORNITURA DEL MATERIALE IGIENICO SANITARIO (LOTTO 1)",null,null,3227900,61330.1,49064.08,12266.02,null,null,"RUP Affidamento",0,0.35,0]
["MC",2022,1295,"201 del 07/12/2022","95172868DB","SERVIZI DI PULIZIA E IGIENE AMBIENTALE IVI COMPRESA LA FORNITURA DEL MATERIALE IGIENICO SANITARIO (LOTTO 1)",null,null,3227900,61330.1,49064.08,12266.02,null,null,"Suddivisione quota RUP ",{"$f":"+K502*Q502","v":5887.69},0.12,5887.69]
["MC",2022,1295,"201 del 07/12/2022","95172868DB","SERVIZI DI PULIZIA E IGIENE AMBIENTALE IVI COMPRESA LA FORNITURA DEL MATERIALE IGIENICO SANITARIO (LOTTO 1)",null,null,3227900,61330.1,49064.08,12266.02,null,null,"Suddivisione quota RUP ",{"$f":"+K503*Q503","v":5887.69},0.12,5887.69]
["MC",2022,1295,"201 del 07/12/2022","95172868DB","SERVIZI DI PULIZIA E IGIENE AMBIENTALE IVI COMPRESA LA FORNITURA DEL MATERIALE IGIENICO SANITARIO (LOTTO 1)",null,null,3227900,{"$f":"+I504*1.9%","v":61330.1},{"$f":"+J504*0.8","v":49064.08},12266.02,null,null,"Suddivisione quota RUP ",{"$f":"+K504*Q504","v":1962.56},0.04,{"$f":"ROUND(P504,2)","v":1962.56}]
["MC",2022,1295,"201 del 07/12/2022","95172868DB","SERVIZI DI PULIZIA E IGIENE AMBIENTALE IVI COMPRESA LA FORNITURA DEL MATERIALE IGIENICO SANITARIO (LOTTO 1)",null,null,3227900,61330.1,49064.08,12266.02,null,null,"Suddivisione quota RUP ",{"$f":"+K505*Q505","v":1520.99},3.1E-2,1520.99]
["MC",2022,1295,"201 del 07/12/2022","95172868DB","SERVIZI DI PULIZIA E IGIENE AMBIENTALE IVI COMPRESA LA FORNITURA DEL MATERIALE IGIENICO SANITARIO (LOTTO 1)",null,null,3227900,61330.1,49064.08,12266.02,null,null,"Suddivisione quota RUP ",{"$f":"+K506*Q506","v":1520.99},3.1E-2,1520.99]
["MC",2022,1295,"201 del 07/12/2022","95172868DB","SERVIZI DI PULIZIA E IGIENE AMBIENTALE IVI COMPRESA LA FORNITURA DEL MATERIALE IGIENICO SANITARIO (LOTTO 1)",null,null,3227900,61330.1,49064.08,12266.02,null,null,"Suddivisione quota RUP ",{"$f":"+K507*Q507","v":294.38},6.0000000000000001E-3,294.38]
["MC",2022,1295,"201 del 07/12/2022","95172868DB","SERVIZI DI PULIZIA E IGIENE AMBIENTALE IVI COMPRESA LA FORNITURA DEL MATERIALE IGIENICO SANITARIO (LOTTO 1)",null,null,3227900,61330.1,49064.08,12266.02,null,null,"Suddivisione quota RUP ",{"$f":"+K508*Q508","v":49.06},1E-3,49.06]
["MC",2022,1295,"201 del 07/12/2022","95172868DB","SERVIZI DI PULIZIA E IGIENE AMBIENTALE IVI COMPRESA LA FORNITURA DEL MATERIALE IGIENICO SANITARIO (LOTTO 1)",null,null,3227900,61330.1,49064.08,12266.02,null,null,"Suddivisione quota RUP ",{"$f":"+K509*Q509","v":49.06},1E-3,49.06]
["MC",2022,1295,"201 del 07/12/2022","95172868DB","SERVIZI DI PULIZIA E IGIENE AMBIENTALE IVI COMPRESA LA FORNITURA DEL MATERIALE IGIENICO SANITARIO (LOTTO 1)",null,null,3227900,61330.1,49064.08,12266.02,null,null,"Coll RUP Aff.",817.73,1.67E-2,817.73]
["MC",2022,1295,"201 del 07/12/2022","95172868DB","SERVIZI DI PULIZIA E IGIENE AMBIENTALE IVI COMPRESA LA FORNITURA DEL MATERIALE IGIENICO SANITARIO (LOTTO 1)",null,null,3227900,61330.1,49064.08,12266.02,null,null,"Coll RUP Aff.",817.73,1.67E-2,817.73]
["MC",2022,1295,"201 del 07/12/2022","95172868DB","SERVIZI DI PULIZIA E IGIENE AMBIENTALE IVI COMPRESA LA FORNITURA DEL MATERIALE IGIENICO SANITARIO (LOTTO 1)",null,null,3227900,61330.1,49064.08,12266.02,null,null,"Coll RUP Aff.",817.73,1.67E-2,817.73]
["MC",2022,1305,"201 del 07/12/2022","9517366ADF","SERVIZI MANUTENZIONE A VERDE  (LOTTO 2)","2024-01-01","31/12/2025 (salvo rinnovo)",427500,{"$f":"+I513*1.9%","v":8122.5},6498,{"$f":"+J513*0.2","v":1624.5},6498,{"$f":"SUM(P513:P534)","v":4061.28},"Inc. Programmazione",{"$f":"+K513*Q513","v":81.23},1.2500000000000001E-2,{"$f":"ROUND(P513,2)","v":81.23},null,null,null,null,null,{"$f":"+M513-N513","v":2436.7199999999998}]
["MC",2022,1305,"201 del 07/12/2023","9517366ADF","SERVIZI MANUTENZIONE A VERDE  (LOTTO 2)",null,null,427500,{"$f":"+I514*1.9%","v":8122.5},{"$f":"+J514*0.8","v":6498},{"$f":"+J514*0.2","v":1624.5},null,null,"Inc. Programmazione",{"$f":"+K513*Q514","v":81.23},1.2500000000000001E-2,81.23]
["MC",2022,1305,"201 del 07/12/2022","9517366ADF","SERVIZI MANUTENZIONE A VERDE  (LOTTO 2)",null,null,427500,{"$f":"+I515*1.9%","v":8122.5},{"$f":"+J515*0.8","v":6498},1624.5,null,null,"Inc. Programmazione",{"$f":"+K515*Q515","v":32.49},5.0000000000000001E-3,{"$f":"ROUND(P515,2)","v":32.49}]
["MC",2022,1305,"201 del 07/12/2022","9517366ADF","SERVIZI MANUTENZIONE A VERDE  (LOTTO 2)",null,null,427500,8122.5,{"$f":"+J516*0.8","v":6498},1624.5,null,null,"Coll. Inc. Programmazione",{"$f":"+K516*Q516","v":48.74},7.4999999999999997E-3,48.74]
["MC",2022,1305,"201 del 07/12/2022","9517366ADF","SERVIZI MANUTENZIONE A VERDE  (LOTTO 2)",null,null,427500,8122.5,{"$f":"+J517*0.8","v":6498},1624.5,null,null,"Coll. Inc. Programmazione",{"$f":"+K517*Q517","v":32.49},5.0000000000000001E-3,32.49]
["MC",2022,1305,"201 del 07/12/2022","9517366ADF","SERVIZI MANUTENZIONE A VERDE  (LOTTO 2)",null,null,427500,8122.5,6498,1624.5,null,null,"Coll. Inc. Programmazione",{"$f":"+K518*Q518","v":32.49},5.0000000000000001E-3,32.49]
["MC",2022,1305,"201 del 07/12/2022","9517366ADF","SERVIZI MANUTENZIONE A VERDE  (LOTTO 2)",null,null,427500,8122.5,6498,1624.5,null,null,"Coll. Inc. Programmazione",{"$f":"+K519*Q519","v":16.25},2.5000000000000001E-3,16.25]
["MC",2022,1305,"201 del 07/12/2022","9517366ADF","SERVIZI MANUTENZIONE A VERDE  (LOTTO 2)",null,null,427500,8122.5,6498,1624.5,null,null,"Inc. Pred. Doc",{"$f":"+K520*Q520","v":503.6},7.7499999999999999E-2,503.6]
["MC",2022,1305,"201 del 07/12/2022","9517366ADF","SERVIZI MANUTENZIONE A VERDE  (LOTTO 2)",null,null,427500,8122.5,6498,1624.5,null,null,"Inc. Pred. Doc",{"$f":"+K521*Q521","v":503.6},7.7499999999999999E-2,503.6]
["MC",2022,1305,"201 del 07/12/2022","9517366ADF","SERVIZI MANUTENZIONE A VERDE  (LOTTO 2)",null,null,427500,8122.5,6498,1624.5,null,null,"Coll. Inc. Pred. Doc",{"$f":"+K522*Q522","v":64.98},0.01,64.98]
["MC",2022,1305,"201 del 07/12/2022","9517366ADF","SERVIZI MANUTENZIONE A VERDE  (LOTTO 2)",null,null,427500,8122.5,6498,1624.5,null,null,"Coll. Inc. Pred. Doc",{"$f":"+K523*Q523","v":64.98},0.01,64.98]
["MC",2022,1305,"201 del 07/12/2022","9517366ADF","SERVIZI MANUTENZIONE A VERDE  (LOTTO 2)",null,null,427500,8122.5,6498,1624.5,null,null,"RUP Affidamento",0,0.35,0]
["MC",2022,1305,"201 del 07/12/2022","9517366ADF","SERVIZI MANUTENZIONE A VERDE  (LOTTO 2)",null,null,427500,8122.5,6498,1624.5,null,null,"Suddivisione quota RUP ",{"$f":"+K525*Q525","v":909.72},0.14000000000000001,909.72]
["MC",2022,1305,"201 del 07/12/2022","9517366ADF","SERVIZI MANUTENZIONE A VERDE  (LOTTO 2)",null,null,427500,8122.5,6498,1624.5,null,null,"Suddivisione quota RUP ",{"$f":"+K526*Q526","v":909.72},0.14000000000000001,909.72]
["MC",2022,1305,"201 del 07/12/2022","9517366ADF","SERVIZI MANUTENZIONE A VERDE  (LOTTO 2)",null,null,427500,8122.5,6498,1624.5,null,null,"Suddivisione quota RUP ",{"$f":"+K527*Q527","v":227.43},3.5000000000000003E-2,227.43]
["MC",2022,1305,"201 del 07/12/2022","9517366ADF","SERVIZI MANUTENZIONE A VERDE  (LOTTO 2)",null,null,427500,8122.5,6498,1624.5,null,null,"Suddivisione quota RUP ",{"$f":"+K528*Q528","v":32.49},5.0000000000000001E-3,32.49]
["MC",2022,1305,"201 del 07/12/2022","9517366ADF","SERVIZI MANUTENZIONE A VERDE  (LOTTO 2)",null,null,427500,8122.5,6498,1624.5,null,null,"Suddivisione quota RUP ",{"$f":"+K529*Q529","v":129.96},0.02,129.96]
["MC",2022,1305,"201 del 07/12/2022","9517366ADF","SERVIZI MANUTENZIONE A VERDE  (LOTTO 2)",null,null,427500,8122.5,{"$f":"+J530*0.8","v":6498},1624.5,null,null,"Suddivisione quota RUP ",{"$f":"+K530*Q530","v":32.49},5.0000000000000001E-3,32.49]
["MC",2022,1305,"201 del 07/12/2022","9517366ADF","SERVIZI MANUTENZIONE A VERDE  (LOTTO 2)",null,null,427500,8122.5,6498,1624.5,null,null,"Suddivisione quota RUP ",{"$f":"+K531*Q531","v":32.49},5.0000000000000001E-3,32.49]
["MC",2022,1305,"201 del 07/12/2022","9517366ADF","SERVIZI MANUTENZIONE A VERDE  (LOTTO 2)",null,null,427500,8122.5,6498,1624.5,null,null,"Coll RUP Aff.",108.3,1.67E-2,108.3]
["MC",2022,1305,"201 del 07/12/2022","9517366ADF","SERVIZI MANUTENZIONE A VERDE  (LOTTO 2)",null,null,427500,8122.5,6498,1624.5,null,null,"Coll RUP Aff.",108.3,1.67E-2,108.3]
["MC",2022,1305,"201 del 07/12/2022","9517366ADF","SERVIZI MANUTENZIONE A VERDE  (LOTTO 2)",null,null,427500,8122.5,6498,1624.5,null,null,"Coll RUP Aff.",108.3,1.67E-2,108.3]
["MC",2022,1302,"201 del 07/12/2022","9517427D35","SERVIZI PORTIERATO E RECEPTION  (LOTTO 3)","2024-01-01","31/12/2025 (salvo rinnovo)",999200,{"$f":"+I535*1.9%","v":18984.8},15187.84,{"$f":"+J535*0.2","v":3796.96},{"$f":"+K535","v":15187.84},{"$f":"SUM(P535:P554)","v":9492.42},"Inc. Programmazione",{"$f":"+K535*Q535","v":227.82},1.4999999999999999E-2,227.82,null,null,null,null,null,{"$f":"+M535-N535","v":5695.42}]
["MC",2022,1302,"201 del 07/12/2022","9517427D35","SERVIZI PORTIERATO E RECEPTION  (LOTTO 3)",null,null,999200,18984.8,15187.84,{"$f":"+J536*0.2","v":3796.96},null,null,"Inc. Programmazione",{"$f":"+K536*Q536","v":227.82},1.4999999999999999E-2,227.82]
["MC",2022,1302,"201 del 07/12/2022","9517427D35","SERVIZI PORTIERATO E RECEPTION  (LOTTO 3)",null,null,999200,{"$f":"+I537*1.9%","v":18984.8},{"$f":"+J537*0.8","v":15187.84},3796.96,null,null,"Coll. Inc. Programmazione",{"$f":"+K537*Q537","v":75.94},5.0000000000000001E-3,{"$f":"ROUND(P537,2)","v":75.94}]
["MC",2022,1302,"201 del 07/12/2022","9517427D35","SERVIZI PORTIERATO E RECEPTION  (LOTTO 3)",null,null,999200,18984.8,15187.84,3796.96,null,null,"Coll. Inc. Programmazione",{"$f":"+K538*Q538","v":75.94},5.0000000000000001E-3,75.94]
["MC",2022,1302,"201 del 07/12/2022","9517427D35","SERVIZI PORTIERATO E RECEPTION  (LOTTO 3)",null,null,999200,18984.8,15187.84,3796.96,null,null,"Coll. Inc. Programmazione",{"$f":"+K539*Q539","v":75.94},5.0000000000000001E-3,75.94]
["MC",2022,1302,"201 del 07/12/2022","9517427D35","SERVIZI PORTIERATO E RECEPTION  (LOTTO 3)",null,null,999200,18984.8,{"$f":"+J540*0.8","v":15187.84},3796.96,null,null,"Coll. Inc. Programmazione",{"$f":"+K540*Q540","v":75.94},5.0000000000000001E-3,75.94]
["MC",2022,1302,"201 del 07/12/2022","9517427D35","SERVIZI PORTIERATO E RECEPTION  (LOTTO 3)",null,null,999200,18984.8,15187.84,3796.96,null,null,"Inc. Pred. Doc",{"$f":"+K541*Q541","v":1177.06},7.7499999999999999E-2,1177.06]
["MC",2022,1302,"201 del 07/12/2022","9517427D35","SERVIZI PORTIERATO E RECEPTION  (LOTTO 3)",null,null,999200,18984.8,15187.84,3796.96,null,null,"Inc. Pred. Doc",{"$f":"+K542*Q542","v":1177.06},7.7499999999999999E-2,1177.06]
["MC",2022,1302,"201 del 07/12/2022","9517427D35","SERVIZI PORTIERATO E RECEPTION  (LOTTO 3)",null,null,999200,18984.8,15187.84,3796.96,null,null,"Coll. Inc. Pred. Doc",{"$f":"+K543*Q543","v":151.88},0.01,151.88]
["MC",2022,1302,"201 del 07/12/2022","9517427D35","SERVIZI PORTIERATO E RECEPTION  (LOTTO 3)",null,null,999200,18984.8,15187.84,3796.96,null,null,"Coll. Inc. Pred. Doc",{"$f":"+K544*Q544","v":151.88},0.01,151.88]
["MC",2022,1302,"201 del 07/12/2022","9517427D35","SERVIZI PORTIERATO E RECEPTION  (LOTTO 3)",null,null,999200,18984.8,15187.84,3796.96,null,null,"RUP Affidamento",0,0.35,0]
["MC",2022,1302,"201 del 07/12/2022","9517427D35","SERVIZI PORTIERATO E RECEPTION  (LOTTO 3)",null,null,999200,18984.8,15187.84,3796.96,null,null,"Suddivisione quota RUP ",{"$f":"+K546*Q546","v":2202.2399999999998},0.14499999999999999,2202.2399999999998]
["MC",2022,1302,"201 del 07/12/2022","9517427D35","SERVIZI PORTIERATO E RECEPTION  (LOTTO 3)",null,null,999200,18984.8,15187.84,3796.96,null,null,"Suddivisione quota RUP ",{"$f":"+K547*Q547","v":2202.2399999999998},0.14499999999999999,2202.2399999999998]
["MC",2022,1302,"201 del 07/12/2022","9517427D35","SERVIZI PORTIERATO E RECEPTION  (LOTTO 3)",null,null,999200,18984.8,15187.84,3796.96,null,null,"Suddivisione quota RUP ",{"$f":"+K548*Q548","v":683.45},4.4999999999999998E-2,683.45]
["MC",2022,1302,"201 del 07/12/2022","9517427D35","SERVIZI PORTIERATO E RECEPTION  (LOTTO 3)",null,null,999200,18984.8,15187.84,3796.96,null,null,"Suddivisione quota RUP ",{"$f":"+K549*Q549","v":75.94},5.0000000000000001E-3,75.94]
["MC",2022,1302,"201 del 07/12/2022","9517427D35","SERVIZI PORTIERATO E RECEPTION  (LOTTO 3)",null,null,999200,18984.8,15187.84,3796.96,null,null,"Suddivisione quota RUP ",{"$f":"+K550*Q550","v":75.94},5.0000000000000001E-3,75.94]
["MC",2022,1302,"201 del 07/12/2022","9517427D35","SERVIZI PORTIERATO E RECEPTION  (LOTTO 3)",null,null,999200,18984.8,{"$f":"+J551*0.8","v":15187.84},3796.96,null,null,"Suddivisione quota RUP ",{"$f":"+K551*Q551","v":75.94},5.0000000000000001E-3,{"$f":"ROUND(P551,2)","v":75.94}]
["MC",2022,1302,"201 del 07/12/2022","9517427D35","SERVIZI PORTIERATO E RECEPTION  (LOTTO 3)",null,null,999200,18984.8,15187.84,3796.96,null,null,"Coll RUP Aff.",253.13,1.67E-2,253.13]
["MC",2022,1302,"201 del 07/12/2022","9517427D35","SERVIZI PORTIERATO E RECEPTION  (LOTTO 3)",null,null,999200,18984.8,15187.84,3796.96,null,null,"Coll RUP Aff.",253.13,1.67E-2,253.13]
["MC",2022,1302,"201 del 07/12/2022","9517427D35","SERVIZI PORTIERATO E RECEPTION  (LOTTO 3)",null,null,999200,18984.8,15187.84,3796.96,null,null,"Coll RUP Aff.",253.13,1.67E-2,253.13]
["MC",2022,3321,"201 del 07/12/2022","951765488A ","SERVIZIO DI FACCHINAGGIO (LOTTO 4)","2024-01-01","31/12/2025 (salvo rinnovo)",1098200,{"$f":"+I555*1.9%","v":20865.8},16692.64,{"$f":"+J555*0.2","v":4173.16},{"$f":"+K555","v":16692.64},{"$f":"+P555+P556+P557+P558+P560+P559+P562+P561+P563+P564+P565+P566+P567+P568+P569+P570+P571+P572+P573+P574","v":10432.9},"Inc. Programmazione",{"$f":"+K555*Q555","v":250.39},1.4999999999999999E-2,250.39,null,null,null,null,null,{"$f":"+K555-N555","v":6259.74}]
["MC",2022,3321,"201 del 07/12/2022","951765488A ","SERVIZIO DI FACCHINAGGIO (LOTTO 4)",null,null,1098200,20865.8,16692.64,{"$f":"+J556*0.2","v":4173.16},null,null,"Inc. Programmazione",{"$f":"+K556*Q556","v":250.39},1.4999999999999999E-2,250.39]
["MC",2022,3321,"201 del 07/12/2022","951765488A ","SERVIZIO DI FACCHINAGGIO (LOTTO 4)",null,null,1098200,20865.8,16692.64,4173.16,null,null,"Coll. Inc. Programmazione",83.46,5.0000000000000001E-3,{"$f":"ROUND(P557,2)","v":83.46}]
["MC",2022,3321,"201 del 07/12/2022","951765488A ","SERVIZIO DI FACCHINAGGIO (LOTTO 4)",null,null,1098200,20865.8,16692.64,4173.16,null,null,"Coll. Inc. Programmazione",{"$f":"+K558*Q558","v":83.46},5.0000000000000001E-3,83.46]
["MC",2022,3321,"201 del 07/12/2022","951765488A ","SERVIZIO DI FACCHINAGGIO (LOTTO 4)",null,null,1098200,20865.8,{"$f":"+J559*0.8","v":16692.64},4173.16,null,null,"Coll. Inc. Programmazione",{"$f":"+K559*Q559","v":83.46},5.0000000000000001E-3,83.46]
["MC",2022,3321,"201 del 07/12/2022","951765488A ","SERVIZIO DI FACCHINAGGIO (LOTTO 4)",null,null,1098200,20865.8,16692.64,4173.16,null,null,"Coll. Inc. Programmazione",83.46,5.0000000000000001E-3,83.46]
["MC",2022,3321,"201 del 07/12/2022","951765488A ","SERVIZIO DI FACCHINAGGIO (LOTTO 4)",null,null,1098200,20865.8,16692.64,4173.16,null,null,"Inc. Pred. Doc",{"$f":"+K561*Q561","v":1293.68},7.7499999999999999E-2,1293.68]
["MC",2022,3321,"201 del 07/12/2022","951765488A ","SERVIZIO DI FACCHINAGGIO (LOTTO 4)",null,null,1098200,20865.8,16692.64,4173.16,null,null,"Inc. Pred. Doc",{"$f":"+K562*Q562","v":1293.68},7.7499999999999999E-2,1293.68]
["MC",2022,3321,"201 del 07/12/2022","951765488A ","SERVIZIO DI FACCHINAGGIO (LOTTO 4)",null,null,1098200,20865.8,16692.64,4173.16,null,null,"Coll. Inc. Pred. Doc",{"$f":"+K563*Q563","v":166.93},0.01,166.93]
["MC",2022,3321,"201 del 07/12/2022","951765488A ","SERVIZIO DI FACCHINAGGIO (LOTTO 4)",null,null,1098200,20865.8,16692.64,4173.16,null,null,"Coll. Inc. Pred. Doc",{"$f":"+K564*Q564","v":166.93},0.01,166.93]
["MC",2022,3321,"201 del 07/12/2022","951765488A ","SERVIZIO DI FACCHINAGGIO (LOTTO 4)",null,null,1098200,20865.8,16692.64,4173.16,null,null,"RUP Affidamento",0,0.35,0]
["MC",2022,3321,"201 del 07/12/2022","951765488A ","SERVIZIO DI FACCHINAGGIO (LOTTO 4)",null,null,1098200,20865.8,16692.64,4173.16,null,null,"Suddivisione quota RUP ",{"$f":"+K566*Q566","v":2336.9699999999998},0.14000000000000001,2336.9699999999998]
["MC",2022,3321,"201 del 07/12/2022","951765488A ","SERVIZIO DI FACCHINAGGIO (LOTTO 4)",null,null,1098200,{"$f":"+I567*1.9%","v":20865.8},16692.64,4173.16,null,null,"Suddivisione quota RUP ",{"$f":"+K567*Q567","v":2336.9699999999998},0.14000000000000001,2336.9699999999998]
["MC",2022,3321,"201 del 07/12/2022","951765488A ","SERVIZIO DI FACCHINAGGIO (LOTTO 4)",null,null,1098200,20865.8,16692.64,4173.16,null,null,"Suddivisione quota RUP ",{"$f":"+K568*Q568","v":751.17},4.4999999999999998E-2,751.17]
["MC",2022,3321,"201 del 07/12/2022","951765488A ","SERVIZIO DI FACCHINAGGIO (LOTTO 4)",null,null,1098200,20865.8,16692.64,4173.16,null,null,"Suddivisione quota RUP ",{"$f":"+K569*Q569","v":83.46},5.0000000000000001E-3,83.46]
["MC",2022,3321,"201 del 07/12/2022","951765488A ","SERVIZIO DI FACCHINAGGIO (LOTTO 4)",null,null,1098200,20865.8,{"$f":"+J570*0.8","v":16692.64},4173.16,null,null,"Suddivisione quota RUP ",{"$f":"+K570*Q570","v":166.93},0.01,{"$f":"ROUND(P570,2)","v":166.93}]
["MC",2022,3321,"201 del 07/12/2022","951765488A ","SERVIZIO DI FACCHINAGGIO (LOTTO 4)",null,null,1098200,20865.8,16692.64,4173.16,null,null,"Suddivisione quota RUP ",{"$f":"+K571*Q571","v":166.93},0.01,166.93]
["MC",2022,3321,"201 del 07/12/2022","951765488A ","SERVIZIO DI FACCHINAGGIO (LOTTO 4)",null,null,1098200,20865.8,16692.64,4173.16,null,null,"Coll RUP Aff.",278.20999999999998,1.67E-2,278.20999999999998]
["MC",2022,3321,"201 del 07/12/2022","951765488A ","SERVIZIO DI FACCHINAGGIO (LOTTO 4)",null,null,1098200,20865.8,16692.64,4173.16,null,null,"Coll RUP Aff.",278.20999999999998,1.67E-2,278.20999999999998]
["MC",2022,3321,"201 del 07/12/2022","951765488A ","SERVIZIO DI FACCHINAGGIO (LOTTO 4)",null,null,1098200,20865.8,16692.64,4173.16,null,null,"Coll RUP Aff.",278.20999999999998,1.67E-2,278.20999999999998]
["GC",2023,4254," 72 DEL 28.04.2023","9764533B88","Fornitura di scaffalature e lavori accessori ( Affidamento ed esecuzione)","60 giorni dalla data del verbale di avvio",null,24000,{"$f":"+I575*2%","v":480},384,{"$f":"+J575*0.2","v":96},{"$f":"SUM(R575:R582)","v":218.88},{"$f":"SUM(P575:P582)","v":218.88},"Incaricato programm.",{"$f":"+K575*Q575","v":11.52},0.03,11.52,null,null,null,null,null,0]
["GC",2023,4254," 72 DEL 28.04.2023","9764533B88","Fornitura di scaffalature e lavori accessori ( Affidamento ed esecuzione)",null,null,24000,480,{"$f":"+J576*0.8","v":384},{"$f":"+J576*0.2","v":96},null,null,"Coll. Inc. prog.",{"$f":"+K576*Q576","v":7.68},0.02,{"$f":"ROUND(P576,2)","v":7.68}]
["GC",2023,4254," 72 DEL 28.04.2023","9764533B88","Fornitura di scaffalature e lavori accessori ( Affidamento ed esecuzione)",null,null,24000,480,384,96,null,null,"Inc. ver. prev. Progetti",{"$f":"+K577*Q577","v":24.96},6.5000000000000002E-2,24.96]
["GC",2023,4254," 72 DEL 28.04.2023","9764533B88","Fornitura di scaffalature e lavori accessori ( Affidamento ed esecuzione)",null,null,24000,480,384,96,null,null,"Coll. Ver. prev. Progetti",{"$f":"+K578*Q578","v":5.76},1.4999999999999999E-2,5.76]
["GC",2023,4254," 72 DEL 28.04.2023","9764533B88","Fornitura di scaffalature e lavori accessori ( Affidamento ed esecuzione)",null,null,24000,480,384,96,null,null,"Inc. Pred. Doc. ",{"$f":"+K579*Q579","v":38.4},0.1,{"$f":"ROUND(P579,2)","v":38.4}]
["GC",2023,4254," 72 DEL 28.04.2023","9764533B88","Fornitura di scaffalature e lavori accessori ( Affidamento ed esecuzione)",null,null,24000,480,{"$f":"+J580*0.8","v":384},96,null,null,"Coll. Inc. Pred. Doc. ",{"$f":"+K580*Q580","v":11.52},0.03,11.52]
["GC",2023,4254," 72 DEL 28.04.2023","9764533B88","Fornitura di scaffalature e lavori accessori ( Affidamento ed esecuzione)",null,null,24000,480,384,96,null,null,"RUP Affidamento",{"$f":"+K581*Q581","v":103.68},0.27,103.68]
["GC",2023,4254," 72 DEL 28.04.2023","9764533B88","Fornitura di scaffalature e lavori accessori ( Affidamento ed esecuzione)",null,null,24000,480,384,96,null,null,"Coll. RUP Affidamento",{"$f":"+K582*Q582","v":15.36},0.04,15.36]
["GC",2023,4251," 72 DEL 28.04.2023 ","9764533B88","Fornitura di scaffalature e lavori accessori ( Affidamento ed esecuzione)","60 giorni dalla data del verbale di avvio",null,115000,2300,1840,{"$f":"+J583*0.2","v":460},{"$f":"SUM(R583:R588)","v":1048.8},{"$f":"SUM(P583:P588)","v":1048.8},"Incaricato programm.",{"$f":"+K583*Q583","v":55.2},0.03,55.2,null,null,null,null,null,0]
["GC",2023,4251," 72 DEL 28.04.2023 ","9764533B88","Fornitura di scaffalature e lavori accessori ( Affidamento ed esecuzione)",null,null,115000,{"$f":"+I584*2%","v":2300},{"$f":"+J584*0.8","v":1840},{"$f":"+J584*0.2","v":460},null,null,"Coll. Inc. prog.",{"$f":"+K584*Q584","v":36.799999999999997},0.02,36.799999999999997]
["GC",2023,4251," 72 DEL 28.04.2023 ","9764533B88","Fornitura di scaffalature e lavori accessori ( Affidamento ed esecuzione)",null,null,115000,2300,1840,460,null,null,"Inc. Pred. Doc. ",{"$f":"+K585*Q585","v":248.4},0.13500000000000001,248.4]
["GC",2023,4251," 72 DEL 28.04.2023 ","9764533B88","Fornitura di scaffalature e lavori accessori ( Affidamento ed esecuzione)",null,null,115000,2300,1840,460,null,null,"Coll. Inc. Pred.",{"$f":"+K586*Q586","v":55.2},0.03,55.2]
["GC",2023,4251," 72 DEL 28.04.2023 ","9764533B88","Fornitura di scaffalature e lavori accessori ( Affidamento ed esecuzione)",null,null,115000,2300,1840,460,null,null,"RUP Affidamento",{"$f":"+K587*Q587","v":533.6},0.28999999999999998,533.6]
["GC",2023,4251," 72 DEL 28.04.2023 ","9764533B88","Fornitura di scaffalature e lavori accessori ( Affidamento ed esecuzione)",null,null,115000,2300,1840,460,null,null,"Coll. RUP Affidamento",{"$f":"+K588*Q588","v":119.6},6.5000000000000002E-2,119.6]
["GC",2023,1305,"N. 63 DEL 19.04.2023","ZC13AD43FA","RIMOZIONE E SMALTIMENTO CANNA FUMARIA","2023-06-15","2024-01-10",2220.4,44.41,35.53,{"$f":"+J589*0.2","v":8.8800000000000008},{"$f":"SUM(R589:R600)","v":35.53},{"$f":"SUM(P589:P600)","v":35.53},"Incaricato programm.",{"$f":"+K589*Q589","v":1.07},0.03,{"$f":"ROUND(P589,2)","v":1.07},null,null,null,null,null,0]
["GC",2023,1305,"N. 63 DEL 19.04.2023","ZC13AD43FA","RIMOZIONE E SMALTIMENTO CANNA FUMARIA","2023-06-15","2024-01-10",2220.4,44.41,{"$f":"+J590*0.8","v":35.53},{"$f":"+J590*0.2","v":8.8800000000000008},null,null,"Coll. Inc. prog.",0.7,0.02,0.7]
["GC",2023,1305,"N. 63 DEL 19.04.2023","ZC13AD43FA","RIMOZIONE E SMALTIMENTO CANNA FUMARIA","2023-06-15","2024-01-10",2220.4,44.41,35.53,8.8800000000000008,null,null,"Inc. Pred. Doc. ",{"$f":"+K591*Q591","v":4.8},0.13500000000000001,4.8]
["GC",2023,1305,"N. 63 DEL 19.04.2023","ZC13AD43FA","RIMOZIONE E SMALTIMENTO CANNA FUMARIA","2023-06-15","2024-01-10",2220.4,44.41,35.53,8.8800000000000008,null,null,"Coll. Inc. Pred.",{"$f":"+K592*Q592","v":1.07},0.03,1.07]
["GC",2023,1305,"N. 63 DEL 19.04.2023","ZC13AD43FA","RIMOZIONE E SMALTIMENTO CANNA FUMARIA","2023-06-15","2024-01-10",2220.4,44.41,35.53,8.8800000000000008,null,null,"RUP Affidamento",{"$f":"+K593*Q593","v":10.3},0.28999999999999998,10.3]
["GC",2023,1305,"N. 63 DEL 19.04.2023","ZC13AD43FA","RIMOZIONE E SMALTIMENTO CANNA FUMARIA","2023-06-15","2024-01-10",2220.4,44.41,35.53,8.8800000000000008,null,null,"Coll. RUP Affidamento",{"$f":"+K594*Q594","v":2.31},6.5000000000000002E-2,2.31]
["GC",2023,1305,"N. 63 DEL 19.04.2023","ZC13AD43FA","RIMOZIONE E SMALTIMENTO CANNA FUMARIA","2023-06-15","2024-01-10",2220.4,44.41,35.53,8.8800000000000008,null,null,"RUP esecuzione",{"$f":"+K595*Q595","v":6.4},0.18,6.4]
["GC",2023,1305,"N. 63 DEL 19.04.2023","ZC13AD43FA","RIMOZIONE E SMALTIMENTO CANNA FUMARIA","2023-06-15","2024-01-10",2220.4,44.41,35.53,8.8800000000000008,null,null,"Coll. RUP esecuzione",{"$f":"+K596*Q596","v":1.42},0.04,1.42]
["GC",2023,1305,"N. 63 DEL 19.04.2023","ZC13AD43FA","RIMOZIONE E SMALTIMENTO CANNA FUMARIA","2023-06-15","2024-01-10",2220.4,44.41,35.53,8.8800000000000008,null,null,"DEC ",{"$f":"+K597*Q597","v":4.09},0.115,4.09]
["GC",2023,1305,"N. 63 DEL 19.04.2023","ZC13AD43FA","RIMOZIONE E SMALTIMENTO CANNA FUMARIA","2023-06-15","2024-01-10",2220.4,44.41,35.53,8.8800000000000008,null,null,"Coll. DEC",{"$f":"+K598*Q598","v":1.6},4.4999999999999998E-2,1.6]
["GC",2023,1305,"N. 63 DEL 19.04.2023","ZC13AD43FA","RIMOZIONE E SMALTIMENTO CANNA FUMARIA","2023-06-15","2024-01-10",2220.4,44.41,35.53,8.8800000000000008,null,null,"Inc. Ver. Conf",{"$f":"+K599*Q599","v":1.24},3.5000000000000003E-2,1.24]
["GC",2023,1305,"N. 63 DEL 19.04.2023","ZC13AD43FA","RIMOZIONE E SMALTIMENTO CANNA FUMARIA","2023-06-15","2024-01-10",2220.4,44.41,35.53,8.8800000000000008,null,null,"Coll. Inc Ver. Conf.",{"$f":"+K600*Q600","v":0.53},1.4999999999999999E-2,0.53]
["GC",2023,3303,"N. 109 DEL 13.06.2023 "," 985010107E","ricognizione, depolveratura, disinfestazione e attività complementari dei testi del Fondo Antico ","2023-06-15","2024-01-10",138952,2779.04,2223.23,{"$f":"+J601*0.2","v":555.80999999999995},{"$f":"SUM(R601:R606)","v":1267.25},{"$f":"SUM(P601:P606)","v":1267.25},"Incaricato programm.",{"$f":"+K601*Q601","v":66.7},0.03,66.7,null,null,null,null,null,0]
["GC",2023,3303,"N. 109 DEL 13.06.2023 "," 985010107E","ricognizione, depolveratura, disinfestazione e attività complementari dei testi del Fondo Antico ","2023-06-15","2024-01-10",138952,2779.04,{"$f":"+J602*0.8","v":2223.23},{"$f":"+J602*0.2","v":555.80999999999995},null,null,"Coll. Inc. prog.",{"$f":"+K602*Q602","v":44.46},0.02,44.46]
["GC",2023,3303,"N. 109 DEL 13.06.2023 "," 985010107E","ricognizione, depolveratura, disinfestazione e attività complementari dei testi del Fondo Antico ","2023-06-15","2024-01-10",138952,2779.04,2223.23,555.80999999999995,null,null,"Inc. Pred. Doc. ",{"$f":"+K603*Q603","v":300.14},0.13500000000000001,300.14]
["GC",2023,3303,"N. 109 DEL 13.06.2023 "," 985010107E","ricognizione, depolveratura, disinfestazione e attività complementari dei testi del Fondo Antico ","2023-06-15","2024-01-10",138952,2779.04,2223.23,555.80999999999995,null,null,"Coll. Inc. Pred.",{"$f":"+K604*Q604","v":66.7},0.03,66.7]
["GC",2023,3303,"N. 109 DEL 13.06.2023 "," 985010107E","ricognizione, depolveratura, disinfestazione e attività complementari dei testi del Fondo Antico ","2023-06-15","2024-01-10",138952,2779.04,2223.23,555.80999999999995,null,null,"RUP Affidamento",{"$f":"+K605*Q605","v":644.74},0.28999999999999998,644.74]
["GC",2023,3303,"N. 109 DEL 13.06.2023 "," 985010107E","ricognizione, depolveratura, disinfestazione e attività complementari dei testi del Fondo Antico ","2023-06-15","2024-01-10",138952,2779.04,2223.23,555.80999999999995,null,null,"Coll. RUP Affidamento",{"$f":"+K606*Q606","v":144.51},6.5000000000000002E-2,144.51]
["PC",2022,3306,"57 del 14/04/2022"," Z9A360314C","servizio di noleggio di n. 2 autovetture (SOLO ESECUZIONE)","36 mesi dalla data di consegna",null,31892.04,{"$f":"+I607*2/100","v":637.84},{"$f":"+(J607)*0.8","v":510.27},{"$f":"+(J607)*0.2","v":127.57},252.68,{"$f":"SUM(P607:P614)","v":106.8},"RUP esecuzione",36.68,0.17,null,null,null,null,257.68,{"$f":"+N607","v":106.8},{"$f":"+K607-W607-V607","v":145.79}]
["PC",2022,3306,"57 del 14/04/2022"," Z9A360314C","servizio di noleggio di n. 2 autovetture",null,null,31892.04,637.84,510.27,127.57,null,null,"Coll. RUP esecuzione",8.6300000000000008,0.04]
["PC",2022,3306,"57 del 14/04/2022"," Z9A360314C","servizio di noleggio di n. 2 autovetture",null,null,31892.04,{"$f":"+I609*2/100","v":637.84},{"$f":"+(J609)*0.8","v":510.27},{"$f":"+(J609)*0.2","v":127.57},null,null,"Coll. RUP esecuzione",8.6300000000000008,0.04]
["PC",2022,3306,"57 del 14/04/2022"," Z9A360314C","servizio di noleggio di n. 2 autovetture",null,null,31892.04,637.84,510.27,127.57,null,null,"DEC ",23.74,0.11]
["PC",2022,3306,"57 del 14/04/2022"," Z9A360314C","servizio di noleggio di n. 2 autovetture",null,null,31892.04,637.84,510.27,127.57,null,null,"Coll. DEC",7.01,3.2500000000000001E-2]
["PC",2022,3306,"57 del 14/04/2022"," Z9A360314C","servizio di noleggio di n. 2 autovetture",null,null,31892.04,637.84,510.27,127.57,null,null,"Coll. DEC",7.01,3.2500000000000001E-2]
["PC",2022,3306,"57 del 14/04/2022"," Z9A360314C","servizio di noleggio di n. 2 autovetture",null,null,31892.04,637.84,510.27,127.57,null,null,"Inc. Ver. Conf",8.6300000000000008,0.04]
["PC",2022,3306,"57 del 14/04/2022"," Z9A360314C","servizio di noleggio di n. 2 autovetture",null,null,31892.04,637.84,510.27,127.57,null,null,"Coll. Inc Ver. Conf.",6.47,0.03]
["CQ",2023,3322,"45 DEL 17/03/2023","9720950DB3 ","Servizio di pulizia presso le sedi del CDS (solo affidamento)","2023-07-01","2023-12-31",8990,179.8,143.84,35.96,{"$f":"+K615","v":143.84},{"$f":"SUM(P615:P620)","v":82},"Inc. Programmazione",{"$f":"+K615*Q615","v":4.32},0.03,null,null,null,null,null,null,{"$f":"+M615-N615","v":61.84}]
["CQ",2023,3322,"45 DEL 17/03/2023","9720950DB3 ","Servizio di pulizia presso le sedi del CDS (solo affidamento)","2023-07-01","2023-12-31",8990,{"$f":"+I616*2/100","v":179.8},{"$f":"+(J616)*0.8","v":143.84},{"$f":"+(J616)*0.2","v":35.96},null,null,"Coll. Inc. Programmazione",{"$f":"+K616*Q616","v":2.88},0.02]
["CQ",2023,3322,"45 DEL 17/03/2023","9720950DB3 ","Servizio di pulizia presso le sedi del CDS (solo affidamento)","2023-07-01","2023-12-31",8990,179.8,143.84,35.96,null,null,"Inc. Predisposizione doc. ",{"$f":"+K617*Q617","v":19.420000000000002},0.13500000000000001]
["CQ",2023,3322,"45 DEL 17/03/2023","9720950DB3 ","Servizio di pulizia presso le sedi del CDS (solo affidamento)","2023-07-01","2023-12-31",8990,179.8,143.84,35.96,null,null,"Coll. Inc. Pred. Doc. ",{"$f":"+K618*Q618","v":4.32},0.03]
["CQ",2023,3322,"45 DEL 17/03/2023","9720950DB3 ","Servizio di pulizia presso le sedi del CDS (solo affidamento)","2023-07-01","2023-12-31",8990,179.8,143.84,35.96,null,null,"RUP Affidamento",{"$f":"+K619*Q619","v":41.71},0.28999999999999998]
["CQ",2023,3322,"45 DEL 17/03/2023","9720950DB3 ","Servizio di pulizia presso le sedi del CDS (solo affidamento)","2023-07-01","2023-12-31",8990,179.8,143.84,35.96,null,null,"Coll. RUP Affidamento",{"$f":"+K620*Q620","v":9.35},6.5000000000000002E-2]
["CQ",2023,1295,"45 DEL 17/03/2023","9720950DB3 ","Servizio di pulizia presso le sedi del CDS (solo affidamento)","2023-07-01","2023-12-31",130000,2600,2080,520,{"$f":"+K621","v":2080},{"$f":"SUM(P621:P626)","v":1185.5999999999999},"Inc. Programmazione",{"$f":"+K621*Q621","v":62.4},0.03,null,null,null,null,null,null,{"$f":"+K621-N621","v":894.4}]
["CQ",2023,1295,"45 DEL 17/03/2023","9720950DB3 ","Servizio di pulizia presso le sedi del CDS (solo affidamento)","2023-07-01","2023-12-31",130000,{"$f":"+I622*2/100","v":2600},{"$f":"+(J622)*0.8","v":2080},{"$f":"+(J622)*0.2","v":520},null,null,"Coll. Inc. Programmazione",{"$f":"+K622*Q622","v":41.6},0.02]
["CQ",2023,1295,"45 DEL 17/03/2023","9720950DB3 ","Servizio di pulizia presso le sedi del CDS (solo affidamento)","2023-07-01","2023-12-31",130000,2600,2080,520,null,null,"Inc. Predisposizione doc. ",{"$f":"+K623*Q623","v":280.8},0.13500000000000001]
["CQ",2023,1295,"45 DEL 17/03/2023","9720950DB3 ","Servizio di pulizia presso le sedi del CDS (solo affidamento)","2023-07-01","2023-12-31",130000,2600,2080,520,null,null,"Coll. Inc. Pred. Doc. ",{"$f":"+K624*Q624","v":62.4},0.03]
["CQ",2023,1295,"45 DEL 17/03/2023","9720950DB3 ","Servizio di pulizia presso le sedi del CDS (solo affidamento)","2023-07-01","2023-12-31",130000,2600,2080,520,null,null,"RUP Affidamento",{"$f":"+K625*Q625","v":603.20000000000005},0.28999999999999998]
["CQ",2023,1295,"45 DEL 17/03/2023","9720950DB3 ","Servizio di pulizia presso le sedi del CDS (solo affidamento)","2023-07-01","2023-12-31",130000,2600,2080,520,null,null,"Coll. RUP Affidamento",{"$f":"+K626*Q626","v":135.19999999999999},6.5000000000000002E-2]
["CQ",2023,1273,"96 del 30/05/2023","Z713B5D54B","supporto informatico ErasmoNet ","2023-06-01","2023-12-31",8750,{"$f":"+I627*0.02","v":175},{"$f":"+J627*0.8","v":140},{"$f":"+J627*0.2","v":35},43.4,{"$f":"+R627+R628+R629+R630","v":43.4},"Inc. Pred. Doc",{"$f":"+K627*Q627","v":7},0.05,{"$f":"ROUND(P627,2)","v":7},null,null,null,null,null,0]
["CQ",2023,1273,"96 DEL 30-05-2023","Z713B5D54B","supporto informatico ErasmoNet ","2023-06-01","2023-12-31",8750,{"$f":"+I628*0.02","v":175},{"$f":"+J628*0.8","v":140},{"$f":"+J628*0.2","v":35},null,null,"Coll. Inc. Pred. Doc",{"$f":"+K628*Q628","v":14},0.1,{"$f":"ROUND(P628,2)","v":14}]
["CQ",2023,1273,"96 DEL 30-05-2023","Z713B5D54B","supporto informatico ErasmoNet ","2023-06-01","2023-12-31",8750,175,140,35,null,null,"RUP Affidamento",{"$f":"+K629*Q629","v":14},0.1,14]
["CQ",2023,1273,"96 DEL 30-05-2023","Z713B5D54B","supporto informatico ErasmoNet ","2023-06-01","2023-12-31",8750,175,140,35,null,null,"Coll RUP Aff.",{"$f":"+K630*Q630","v":8.4},0.06,8.4]
["CQ",2023,1302,"124 del 28/06/2023",9932281990,"servizio di vigilanza armata 2024 (solo affidamento)","2024-01-01","2023-03-31",214000,{"$f":"+I631*0.02","v":4280},{"$f":"+J631*0.8","v":3424},{"$f":"+J631*0.2","v":856},{"$f":"+K631","v":3424},{"$f":"SUM(P631:P636)","v":2140},"Incaricato programm.",{"$f":"+K631*Q631","v":102.72},0.03,null,null,null,null,null,null,{"$f":"+K631-N631","v":1284}]
["CQ",2023,1302,"124 del 28/06/2023",9932281990,"servizio di vigilanza armata 2024 (solo affidamento)","2024-01-01","2023-03-31",214000,4280,3424,{"$f":"+J632*0.2","v":856},null,null,"Coll. Inc. prog.",{"$f":"+K632*Q632","v":68.48},0.02]
["CQ",2023,1302,"124 del 28/06/2023",9932281990,"servizio di vigilanza armata 2024 (solo affidamento)","2024-01-01","2023-03-31",214000,4280,3424,856,null,null,"Inc. Pred. Doc. ",{"$f":"+K633*Q633","v":530.72},0.155]
["CQ",2023,1302,"124 del 28/06/2023",9932281990,"servizio di vigilanza armata 2024 (solo affidamento)","2024-01-01","2023-03-31",214000,4280,3424,856,null,null,"Coll. Inc. Pred.",{"$f":"+K634*Q634","v":68.48},0.02]
["CQ",2023,1302,"124 del 28/06/2023",9932281990,"servizio di vigilanza armata 2024 (solo affidamento)","2024-01-01","2023-03-31",214000,4280,3424,856,null,null,"RUP Affidamento",{"$f":"+K635*Q635","v":1198.4000000000001},0.35]
["CQ",2023,1302,"124 del 28/06/2023",9932281990,"servizio di vigilanza armata 2024 (solo affidamento)","2024-01-01","2023-03-31",214000,4280,3424,856,null,null,"Coll. RUP Affidamento",{"$f":"+K636*Q636","v":171.2},0.05]
["MT",2022,1307,"83 del 31/05/2022","Z7036A230A","affidamento del servizio di raccolta e recapito degli  invii postali del Consiglio di Stato – Pick up mail","2022-07-01","2025-06-30",39900,798,{"$f":"+(J637)*0.8","v":638.4},{"$f":"+(J637)*0.2","v":159.6},{"$f":"+K637-V637","v":264.99},{"$f":"SUM(P637:P644)","v":136.76},"RUP Esecuzione",57.25,0.18,null,null,null,null,373.41,null,{"$f":"+M637-N637","v":128.22999999999999}]
["MT",2022,1307,"83 del 31/05/2022","Z7036A230A","affidamento del servizio di raccolta e recapito degli  invii postali del Consiglio di Stato – Pick up mail",null,null,39900,798,{"$f":"+(J638)*0.8","v":638.4},{"$f":"+(J638)*0.2","v":159.6},null,null,"Coll. RUP esecuzione",6.36,0.01]
["MT",2022,1307,"83 del 31/05/2022","Z7036A230A","affidamento del servizio di raccolta e recapito degli  invii postali del Consiglio di Stato – Pick up mail",null,null,39900,798,638.4,159.6,null,null,"Coll. RUP esecuzione",6.36,0.01]
["MT",2022,1307,"83 del 31/05/2022","Z7036A230A","affidamento del servizio di raccolta e recapito degli  invii postali del Consiglio di Stato – Pick up mail",null,null,39900,798,638.4,159.6,null,null,"DEC",36.57,0.115]
["MT",2022,1307,"83 del 31/05/2022","Z7036A230A","affidamento del servizio di raccolta e recapito degli  invii postali del Consiglio di Stato – Pick up mail",null,null,39900,798,638.4,159.6,null,null,"Coll. DEC",7.16,2.2499999999999999E-2]
["MT",2022,1307,"83 del 31/05/2022","Z7036A230A","affidamento del servizio di raccolta e recapito degli  invii postali del Consiglio di Stato – Pick up mail",null,null,39900,798,638.4,159.6,null,null,"Coll. DEC",7.16,2.2499999999999999E-2]
["MT",2022,1307,"83 del 31/05/2022","Z7036A230A","affidamento del servizio di raccolta e recapito degli  invii postali del Consiglio di Stato – Pick up mail",null,null,39900,798,638.4,159.6,null,null,"Inc. Ver. Conf",11.13,3.5000000000000003E-2]
["MT",2022,1307,"83 del 31/05/2022","Z7036A230A","affidamento del servizio di raccolta e recapito degli  invii postali del Consiglio di Stato – Pick up mail",null,null,39900,798,638.4,159.6,null,null,"Coll. Inc. Ver. Conf",4.7699999999999996,1.4999999999999999E-2]