{"text_format":"1","workbook":"xlsx","n_sheets":1,"sheets":["All. 9 - RIEPILOGO PER UGBTEP"],"not_rendered":{"charts":0,"images":0,"macros":1,"external_links":2,"defined_names":2,"comments":0,"pivot_tables":0},"unopened":[],"bounds":{"document_bytes":16777216,"sheet_cells":100000,"rows_first":2000,"rows_last":500,"rows_between":2000,"halvings":0,"cell_chars":16384,"cell_head_chars":4096},"cells_cut":0,"cells_raw":0,"read":"whole","date_system":"1900"}

{"sheet":"All. 9 - RIEPILOGO PER UGBTEP","index":0,"n_rows":815,"n_cols":29,"rows_kept":815,"cut":false,"hidden":false,"merged":[[0,5,0,6],[553,5,553,6],[536,5,536,6],[550,5,550,6],[551,5,551,6],[540,5,540,6],[541,5,541,6],[542,5,542,6],[543,5,543,6],[538,5,538,6],[514,5,514,6],[515,5,515,6],[516,5,516,6],[517,5,517,6],[518,5,518,6],[530,5,530,6],[531,5,531,6],[532,5,532,6],[519,5,519,6],[520,5,520,6],[521,5,521,6],[524,5,524,6],[526,5,526,6],[527,5,527,6],[528,5,528,6],[529,5,529,6],[522,5,522,6],[523,5,523,6],[525,5,525,6],[555,5,555,6],[556,5,556,6],[557,5,557,6],[544,5,544,6],[545,5,545,6],[546,5,546,6],[547,5,547,6],[548,5,548,6],[552,5,552,6],[549,5,549,6],[554,5,554,6],[535,5,535,6],[533,5,533,6],[534,5,534,6],[537,5,537,6],[539,5,539,6]]}
["Anno","CAPITOLO DI SPESA","DETERMINA N.     DEL","CIG","OGGETTO DEL CONTRATTO","PERIODO CONTRATTUALE               (DAL ...….… AL……....)",null,"IMPORTO A BASE D'ASTA","AMMONTARE INCENTIVO \nPER SINGOLO CONTRATTO \n(2% -1,90%)",0.8,0.2,"quota 80% \nRELATIVA ALL'UFFICIO che ha predisposto l'allegato 10 (es. UUCR,  SPI, … ALTRO) anno in corso","quota 80% \nRELATIVA ALL'UFFICIO che ha predisposto l'allegato 10 (es. UUCR,  SPI, … ALTRO) anno in corso","Tipo incarico","importo unitario liquidato","percentuale di ripartizione dell'incentivo in base al tipo di incarico svolto","QUOTA LIQUIDATA NEL 2019","QUOTA LIQUIDATA NEL 2020","QUOTA LIQUIDATA NEL 2021",2023,2024,2025,2026]
[2022,1273,"20 del 08/02/2022","909156117B"," contratto a consumo con la società Eltime s.r.l. per forniture di beni e servizi complementari al funzionamento del sistema di gestione presenze","2022-02-08","2022-12-31",48000,{"$f":"+H2*0.02","v":960},{"$f":"+I2*0.8","v":768},{"$f":"+I2*0.2","v":192},{"$f":"+M2","v":238.08000000000004},{"$f":"+O2+O3+O4+O5","v":238.08000000000004},"Inc. Pred. Doc",{"$f":"+J2*P2","v":38.400000000000006},0.05]
[2022,1273,"20 del 08/02/2022","909156117B"," contratto a consumo con la società Eltime s.r.l. per forniture di beni e servizi complementari al funzionamento del sistema di gestione presenze","2022-02-08","2022-12-31",48000,960,768,192,null,null,"Coll. Inc. Pred. Doc",{"$f":"+J3*P3","v":76.800000000000011},0.1]
[2022,1273,"20 del 08/02/2022","909156117B"," contratto a consumo con la società Eltime s.r.l. per forniture di beni e servizi complementari al funzionamento del sistema di gestione presenze","2022-02-08","2022-12-31",48000,960,768,192,null,null,"RUP Affidamento",{"$f":"+J4*P4","v":76.800000000000011},0.1]
[2022,1273,"20 del 08/02/2022","909156117B"," contratto a consumo con la società Eltime s.r.l. per forniture di beni e servizi complementari al funzionamento del sistema di gestione presenze","2022-02-08","2022-12-31",48000,960,768,192,null,null,"Coll RUP Aff.",{"$f":"+J5*P5","v":46.08},0.06]
[2022,1273,"110 DEL 07/07/2022","ZF7371275E","affidamento della fornitura di materiale di facile consumo",null,null,8500,170,136,34,{"$f":"+M6","v":42.16},{"$f":"+O6+O7+O8+O9","v":42.16},"Inc. Pred. Doc",{"$f":"+J6*P6","v":6.8000000000000007},0.05]
[2022,1273,"110 DEL 07/07/2022","ZF7371275E","affidamento della fornitura di materiale di facile consumo",null,null,8500,170,136,34,null,null,"Coll. Inc. Pred. Doc",{"$f":"+J7*P7","v":13.600000000000001},0.1]
[2022,1273,"110 DEL 07/07/2022","ZF7371275E","affidamento della fornitura di materiale di facile consumo",null,null,8500,170,136,34,null,null,"RUP Affidamento",{"$f":"+J8*P8","v":13.600000000000001},0.1]
[2022,1273,"110 DEL 07/07/2022","ZF7371275E","affidamento della fornitura di materiale di facile consumo",null,null,8500,170,136,34,null,null,"Coll RUP Aff.",{"$f":"+J9*P9","v":8.16},0.06]
[2022,1273,"12 del 26/01/2022","907998617D","fornitura di licenze Azure Microsoft","2022-01-28","2023-06-30",382773.87,{"$f":"+H10*1.9/100","v":7272.7035299999998},5818.162824,1454.540706,{"$f":"+M10","v":1803.6304754399998},{"$f":"+O10+O11+O12+O13","v":1803.6304754399998},"Inc. Pred. Doc",{"$f":"+J10*P10","v":290.90814119999999},0.05]
[2022,1273,"12 del 26/01/2022","907998617D","fornitura di licenze Azure Microsoft","2022-01-28","2023-06-30",382773.87,{"$f":"+H11*1.9/100","v":7272.7035299999998},5818.162824,1454.540706,null,null,"Coll. Inc. Pred. Doc",{"$f":"+J11*P11","v":581.81628239999998},0.1]
[2022,1273,"12 del 26/01/2022","907998617D","fornitura di licenze Azure Microsoft","2022-01-28","2023-06-30",382773.87,{"$f":"+H12*1.9/100","v":7272.7035299999998},5818.162824,1454.540706,null,null,"RUP Affidamento",{"$f":"+J12*P12","v":581.81628239999998},0.1]
[2022,1273,"12 del 26/01/2022","907998617D","fornitura di licenze Azure Microsoft","2022-01-28","2023-06-30",382773.87,{"$f":"+H13*1.9/100","v":7272.7035299999998},5818.162824,1454.540706,null,null,"Coll RUP Aff.",{"$f":"+J13*P13","v":349.08976944},0.06]
[2022,1273,"161 DEL 24/10/2022",944165180,"Affidamento  Servizi di Supporto “Microsoft Services Unified Enterprise Support” (2022-2023)","2022-10-09","2023-10-08",75000,{"$f":"+H14*0.02","v":1500},1200,300,{"$f":"+M14","v":372},{"$f":"+O14+O15+O16+O17","v":372},"Inc. Pred. Doc.",{"$f":"+J14*P14","v":60},0.05]
[2022,1273,"161 DEL 24/10/2022",944165180,"Affidamento  Servizi di Supporto “Microsoft Services Unified Enterprise Support” (2022-2023)","2022-10-09","2023-10-08",75000,{"$f":"+H15*0.02","v":1500},1200,300,null,null,"Coll. Inc. Pred. Doc.",{"$f":"+J15*P15","v":120},0.1]
[2022,1273,"161 DEL 24/10/2022",944165180,"Affidamento  Servizi di Supporto “Microsoft Services Unified Enterprise Support” (2022-2023)","2022-10-09","2023-10-08",75000,{"$f":"+H16*0.02","v":1500},1200,300,null,null,"RUP Affidamento",{"$f":"+J16*P16","v":120},0.1]
[2022,1273,"161 DEL 24/10/2022",944165180,"Affidamento  Servizi di Supporto “Microsoft Services Unified Enterprise Support” (2022-2023)","2022-10-09","2023-10-08",75000,{"$f":"+H17*0.02","v":1500},1200,300,null,null,"Coll RUP Aff.",{"$f":"+J17*P17","v":72},0.06]
[2022,1273,"93 DEL 15/06/2022","Z7836D0682","acquisto di un pacchetto di giornate di supporto a consumo per assicurare il Servizio di Help Desk ",null,null,19467,{"$f":"+H18*2/100","v":389.34},311.47199999999998,77.867999999999995,{"$f":"+M18","v":96.556319999999999},{"$f":"+O18+O19+O20+O21","v":96.556319999999999},"Inc. Pred. Doc",{"$f":"+J18*P18","v":15.573599999999999},0.05]
[2022,1273,"93 DEL 15/06/2022","Z7836D0682","acquisto di un pacchetto di giornate di supporto a consumo per assicurare il Servizio di Help Desk ",null,null,19467,{"$f":"+H19*2/100","v":389.34},311.47199999999998,77.867999999999995,null,null,"Coll. Inc. Pred. Doc",{"$f":"+J19*P19","v":31.147199999999998},0.1]
[2022,1273,"93 DEL 15/06/2022","Z7836D0682","acquisto di un pacchetto di giornate di supporto a consumo per assicurare il Servizio di Help Desk ",null,null,19467,{"$f":"+H20*2/100","v":389.34},311.47199999999998,77.867999999999995,null,null,"RUP Affidamento",{"$f":"+J20*P20","v":31.147199999999998},0.1]
[2022,1273,"93 DEL 15/06/2022","Z7836D0682","acquisto di un pacchetto di giornate di supporto a consumo per assicurare il Servizio di Help Desk ",null,null,19467,{"$f":"+H21*2/100","v":389.34},311.47199999999998,77.867999999999995,null,null,"Coll RUP Aff.",{"$f":"+J21*P21","v":18.688319999999997},0.06]
[2022,1273,"77  DEL 23/05/2022",9241280182,"fornitura e posa in opera di un sistema di videoconferenza per due sale di Palazzo Aldobrandini ",null,null,40791,{"$f":"+H22*0.02","v":815.82},652.65600000000006,163.16400000000002,{"$f":"+M22","v":202.32336000000001},{"$f":"+O22+O23+O24+O25+O26","v":202.32336000000001},"Inc. Pred. Doc",{"$f":"+J22*P22","v":32.632800000000003},0.05]
[2022,1273,"77  DEL 23/05/2022",9241280182,"fornitura e posa in opera di un sistema di videoconferenza per due sale di Palazzo Aldobrandini ",null,null,40791,815.82,652.65600000000006,163.16400000000002,null,null,"Coll. Inc. Pred. Doc",{"$f":"+J23*P23","v":42.422640000000008},6.5000000000000002E-2]
[2022,1273,"77  DEL 23/05/2022",9241280182,"fornitura e posa in opera di un sistema di videoconferenza per due sale di Palazzo Aldobrandini ",null,null,40791,815.82,652.65600000000006,163.16400000000002,null,null,"Coll. Inc. Pred. Doc",{"$f":"+J24*P24","v":22.842960000000005},3.5000000000000003E-2]
[2022,1273,"77  DEL 23/05/2022",9241280182,"fornitura e posa in opera di un sistema di videoconferenza per due sale di Palazzo Aldobrandini ",null,null,40791,815.82,652.65600000000006,163.16400000000002,null,null,"RUP Affidamento",{"$f":"+J25*P25","v":65.265600000000006},0.1]
[2022,1273,"77  DEL 23/05/2022",9241280182,"fornitura e posa in opera di un sistema di videoconferenza per due sale di Palazzo Aldobrandini ",null,null,40791,815.82,652.65600000000006,163.16400000000002,null,null,"Coll RUP Aff.",{"$f":"+J26*P26","v":39.15936},0.06]
[2022,1273,"164 DEL 18/10/2022","945043165E","affidamento della fornitura dei servizi di streaming",null,null,74250,1485,1188,297,{"$f":"+M27","v":368.28000000000009},{"$f":"+O27+O29+O30+O31+O28","v":368.28000000000009},"Inc. Pred. Doc",{"$f":"+J27*P27","v":59.400000000000006},0.05]
[2022,1273,"164 DEL 18/10/2022","945043165E","affidamento della fornitura dei servizi di streaming",null,null,74250,1485,1188,297,null,null,"Coll. Inc. Pred. Doc",{"$f":"+J28*P28","v":77.22},6.5000000000000002E-2]
[2022,1273,"164 DEL 18/10/2022","945043165E","affidamento della fornitura dei servizi di streaming",null,null,74250,1485,1188,297,null,null,"Coll. Inc. Pred. Doc",{"$f":"+J29*P29","v":41.580000000000005},3.5000000000000003E-2]
[2022,1273,"164 DEL 18/10/2022","945043165E","affidamento della fornitura dei servizi di streaming",null,null,74250,1485,1188,297,null,null,"RUP Affidamento",{"$f":"+J30*P30","v":118.80000000000001},0.1]
[2022,1273,"164 DEL 18/10/2022","945043165E","affidamento della fornitura dei servizi di streaming",null,null,74250,1485,1188,297,null,null,"Coll RUP Aff.",{"$f":"+J31*P31","v":71.28},0.06]
[2022,1273,"216 del 30/12/2022","9581583C6A","adesione alla Convenzione Consip Telefonia edizione 8, dei servizi di Telefonia Mobile per le Pubbliche Amministrazioni ","2022-12-30","2023-12-29",75000,{"$f":"+H32*2/100","v":1500},1200,300,{"$f":"+M32","v":168},{"$f":"+O32+O33+O34+O35","v":168},"Inc. Pred. Doc.",{"$f":"+J32*P32","v":24},0.02]
[2022,1273,"216 del 30/12/2022","9581583C6A","adesione alla Convenzione Consip Telefonia edizione 8, dei servizi di Telefonia Mobile per le Pubbliche Amministrazioni ","2022-12-30","2023-12-29",75000,1500,1200,{"$f":"+I33*0.2","v":300},null,null,"Coll. Inc. Pred. Doc.",{"$f":"+J33*P33","v":12},0.01]
[2022,1273,"216 del 30/12/2022","9581583C6A","adesione alla Convenzione Consip Telefonia edizione 8, dei servizi di Telefonia Mobile per le Pubbliche Amministrazioni ","2022-12-30","2023-12-29",75000,1500,{"$f":"+I34*0.8","v":1200},300,null,null,"RUP Affidamento",{"$f":"+J34*P34","v":96},0.08]
[2022,1273,"216 del 30/12/2022","9581583C6A","adesione alla Convenzione Consip Telefonia edizione 8, dei servizi di Telefonia Mobile per le Pubbliche Amministrazioni ","2022-12-30","2023-12-29",75000,1500,1200,300,null,null,"Coll RUP Aff.",{"$f":"+J35*P35","v":36},0.03]
[2022,1273,"198 del 05/12/2022","9529082F37","Affidamento del servizio di consultazione di Banche dati giuridiche “Foroplus” – La Tribuna - ",null,null,50000,1000,800,{"$f":"+I36*0.2","v":200},{"$f":"+M36","v":248},{"$f":"+O36+O37+O38+O39","v":248},"Inc. Pred. Doc",{"$f":"+J36*P36","v":40},0.05]
[2022,1273,"198 del 05/12/2022","9529082F37","Affidamento del servizio di consultazione di Banche dati giuridiche “Foroplus” – La Tribuna - ",null,null,50000,1000,800,{"$f":"+I37*0.2","v":200},null,null,"Coll. Inc. Pred. Doc",{"$f":"+J37*P37","v":80},0.1]
[2022,1273,"198 del 05/12/2022","9529082F37","Affidamento del servizio di consultazione di Banche dati giuridiche “Foroplus” – La Tribuna - ",null,null,50000,1000,800,{"$f":"+I38*0.2","v":200},null,null,"RUP Affidamento",{"$f":"+J38*P38","v":80},0.1]
[2022,1273,"198 del 05/12/2022","9529082F37","Affidamento del servizio di consultazione di Banche dati giuridiche “Foroplus” – La Tribuna - ",null,null,50000,1000,800,{"$f":"+I39*0.2","v":200},null,null,"Coll RUP Aff.",{"$f":"+J39*P39","v":48},0.06]
[2022,1273,"18 del 07/02/2022","ZB6351AFF7","acquisto/rinnovo licenze utili al corretto funzionamento del Sistema",null,null,2940,58.8,47.04,11.76,{"$f":"+M40","v":14.582399999999998},{"$f":"+O40+O41+O42+O43","v":14.582399999999998},"Inc. Pred. Doc",{"$f":"+J40*P40","v":2.3519999999999999},0.05]
[2022,1273,"18 del 07/02/2022","ZB6351AFF7","acquisto/rinnovo licenze utili al corretto funzionamento del Sistema",null,null,2940,58.8,47.04,{"$f":"+I41*0.2","v":11.76},null,null,"Coll. Inc. Pred. Doc",{"$f":"+J41*P41","v":4.7039999999999997},0.1]
[2022,1273,"18 del 07/02/2022","ZB6351AFF7","acquisto/rinnovo licenze utili al corretto funzionamento del Sistema",null,null,2940,58.8,47.04,11.76,null,null,"RUP Affidamento",{"$f":"+J42*P42","v":4.7039999999999997},0.1]
[2022,1273,"18 del 07/02/2022","ZB6351AFF7","acquisto/rinnovo licenze utili al corretto funzionamento del Sistema",null,null,2940,58.8,47.04,11.76,null,null,"Coll RUP Aff.",{"$f":"+J43*P43","v":2.8224},0.06]
[2022,1273,"41 del 11/03/2022","9133554F2F ","Affidamento dei servizi triennali di manutenzione e assistenza tecnica in scadenza per lo chassis e i server blade DELL in esercizio presso il CED della G.A. e associati servizi professionali per una durata complessiva di 36 mesi",null,null,60000,{"$f":"+H44*0.02","v":1200},960,240,{"$f":"+M44","v":297.60000000000002},{"$f":"+O44+O46+O47+O48+O45","v":297.60000000000002},"Inc. Pred. Doc",{"$f":"+J44*P44","v":48},0.05]
[2022,1273,"41 del 11/03/2022","9133554F2F ","Affidamento dei servizi triennali di manutenzione e assistenza tecnica in scadenza per lo chassis e i server blade DELL in esercizio presso il CED della G.A. e associati servizi professionali per una durata complessiva di 36 mesi",null,null,60000,{"$f":"+H45*0.02","v":1200},960,240,null,null,"Coll. Inc. Pred. Doc",{"$f":"+J45*P45","v":62.400000000000006},6.5000000000000002E-2]
[2022,1273,"41 del 11/03/2022","9133554F2F ","Affidamento dei servizi triennali di manutenzione e assistenza tecnica in scadenza per lo chassis e i server blade DELL in esercizio presso il CED della G.A. e associati servizi professionali per una durata complessiva di 36 mesi",null,null,60000,1200,960,240,null,null,"Coll. Inc. Pred. Doc",{"$f":"+J46*P46","v":33.6},3.5000000000000003E-2]
[2022,1273,"41 del 11/03/2022","9133554F2F ","Affidamento dei servizi triennali di manutenzione e assistenza tecnica in scadenza per lo chassis e i server blade DELL in esercizio presso il CED della G.A. e associati servizi professionali per una durata complessiva di 36 mesi",null,null,60000,1200,960,240,null,null,"RUP Affidamento",{"$f":"+J47*P47","v":96},0.1]
[2022,1273,"41 del 11/03/2022","9133554F2F ","Affidamento dei servizi triennali di manutenzione e assistenza tecnica in scadenza per lo chassis e i server blade DELL in esercizio presso il CED della G.A. e associati servizi professionali per una durata complessiva di 36 mesi",null,null,60000,1200,960,240,null,null,"Coll RUP Aff.",{"$f":"+J48*P48","v":57.599999999999994},0.06]
[2022,1273,"11 DEL 25/01/2022","Z8934E9B4E "," affidamento del supporto del sistema multimediale Bosch Dicentis installato in sala Pompeo presso Palazzo Spada",null,null,24400,488,390.40000000000003,97.600000000000009,{"$f":"+M49","v":121.02400000000003},{"$f":"+O49+O50+O51+O52+O53","v":121.02400000000003},"Inc. Pred. Doc",{"$f":"+J49*P49","v":19.520000000000003},0.05]
[2022,1273,"11 DEL 25/01/2022","Z8934E9B4E "," affidamento del supporto del sistema multimediale Bosch Dicentis installato in sala Pompeo presso Palazzo Spada",null,null,24400,488,390.40000000000003,97.600000000000009,null,null,"Coll. Inc. Pred. Doc",{"$f":"+J50*P50","v":25.376000000000005},6.5000000000000002E-2]
[2022,1273,"11 DEL 25/01/2022","Z8934E9B4E "," affidamento del supporto del sistema multimediale Bosch Dicentis installato in sala Pompeo presso Palazzo Spada",null,null,24400,488,390.40000000000003,97.600000000000009,null,null,"Coll. Inc. Pred. Doc",{"$f":"+J51*P51","v":13.664000000000003},3.5000000000000003E-2]
[2022,1273,"11 DEL 25/01/2022","Z8934E9B4E "," affidamento del supporto del sistema multimediale Bosch Dicentis installato in sala Pompeo presso Palazzo Spada",null,null,24400,488,390.40000000000003,97.600000000000009,null,null,"RUP Affidamento",{"$f":"+J52*P52","v":39.040000000000006},0.1]
[2022,1273,"11 DEL 25/01/2022","Z8934E9B4E "," affidamento del supporto del sistema multimediale Bosch Dicentis installato in sala Pompeo presso Palazzo Spada",null,null,24400,488,390.40000000000003,97.600000000000009,null,null,"Coll RUP Aff.",{"$f":"+J53*P53","v":23.423999999999999},0.06]
[2022,1273,"51 DEL 12/04/2022","9182040B1A","manutenzione e assistenza tecnica NetApp",null,null,200000,4000,3200,800,{"$f":"+M54","v":992},{"$f":"+O54+O55+O56+O57+O58","v":992},"Inc. Pred. Doc",{"$f":"+J54*P54","v":160},0.05]
[2022,1273,"51 DEL 12/04/2022","9182040B1A","manutenzione e assistenza tecnica NetApp",null,null,200000,4000,3200,800,null,null,"Coll. Inc. Pred. Doc",{"$f":"+J55*P55","v":208},6.5000000000000002E-2]
[2022,1273,"51 DEL 12/04/2022","9182040B1A","manutenzione e assistenza tecnica NetApp",null,null,200000,4000,3200,800,null,null,"Coll. Inc. Pred. Doc",{"$f":"+J56*P56","v":112.00000000000001},3.5000000000000003E-2]
[2022,1273,"51 DEL 12/04/2022","9182040B1A","manutenzione e assistenza tecnica NetApp",null,null,200000,4000,3200,800,null,null,"RUP Affidamento",{"$f":"+J57*P57","v":320},0.1]
[2022,1273,"51 DEL 12/04/2022","9182040B1A","manutenzione e assistenza tecnica NetApp",null,null,200000,4000,3200,800,null,null,"Coll RUP Aff.",{"$f":"+J58*P58","v":192},0.06]
[2021,1273,"Determina  n. 191 del 29/12/2021",9049432387,"acquisizione pacchetto Qlik (licenze software e supporto specialistico) ","2022-02-11","2023-02-10",57323,{"$f":"+H59*2/100","v":1146.46},{"$f":"+I59*0.8","v":917.16800000000012},{"$f":"+I59*0.2","v":229.29200000000003},{"$f":"+M59","v":284.32208000000003},{"$f":"+O59+O60+O61+O62","v":284.32208000000003},"Inc. Pred. Doc",{"$f":"+J59*P59","v":45.85840000000001},0.05]
[2021,1273,"Determina  n. 191 del 29/12/2021",9049432387,"acquisizione pacchetto Qlik (licenze software e supporto specialistico) ","2022-02-11","2023-02-10",57323,1146.46,917.16800000000012,229.29200000000003,null,null,"Coll. Inc. Pred. Doc",{"$f":"+J60*P60","v":91.716800000000021},0.1]
[2021,1273,"Determina  n. 191 del 29/12/2021",9049432387,"acquisizione pacchetto Qlik (licenze software e supporto specialistico) ","2022-02-11","2023-02-10",57323,1146.46,917.16800000000012,229.29200000000003,null,null,"RUP Affidamento",{"$f":"+J61*P61","v":91.716800000000021},0.1]
[2021,1273,"Determina  n. 191 del 29/12/2021",9049432387,"acquisizione pacchetto Qlik (licenze software e supporto specialistico) ","2022-02-11","2023-02-10",57323,1146.46,917.16800000000012,229.29200000000003,null,null,"Coll RUP Aff.",{"$f":"+J62*P62","v":55.030080000000005},0.06]
[2022,1273,"n. 90 del 09/06/2022","Z50367EB8C","affidamento della fornitura del materiale di facile consumo",null,null,20000,400,320,80,{"$f":"+M63","v":99.2},{"$f":"+O63+O64+O66+O67+O65","v":99.2},"Inc. Pred. Doc",{"$f":"+J63*P63","v":16},0.05]
[2022,1273,"n. 90 del 09/06/2022","Z50367EB8C","affidamento della fornitura del materiale di facile consumo",null,null,20000,{"$f":"+H64*2/100","v":400},{"$f":"+I64*0.8","v":320},{"$f":"+I64*0.2","v":80},null,null,"Coll. Inc. Pred. Doc",{"$f":"+J64*P64","v":20.8},6.5000000000000002E-2]
[2022,1273,"n. 90 del 09/06/2022","Z50367EB8C","affidamento della fornitura del materiale di facile consumo",null,null,20000,400,320,80,null,null,"Coll. Inc. Pred. Doc",{"$f":"+J65*P65","v":11.200000000000001},3.5000000000000003E-2]
[2022,1273,"n. 90 del 09/06/2022","Z50367EB8C","affidamento della fornitura del materiale di facile consumo",null,null,20000,400,320,80,null,null,"RUP Affidamento",{"$f":"+J66*P66","v":32},0.1]
[2022,1273,"n. 90 del 09/06/2022","Z50367EB8C","affidamento della fornitura del materiale di facile consumo",null,null,20000,400,320,80,null,null,"Coll RUP Aff.",{"$f":"+J67*P67","v":19.2},0.06]
[2022,1273,"Determina n. 36 del 02/03/2022",9123536415," fornitura e rinnovo di licenze d'uso del software di backup Commvault ","2022-05-19","2023-05-18",200000,4000,3200,800,{"$f":"+M68","v":992},{"$f":"+O68+O69+O71+O72+O70","v":992},"Inc. Pred. Doc",{"$f":"+J68*P68","v":160},0.05]
[2022,1273,"Determina n. 36 del 02/03/2022",9123536415," fornitura e rinnovo di licenze d'uso del software di backup Commvault ","2022-05-19","2023-05-18",200000,4000,3200,800,null,null,"Coll. Inc. Pred. Doc",{"$f":"+J69*P69","v":208},6.5000000000000002E-2]
[2022,1273,"Determina n. 36 del 02/03/2022",9123536415," fornitura e rinnovo di licenze d'uso del software di backup Commvault ","2022-05-19","2023-05-18",200000,4000,3200,800,null,null,"Coll. Inc. Pred. Doc",{"$f":"+J70*P70","v":112.00000000000001},3.5000000000000003E-2]
[2022,1273,"Determina n. 36 del 02/03/2022",9123536415," fornitura e rinnovo di licenze d'uso del software di backup Commvault ","2022-05-19","2023-05-18",200000,4000,3200,800,null,null,"RUP Affidamento",{"$f":"+J71*P71","v":320},0.1]
[2022,1273,"Determina n. 36 del 02/03/2022",9123536415," fornitura e rinnovo di licenze d'uso del software di backup Commvault ","2022-05-19","2023-05-18",200000,4000,3200,800,null,null,"Coll RUP Aff.",{"$f":"+J72*P72","v":192},0.06]
[2022,1273,"Determina n. 56 del 13/04/2022","9186169A76","servizio di consulenza progettuale a consumo per prodotti Oracle ","2022-04-28","2023-04-27",98000,1960,1568,392,{"$f":"+M73","v":486.08},{"$f":"+O73+O74+O75+O76+O77","v":486.08},"Inc. Pred. Doc",{"$f":"+J73*P73","v":78.400000000000006},0.05]
[2022,1273,"Determina n. 56 del 13/04/2022","9186169A76","servizio di consulenza progettuale a consumo per prodotti Oracle ","2022-04-28","2023-04-27",98000,1960,1568,392,null,null,"Coll. Inc. Pred. Doc",{"$f":"+J74*P74","v":101.92},6.5000000000000002E-2]
[2022,1273,"Determina n. 56 del 13/04/2022","9186169A76","servizio di consulenza progettuale a consumo per prodotti Oracle ","2022-04-28","2023-04-27",98000,1960,1568,392,null,null,"Coll. Inc. Pred. Doc",{"$f":"+J75*P75","v":54.88},3.5000000000000003E-2]
[2022,1273,"Determina n. 56 del 13/04/2022","9186169A76","servizio di consulenza progettuale a consumo per prodotti Oracle ","2022-04-28","2023-04-27",98000,1960,1568,392,null,null,"RUP Affidamento",{"$f":"+J76*P76","v":156.80000000000001},0.1]
[2022,1273,"Determina n. 56 del 13/04/2022","9186169A76","servizio di consulenza progettuale a consumo per prodotti Oracle ","2022-04-28","2023-04-27",98000,1960,1568,392,null,null,"Coll RUP Aff.",{"$f":"+J77*P77","v":94.08},0.06]
[2022,1273,"Determina n. 91 del 13/06/2022","927328198F","fornitura di crediti Azure Monetary Commit M11Y2022-M6Y2023 ","2022-07-04","2022-07-01",499908.24,{"$f":"+H78*1.9/100","v":9498.2565599999998},7598.6052479999998,1899.651312,{"$f":"+M78","v":2355.5676268799998},{"$f":"+O78+O79+O80+O82+O81","v":2355.5676268799998},"Inc. Pred. Doc",{"$f":"+J78*P78","v":379.9302624},0.05]
[2022,1273,"Determina n. 91 del 13/06/2022","927328198F","fornitura di crediti Azure Monetary Commit M11Y2022-M6Y2023 ","2022-07-04","2022-07-01",499908.24,{"$f":"+H79*1.9/100","v":9498.2565599999998},7598.6052479999998,1899.651312,null,null,"Coll. Inc. Pred. Doc",{"$f":"+J79*P79","v":493.90934112000002},6.5000000000000002E-2]
[2022,1273,"Determina n. 91 del 13/06/2022","927328198F","fornitura di crediti Azure Monetary Commit M11Y2022-M6Y2023 ","2022-07-04","2022-07-01",499908.24,{"$f":"+H80*1.9/100","v":9498.2565599999998},7598.6052479999998,1899.651312,null,null,"Coll. Inc. Pred. Doc",{"$f":"+J80*P80","v":265.95118368000004},3.5000000000000003E-2]
[2022,1273,"Determina n. 91 del 13/06/2022","927328198F","fornitura di crediti Azure Monetary Commit M11Y2022-M6Y2023 ","2022-07-04","2022-07-01",499908.24,{"$f":"+H81*1.9/100","v":9498.2565599999998},7598.6052479999998,1899.651312,null,null,"RUP Affidamento",{"$f":"+J81*P81","v":759.86052480000001},0.1]
[2022,1273,"Determina n. 91 del 13/06/2022","927328198F","fornitura di crediti Azure Monetary Commit M11Y2022-M6Y2023 ","2022-07-04","2022-07-01",499908.24,{"$f":"+H82*1.9/100","v":9498.2565599999998},7598.6052479999998,1899.651312,null,null,"Coll RUP Aff.",{"$f":"+J82*P82","v":455.91631487999996},0.06]
[2022,1273,"Determina n. 146 del 19/09/2022","ZCF37CC136","fornitura di n. 20 licenze software Nuance - Dragon Professional 15 Individual","2022-10-02","2022-10-02",7200,{"$f":"+H83*2/100","v":144},115.2,28.8,{"$f":"+M83","v":35.712000000000003},{"$f":"+O83+O84+O85+O86","v":35.712000000000003},"Inc. Pred. Doc",{"$f":"+J83*P83","v":11.520000000000001},0.1]
[2022,1273,"Determina n. 146 del 19/09/2022","ZCF37CC136","fornitura di n. 20 licenze software Nuance - Dragon Professional 15 Individual","2022-10-02","2022-10-02",7200,144,115.2,28.8,null,null,"Coll. Inc. Pred. Doc",{"$f":"+J84*P84","v":11.520000000000001},0.1]
[2022,1273,"Determina n. 146 del 19/09/2022","ZCF37CC136","fornitura di n. 20 licenze software Nuance - Dragon Professional 15 Individual","2022-10-02","2022-10-02",7200,144,115.2,28.8,null,null,"RUP Affidamento",{"$f":"+J85*P85","v":6.9119999999999999},0.06]
[2022,1273,"Determina n. 146 del 19/09/2022","ZCF37CC136","fornitura di n. 20 licenze software Nuance - Dragon Professional 15 Individual","2022-10-02","2022-10-02",7200,144,115.2,28.8,null,null,"Coll RUP Aff.",{"$f":"+J86*P86","v":5.7600000000000007},0.05]
[2022,1273,"Determina n. 173 del 02/11/2022","9471647A5C"," supporto tecnico specialistico di manutenzione ordinaria relativo alle licenze Oracle ","2022-11-28","2023-11-27",184897.84,3697.9567999999999,2958.36544,739.59136000000001,{"$f":"+M87","v":917.09328640000001},{"$f":"+O87+O88+O89+O90+O91","v":917.09328640000001},"Inc. Pred. Doc",{"$f":"+J87*P87","v":147.918272},0.05]
[2022,1273,"Determina n. 173 del 02/11/2022","9471647A5C"," supporto tecnico specialistico di manutenzione ordinaria relativo alle licenze Oracle ","2022-11-28","2023-11-27",184897.84,3697.9567999999999,2958.36544,739.59136000000001,null,null,"Coll. Inc. Pred. Doc",{"$f":"+J88*P88","v":192.2937536},6.5000000000000002E-2]
[2022,1273,"Determina n. 173 del 02/11/2022","9471647A5C"," supporto tecnico specialistico di manutenzione ordinaria relativo alle licenze Oracle ","2022-11-28","2023-11-27",184897.84,3697.9567999999999,2958.36544,739.59136000000001,null,null,"Coll. Inc. Pred. Doc",{"$f":"+J89*P89","v":103.54279040000002},3.5000000000000003E-2]
[2022,1273,"Determina n. 173 del 02/11/2022","9471647A5C"," supporto tecnico specialistico di manutenzione ordinaria relativo alle licenze Oracle ","2022-11-28","2023-11-27",184897.84,3697.9567999999999,2958.36544,739.59136000000001,null,null,"RUP Affidamento",{"$f":"+J90*P90","v":295.836544},0.1]
[2022,1273,"Determina n. 173 del 02/11/2022","9471647A5C"," supporto tecnico specialistico di manutenzione ordinaria relativo alle licenze Oracle ","2022-11-28","2023-11-27",184897.84,3697.9567999999999,2958.36544,739.59136000000001,null,null,"Coll RUP Aff.",{"$f":"+J91*P91","v":177.5019264},0.06]
[2022,1273,"Determina n. 60 del 20/04/2022","919446153E","servizio di supporto specialistico tecnico per le licenze Oracle","2022-05-06","2023-05-05",153171.31,3063.4261999999999,2450.7409600000001,612.68524000000002,{"$f":"+M92","v":759.72945252590409},{"$f":"+O92+O93+O94+O96+O97+O98+O95","v":759.72945252590409},"Inc. Pred. Doc",{"$f":"+J92*P92","v":122.53704800000001},0.05]
[2022,1273,"Determina n. 60 del 20/04/2022","919446153E","servizio di supporto specialistico tecnico per le licenze Oracle","2022-05-06","2023-05-05",153171.31,{"$f":"+H93*2/100","v":3063.4261999999999},{"$f":"+I93*0.8","v":2450.7409600000001},{"$f":"+I93*0.2","v":612.68524000000002},null,null,"Coll. Inc. Pred. Doc",{"$f":"+J93*P93","v":106.198693241968},4.3333299999999998E-2]
[2022,1273,"Determina n. 60 del 20/04/2022","919446153E","servizio di supporto specialistico tecnico per le licenze Oracle","2022-05-06","2023-05-05",153171.31,3063.4261999999999,2450.7409600000001,612.68524000000002,null,null,{"$f":"+N93","v":"Coll. Inc. Pred. Doc"},{"$f":"+J94*P94","v":106.198693241968},4.3333299999999998E-2]
[2022,1273,"Determina n. 60 del 20/04/2022","919446153E","servizio di supporto specialistico tecnico per le licenze Oracle","2022-05-06","2023-05-05",153171.31,{"$f":"+H95*2/100","v":3063.4261999999999},{"$f":"+I95*0.8","v":2450.7409600000001},{"$f":"+I95*0.2","v":612.68524000000002},null,null,"Coll Inc. Pred. Doc.",{"$f":"+J95*P95","v":32.676464441968001},1.3333299999999999E-2]
[2022,1273,"Determina n. 60 del 20/04/2022","919446153E","servizio di supporto specialistico tecnico per le licenze Oracle","2022-05-06","2023-05-05",153171.31,3063.4261999999999,2450.7409600000001,612.68524000000002,null,null,"RUP Affidamento",{"$f":"+J96*P96","v":245.07409600000003},0.1]
[2022,1273,"Determina n. 60 del 20/04/2022","919446153E","servizio di supporto specialistico tecnico per le licenze Oracle","2022-05-06","2023-05-05",153171.31,3063.4261999999999,2450.7409600000001,612.68524000000002,null,null,"Coll RUP Aff.",{"$f":"+J97*P97","v":73.522228799999993},0.03]
[2022,1273,"Determina n. 60 del 20/04/2022","919446153E","servizio di supporto specialistico tecnico per le licenze Oracle","2022-05-06","2023-05-05",153171.31,3063.4261999999999,2450.7409600000001,612.68524000000002,null,null,{"$f":"+N97","v":"Coll RUP Aff."},{"$f":"+J98*P98","v":73.522228799999993},0.03]
[2022,1273,"196 del 02/12/2022","Z0C38CAE63.","VIDEOPROIETTORE PER L’ADEGUAMENTO DEL SISTEMA ",null,null,22770,{"$f":"+H99*2/100","v":455.4},{"$f":"+I99*0.8","v":364.32},{"$f":"+I99*0.2","v":91.08},{"$f":"+M99","v":112.93920000000001},{"$f":"+O99+O100+O101+O102+O103","v":112.93920000000001},"Inc. Pred. Doc",{"$f":"+J99*P99","v":18.216000000000001},0.05]
[2022,1273,"196 del 02/12/2022","Z0C38CAE63.","VIDEOPROIETTORE PER L’ADEGUAMENTO DEL SISTEMA ",null,null,22770,455.4,364.32,91.08,null,null,"Coll. Inc. Pred. Doc",{"$f":"+J100*P100","v":18.216000000000001},0.05]
[2022,1273,"196 del 02/12/2022","Z0C38CAE63.","VIDEOPROIETTORE PER L’ADEGUAMENTO DEL SISTEMA ",null,null,22770,455.4,364.32,91.08,null,null,"Coll. Inc. Pred. Doc",{"$f":"+J101*P101","v":18.216000000000001},0.05]
[2022,1273,"196 del 02/12/2022","Z0C38CAE63.","VIDEOPROIETTORE PER L’ADEGUAMENTO DEL SISTEMA ",null,null,22770,455.4,364.32,91.08,null,null,"RUP Affidamento",{"$f":"+J102*P102","v":36.432000000000002},0.1]
[2022,1273,"196 del 02/12/2022","Z0C38CAE63.","VIDEOPROIETTORE PER L’ADEGUAMENTO DEL SISTEMA ",null,null,22770,455.4,364.32,91.08,null,null,"Coll RUP Aff.",{"$f":"+J103*P103","v":21.859199999999998},0.06]
[2022,1273,"192 del 24/11/2022","950346181B","servizi biennali di manutenzione e assistenza tecnica per gli apparati di Centro Stella",null,null,100000,2000,1600,400,{"$f":"+M104","v":496},{"$f":"+O104+O105+O107+O108+O106","v":496},"Inc. Pred. Doc",{"$f":"+J104*P104","v":80},0.05]
[2022,1273,"192 del 24/11/2022","950346181B","servizi biennali di manutenzione e assistenza tecnica per gli apparati di Centro Stella",null,null,100000,2000,1600,400,null,null,"Coll. Inc. Pred. Doc",{"$f":"+J105*P105","v":80},0.05]
[2022,1273,"192 del 24/11/2022","950346181B","servizi biennali di manutenzione e assistenza tecnica per gli apparati di Centro Stella",null,null,100000,2000,1600,400,null,null,"Coll. Inc. Pred. Doc",{"$f":"+J106*P106","v":80},0.05]
[2022,1273,"192 del 24/11/2022","950346181B","servizi biennali di manutenzione e assistenza tecnica per gli apparati di Centro Stella",null,null,100000,2000,1600,400,null,null,"RUP Affidamento",{"$f":"+J107*P107","v":160},0.1]
[2022,1273,"192 del 24/11/2022","950346181B","servizi biennali di manutenzione e assistenza tecnica per gli apparati di Centro Stella",null,null,100000,2000,1600,400,null,null,"Coll RUP Aff.",{"$f":"+J108*P108","v":96},0.06]
[2022,1273,"153 DEL 29/09/2022","Z5837F35F9","Acquisto licenze Red Hat JBoss EAP ",null,null,34786.92,{"$f":"+H109*2/100","v":695.73839999999996},{"$f":"+I109*0.8","v":556.59072000000003},{"$f":"+I109*0.2","v":139.14768000000001},{"$f":"+M109","v":77.922700800000001},{"$f":"+O109+O110+O112+O111","v":77.922700800000001},"Inc. Pred. Doc",{"$f":"+J109*P109","v":11.131814400000001},0.02]
[2022,1273,"153 DEL 29/09/2022","Z5837F35F9","Acquisto licenze Red Hat JBoss EAP ",null,null,34786.92,695.73839999999996,556.59072000000003,139.14768000000001,null,null,"Coll. Inc. Pred. Doc",{"$f":"+J110*P110","v":5.5659072000000007},0.01]
[2022,1273,"153 DEL 29/09/2022","Z5837F35F9","Acquisto licenze Red Hat JBoss EAP ",null,null,34786.92,695.73839999999996,556.59072000000003,139.14768000000001,null,null,"RUP Affidamento",{"$f":"+J111*P111","v":44.527257600000006},0.08]
[2022,1273,"153 DEL 29/09/2022","Z5837F35F9","Acquisto licenze Red Hat JBoss EAP ",null,null,34786.92,695.73839999999996,556.59072000000003,139.14768000000001,null,null,"Coll RUP Aff.",{"$f":"+J112*P112","v":16.697721600000001},0.03]
[2022,1273,"181 del 10/11/2022","Z02388337C","servizio di Interconnessione tra Sistema Pubblico di Connettività","2023-01-01","2023-12-31",11400,228,182.4,45.6,{"$f":"+M113","v":56.544000000000011},{"$f":"+O113+O114+O115+O116","v":56.544000000000011},"Inc. Pred. Doc",{"$f":"+J113*P113","v":9.120000000000001},0.05]
[2022,1273,"181 del 10/11/2022","Z02388337C","servizio di Interconnessione tra Sistema Pubblico di Connettività","2023-01-01","2023-12-31",11400,228,182.4,45.6,null,null,"Coll. Inc. Pred. Doc",{"$f":"+J114*P114","v":18.240000000000002},0.1]
[2022,1273,"181 del 10/11/2022","Z02388337C","servizio di Interconnessione tra Sistema Pubblico di Connettività","2023-01-01","2023-12-31",11400,228,182.4,45.6,null,null,"RUP Affidamento",{"$f":"+J115*P115","v":18.240000000000002},0.1]
[2022,1273,"181 del 10/11/2022","Z02388337C","servizio di Interconnessione tra Sistema Pubblico di Connettività","2023-01-01","2023-12-31",11400,228,182.4,45.6,null,null,"Coll RUP Aff.",{"$f":"+J116*P116","v":10.943999999999999},0.06]
[2022,1273,"Determina n. 115 del 18/07/2022","9327824BDD","fornitura, in adesione alla Convenzione Consip Multibrand ed 4 lotto 5 - fornitura licenze Vmware","2022-08-01","2025-07-31",117380.33,{"$f":"+H117*2/100","v":2347.6066000000001},{"$f":"+I117*80/100","v":1878.08528},{"$f":"+I117*0.2","v":469.52132000000006},{"$f":"+M117","v":262.93193919999999},{"$f":"+O117+O118+O119+O120","v":262.93193919999999},"Inc. Pred. Doc",{"$f":"+J117*P117","v":37.561705600000003},0.02]
[2022,1273,"Determina n. 115 del 18/07/2022","9327824BDD","fornitura, in adesione alla Convenzione Consip Multibrand ed 4 lotto 5 - fornitura licenze Vmware","2022-08-01","2025-07-31",117380.33,{"$f":"+H118*2/100","v":2347.6066000000001},1878.08528,469.52132000000006,null,null,"Coll. Inc. Pred. Doc",{"$f":"+J118*P118","v":18.780852800000002},0.01]
[2022,1273,"Determina n. 115 del 18/07/2022","9327824BDD","fornitura, in adesione alla Convenzione Consip Multibrand ed 4 lotto 5 - fornitura licenze Vmware","2022-08-01","2025-07-31",117380.33,{"$f":"+H119*2/100","v":2347.6066000000001},1878.08528,469.52132000000006,null,null,"RUP Affidamento",{"$f":"+J119*P119","v":150.24682240000001},0.08]
[2022,1273,"Determina n. 115 del 18/07/2022","9327824BDD","fornitura, in adesione alla Convenzione Consip Multibrand ed 4 lotto 5 - fornitura licenze Vmware","2022-08-01","2025-07-31",117380.33,{"$f":"+H120*2/100","v":2347.6066000000001},1878.08528,469.52132000000006,null,null,"Coll. RUP Affidamento",{"$f":"+J120*P120","v":56.342558400000001},0.03]
[2022,1273,"Determina n. 150 del 26/09/2022","941985456E","PNRR “Piattaforma di business e web intelligence,","da determinarsi (data di conclusione delle attività \ndi set-up)","48 mesi di cui 12 solo garanzia",818178,{"$f":"+H121*1.9/100","v":15545.382},12436.3,3109.0763999999999,{"$f":"+M121","v":1741.0819999999999},{"$f":"+O121+O122+O123+O124","v":1741.0819999999999},"Inc. Pred. Doc",{"$f":"+J121*P121","v":248.726},0.02]
[2022,1273,"Determina n. 150 del 26/09/2022","941985456E","PNRR “Piattaforma di business e web intelligence,","da determinarsi (data di conclusione delle attività \ndi set-up)","48 mesi di cui 12 solo garanzia",818178,15545.382,12436.3,3109.0763999999999,null,null,"Coll. Inc. Pred. Doc",{"$f":"+J122*P122","v":124.363},0.01]
[2022,1273,"Determina n. 150 del 26/09/2022","941985456E","PNRR “Piattaforma di business e web intelligence,","da determinarsi (data di conclusione delle attività \ndi set-up)","48 mesi di cui 12 solo garanzia",818178,15545.382,12436.3,3109.0763999999999,null,null,"RUP Affidamento",{"$f":"+J123*P123","v":994.904},0.08]
[2022,1273,"Determina n. 150 del 26/09/2022","941985456E","PNRR “Piattaforma di business e web intelligence,","da determinarsi (data di conclusione delle attività \ndi set-up)","48 mesi di cui 12 solo garanzia",818178,15545.382,12436.3,3109.0763999999999,null,null,"Coll. RUP Affidamento",{"$f":"+J124*P124","v":373.08899999999994},0.03]
[2022,1273,"Determina n. 148 del 22/09/2022","941675580D","“Informatizzazione del bilancio della Giustizia amministrativa”","da determinarsi (data di conclusione delle attività \ndi set-up)","48 mesi di cui 12 solo garanzia",1500713.8,28513.562199999997,22810.849759999997,5702.7124399999993,{"$f":"+M125","v":3193.518966399999},{"$f":"+O125+O126+O127+O128","v":3193.518966399999},"Inc. Pred. Doc",{"$f":"+J125*P125","v":456.21699519999993},0.02]
[2022,1273,"Determina n. 148 del 22/09/2022","941675580D","“Informatizzazione del bilancio della Giustizia amministrativa”","da determinarsi (data di conclusione delle attività \ndi set-up)","48 mesi di cui 12 solo garanzia",1500713.8,28513.562199999997,22810.849759999997,5702.7124399999993,null,null,"Coll. Inc. Pred. Doc",{"$f":"+J126*P126","v":228.10849759999996},0.01]
[2022,1273,"Determina n. 148 del 22/09/2022","941675580D","“Informatizzazione del bilancio della Giustizia amministrativa”","da determinarsi (data di conclusione delle attività \ndi set-up)","48 mesi di cui 12 solo garanzia",1500713.8,28513.562199999997,22810.849759999997,5702.7124399999993,null,null,"RUP Affidamento",{"$f":"+J127*P127","v":1824.8679807999997},0.08]
[2022,1273,"Determina n. 148 del 22/09/2022","941675580D","“Informatizzazione del bilancio della Giustizia amministrativa”","da determinarsi (data di conclusione delle attività \ndi set-up)","48 mesi di cui 12 solo garanzia",1500713.8,28513.562199999997,22810.849759999997,5702.7124399999993,null,null,"Coll. RUP Affidamento",{"$f":"+J128*P128","v":684.32549279999989},0.03]
[2022,4250," n. 154 del 05/10/2022","Z963805646","Acquisto  n. 50 stampanti per la dotazione domestica dei magistrati",null,null,16000,{"$f":"+H129*0.02","v":320},{"$f":"+I129*0.8","v":256},{"$f":"+I129*0.2","v":64},{"$f":"+M129","v":79.36},{"$f":"+O129+O130+O131+O132","v":79.36},"Inc. Pred. Doc",{"$f":"+J129*P129","v":12.8},0.05]
[2022,4250," n. 154 del 05/10/2022","Z963805646","Acquisto  n. 50 stampanti per la dotazione domestica dei magistrati",null,null,16000,{"$f":"+H130*0.02","v":320},{"$f":"+I130*0.8","v":256},{"$f":"+I130*0.2","v":64},null,null,"Coll. Inc. Pred. Doc",{"$f":"+J130*P130","v":25.6},0.1]
[2022,4250," n. 154 del 05/10/2022","Z963805646","Acquisto  n. 50 stampanti per la dotazione domestica dei magistrati",null,null,16000,320,256,64,null,null,"RUP Affidamento",{"$f":"+J131*P131","v":25.6},0.1]
[2022,4250," n. 154 del 05/10/2022","Z963805646","Acquisto  n. 50 stampanti per la dotazione domestica dei magistrati",null,null,16000,320,256,64,null,null,"Coll RUP Aff.",{"$f":"+J132*P132","v":15.36},0.06]
[2022,4250,"177 del 07/11/2022","94800218CE","affidamento della fornitura di n.150 notebook per personale di magistratura e amministrativo",null,null,84000,{"$f":"+H133*0.02","v":1680},1344,336,{"$f":"+M133","v":416.64},{"$f":"+O133+O134+O135+O136","v":416.64},"Inc. Pred. Doc",{"$f":"+J133*P133","v":67.2},0.05]
[2022,4250,"177 del 07/11/2022","94800218CE","affidamento della fornitura di n.150 notebook per personale di magistratura e amministrativo",null,null,84000,1680,1344,336,null,null,"Coll. Inc. Pred. Doc",{"$f":"+J134*P134","v":134.4},0.1]
[2022,4250,"177 del 07/11/2022","94800218CE","affidamento della fornitura di n.150 notebook per personale di magistratura e amministrativo",null,null,84000,1680,1344,336,null,null,"RUP Affidamento",{"$f":"+J135*P135","v":134.4},0.1]
[2022,4250,"177 del 07/11/2022","94800218CE","affidamento della fornitura di n.150 notebook per personale di magistratura e amministrativo",null,null,84000,1680,1344,336,null,null,"Coll RUP Aff.",{"$f":"+J136*P136","v":80.64},0.06]
[2022,4250,"111 DEL 07/07/2022","ZA4371278C","affidamento della fornitura di UPS per postazioni di lavoro",null,null,3000,60,48,12,{"$f":"+M137","v":14.880000000000003},{"$f":"+O137+O138+O139+O140","v":14.880000000000003},"Inc. Pred. Doc",{"$f":"+J137*P137","v":2.4000000000000004},0.05]
[2022,4250,"111 DEL 07/07/2022","ZA4371278C","affidamento della fornitura di UPS per postazioni di lavoro",null,null,3000,60,48,12,null,null,"Coll. Inc. Pred. Doc",{"$f":"+J138*P138","v":4.8000000000000007},0.1]
[2022,4250,"111 DEL 07/07/2022","ZA4371278C","affidamento della fornitura di UPS per postazioni di lavoro",null,null,3000,60,48,12,null,null,"RUP Affidamento",{"$f":"+J139*P139","v":4.8000000000000007},0.1]
[2022,4250,"111 DEL 07/07/2022","ZA4371278C","affidamento della fornitura di UPS per postazioni di lavoro",null,null,3000,60,48,12,null,null,"Coll RUP Aff.",{"$f":"+J140*P140","v":2.88},0.06]
[2022,4250,"123 del 22/07/2022","Z1C373F14D","Acquisto di n. 14 basi di votazione per sala di Pompeo",null,null,8652,{"$f":"+H141*2/100","v":173.04},138.43199999999999,34.607999999999997,{"$f":"+M141","v":42.913920000000005},{"$f":"+O141+O142+O143+O144","v":42.913920000000005},"Inc. Pred. Doc",{"$f":"+J141*P141","v":6.9215999999999998},0.05]
[2022,4250,"123 del 22/07/2022","Z1C373F14D","Acquisto di n. 14 basi di votazione per sala di Pompeo",null,null,8652,173.04,138.43199999999999,34.607999999999997,null,null,"Coll. Inc. Pred. Doc",{"$f":"+J142*P142","v":13.8432},0.1]
[2022,4250,"123 del 22/07/2022","Z1C373F14D","Acquisto di n. 14 basi di votazione per sala di Pompeo",null,null,8652,173.04,138.43199999999999,34.607999999999997,null,null,"RUP Affidamento",{"$f":"+J143*P143","v":13.8432},0.1]
[2022,4250,"123 del 22/07/2022","Z1C373F14D","Acquisto di n. 14 basi di votazione per sala di Pompeo",null,null,8652,173.04,138.43199999999999,34.607999999999997,null,null,"Coll RUP Aff.",{"$f":"+J144*P144","v":8.3059199999999986},0.06]
[2022,4250,"133 del 05/08/2022","Z983768FAD","Acquisto n. 100 PC desktop per uffici G.A",null,null,36260,725.2,580.16000000000008,145.04000000000002,{"$f":"+M145","v":179.84960000000001},{"$f":"+O145+O146+O147+O148","v":179.84960000000001},"Inc. Pred. Doc",{"$f":"+J145*P145","v":29.008000000000006},0.05]
[2022,4250,"133 del 05/08/2022","Z983768FAD","Acquisto n. 100 PC desktop per uffici G.A",null,null,36260,725.2,580.16000000000008,145.04000000000002,null,null,"Coll. Inc. Pred. Doc",{"$f":"+J146*P146","v":58.016000000000012},0.1]
[2022,4250,"133 del 05/08/2022","Z983768FAD","Acquisto n. 100 PC desktop per uffici G.A",null,null,36260,725.2,580.16000000000008,145.04000000000002,null,null,"RUP Affidamento",{"$f":"+J147*P147","v":58.016000000000012},0.1]
[2022,4250,"133 del 05/08/2022","Z983768FAD","Acquisto n. 100 PC desktop per uffici G.A",null,null,36260,725.2,580.16000000000008,145.04000000000002,null,null,"Coll RUP Aff.",{"$f":"+J148*P148","v":34.809600000000003},0.06]
[2022,4250," n. 134 del 10/08/2022"," Z7B37722C6.","PC Desktop e workstation/ lotto 1 di PC desktop Consip per i magistrati G.A.",null,null,28629,{"$f":"+H149*0.02","v":572.58000000000004},{"$f":"+I149*80/100","v":458.06400000000002},114.51600000000002,{"$f":"+M149","v":64.128960000000006},{"$f":"+O149+O150+O151+O152","v":64.128960000000006},"Inc. Pred. Doc",{"$f":"+J149*P149","v":9.1612800000000014},0.02]
[2022,4250," n. 134 del 10/08/2022"," Z7B37722C6.","PC Desktop e workstation/ lotto 1 di PC desktop Consip per i magistrati G.A.",null,null,28629,{"$f":"+H150*0.02","v":572.58000000000004},{"$f":"+I150*80/100","v":458.06400000000002},{"$f":"+I150*0.2","v":114.51600000000002},null,null,"Coll. Inc. Pred. Doc",{"$f":"+J150*P150","v":4.5806400000000007},0.01]
[2022,4250," n. 134 del 10/08/2022"," Z7B37722C6.","PC Desktop e workstation/ lotto 1 di PC desktop Consip per i magistrati G.A.",null,null,28629,572.58000000000004,458.06400000000002,114.51600000000002,null,null,"RUP Affidamento",{"$f":"+J151*P151","v":36.645120000000006},0.08]
[2022,4250," n. 134 del 10/08/2022"," Z7B37722C6.","PC Desktop e workstation/ lotto 1 di PC desktop Consip per i magistrati G.A.",null,null,28629,572.58000000000004,458.06400000000002,114.51600000000002,null,null,"Coll. RUP Affidamento",{"$f":"+J152*P152","v":13.74192},0.03]
[2022,4250,"Determina n. 149 del 23/09/2022","94185311A9"," “Gestione siti e statistiche della Giustizia Amministrativa”","da determinarsi (data di conclusione delle attività \ndi set-up)","48 mesi di cui 12 solo garanzia",1918315,{"$f":"+H153*1.9/100","v":36447.985000000001},{"$f":"+I153*80/100","v":29158.387999999999},{"$f":"+I153*0.2","v":7289.5970000000007},{"$f":"+M153","v":4082.1743200000001},{"$f":"+O153+O154+O155+O156","v":4082.1743200000001},"Inc. Pred. Doc",{"$f":"+J153*P153","v":583.16776000000004},0.02]
[2022,4250,"Determina n. 149 del 23/09/2022","94185311A9"," “Gestione siti e statistiche della Giustizia Amministrativa”","da determinarsi (data di conclusione delle attività \ndi set-up)","48 mesi di cui 12 solo garanzia",1918315,36447.985000000001,29158.387999999999,7289.5970000000007,null,null,"Coll. Inc. Pred. Doc",{"$f":"+J154*P154","v":291.58388000000002},0.01]
[2022,4250,"Determina n. 149 del 23/09/2022","94185311A9"," “Gestione siti e statistiche della Giustizia Amministrativa”","da determinarsi (data di conclusione delle attività \ndi set-up)","48 mesi di cui 12 solo garanzia",1918315,36447.985000000001,29158.387999999999,7289.5970000000007,null,null,"RUP Affidamento",{"$f":"+J155*P155","v":2332.6710400000002},0.08]
[2022,4250,"Determina n. 149 del 23/09/2022","94185311A9"," “Gestione siti e statistiche della Giustizia Amministrativa”","da determinarsi (data di conclusione delle attività \ndi set-up)","48 mesi di cui 12 solo garanzia",1918315,36447.985000000001,29158.387999999999,7289.5970000000007,null,null,"Coll. RUP Affidamento",{"$f":"+J156*P156","v":874.75163999999995},0.03]
[2020,1295,"63 del 12/03/2020",8234592848,"Servizio di pulizia presso le sedi del CDS (solo esecuzione)","2021-04-01","2021-12-31",214000,4280,3424,856,513.6,{"$f":"+O157+O158+O159+O160+O161+O162+O163+O164","v":513.6},"RUP esecuzione",239.68,0.17499999999999999,null,null,2907.4,0]
[2020,1295,"63 del 12/03/2020",8234592848,"Servizio di pulizia presso le sedi del CDS (solo esecuzione)","2021-04-01","2021-12-31",214000,4280,3424,856,null,null,"Coll. RUP esecuzione",20.54,1.4999999999999999E-2]
[2020,1295,"63 del 12/03/2020",8234592848,"Servizio di pulizia presso le sedi del CDS (solo esecuzione)","2021-04-01","2021-12-31",214000,4280,3424,856,null,null,"Coll. RUP esecuzione",20.54,1.4999999999999999E-2]
[2020,1295,"63 del 12/03/2020",8234592848,"Servizio di pulizia presso le sedi del CDS (solo esecuzione)","2021-04-01","2021-12-31",214000,4280,3424,856,null,null,"DEC",136.96,0.1]
[2020,1295,"63 del 12/03/2020",8234592848,"Servizio di pulizia presso le sedi del CDS (solo esecuzione)","2021-04-01","2021-12-31",214000,4280,3424,856,null,null,"Coll. DEC",13.7,0.01]
[2020,1295,"63 del 12/03/2020",8234592848,"Servizio di pulizia presso le sedi del CDS (solo esecuzione)","2021-04-01","2021-12-31",214000,4280,3424,856,null,null,"Coll. DEC",13.7,0.01]
[2020,1295,"63 del 12/03/2020",8234592848,"Servizio di pulizia presso le sedi del CDS (solo esecuzione)","2021-04-01","2021-12-31",214000,4280,3424,856,null,null,"Inc. Ver. Conf",47.94,3.5000000000000003E-2]
[2020,1295,"63 del 12/03/2020",8234592848,"Servizio di pulizia presso le sedi del CDS (solo esecuzione)","2021-04-01","2021-12-31",214000,4280,3424,856,null,null,"Coll. Inc Ver. Conf.",20.54,1.4999999999999999E-2]
[2021,1295,"180 del 10/12/2021","90208966DF","Servizio di pulizia presso le sedi del CDS (procedura negoziata senza bando) (solo esecuzione)","2022-01-01","31/06/2022",138900,{"$f":"+H165*0.02","v":2778},{"$f":"+(I165)*0.8","v":2222.4},{"$f":"+(I165)*0.2","v":555.6},955.63,{"$f":"+O165+O166+O167+O168+O169+O170+O171+O172","v":955.63199999999995},"RUP esecuzione",{"$f":"+J165*P165","v":400.03199999999998},0.18,null,null,1266.77,{"$f":"+J165-M165-S165","v":-1.9999999999527063E-3}]
[2021,1295,"180 del 10/12/2021","90208966DF","Servizio di pulizia presso le sedi del CDS (procedura negoziata senza bando) (solo esecuzione)","2022-01-01","31/06/2022",138900,2778,2222.4,555.6,null,null,"Coll. RUP esecuzione",{"$f":"+J166*P166","v":44.448},0.02]
[2021,1295,"180 del 10/12/2021","90208966DF","Servizio di pulizia presso le sedi del CDS (procedura negoziata senza bando) (solo esecuzione)","2022-01-01","31/06/2022",138900,2778,2222.4,555.6,null,null,"Coll. RUP esecuzione",{"$f":"+J167*P167","v":44.448},0.02]
[2021,1295,"180 del 10/12/2021","90208966DF","Servizio di pulizia presso le sedi del CDS (procedura negoziata senza bando) (solo esecuzione)","2022-01-01","31/06/2022",138900,2778,2222.4,555.6,null,null,"DEC",{"$f":"+J168*P168","v":255.57600000000002},0.115]
[2021,1295,"180 del 10/12/2021","90208966DF","Servizio di pulizia presso le sedi del CDS (procedura negoziata senza bando) (solo esecuzione)","2022-01-01","31/06/2022",138900,2778,2222.4,555.6,null,null,"Coll. DEC",{"$f":"+J169*P169","v":50.003999999999998},2.2499999999999999E-2]
[2021,1295,"180 del 10/12/2021","90208966DF","Servizio di pulizia presso le sedi del CDS (procedura negoziata senza bando) (solo esecuzione)","2022-01-01","31/06/2022",138900,2778,2222.4,555.6,null,null,"Coll. DEC",{"$f":"+J170*P170","v":50.003999999999998},2.2499999999999999E-2]
[2021,1295,"180 del 10/12/2021","90208966DF","Servizio di pulizia presso le sedi del CDS (procedura negoziata senza bando) (solo esecuzione)","2022-01-01","31/06/2022",138900,2778,2222.4,555.6,null,null,"Inc. Ver. Conf",{"$f":"+J171*P171","v":77.784000000000006},3.5000000000000003E-2]
[2021,1295,"180 del 10/12/2021","90208966DF","Servizio di pulizia presso le sedi del CDS (procedura negoziata senza bando) (solo esecuzione)","2022-01-01","31/06/2022",138900,{"$f":"+H172*0.02","v":2778},{"$f":"+(I172)*0.8","v":2222.4},{"$f":"+(I172)*0.2","v":555.6},null,null,"Coll. Inc Ver. Conf.",{"$f":"+J172*P172","v":33.335999999999999},1.4999999999999999E-2]
[2022,1295,"10 del 20/01/2022","906878454D ","Servizio di pulizia presso le sedi del CDS","2022-07-01","2023-03-31",214900,{"$f":"+H173*0.02","v":4298},{"$f":"+I173*0.8","v":3438.4},{"$f":"+I173*0.2","v":859.6},{"$f":"+J173","v":3438.4},{"$f":"+O173+O174+O175+O176+O177+O178+O179+O180+O181+O182+O183+O184+O185+O186","v":2664.76},"Incaricato programm.",{"$f":"+J173*P173","v":103.152},0.03,null,null,null,{"$f":"+J173-M173-S173","v":773.63999999999987}]
[2022,1295,"10 del 20/01/2022","906878454D ","Servizio di pulizia presso le sedi del CDS","2022-07-01","2023-03-31",214900,{"$f":"+H174*0.02","v":4298},{"$f":"+I174*0.8","v":3438.4},{"$f":"+I174*0.2","v":859.6},null,null,"Coll. Inc. prog.",{"$f":"+J174*P174","v":68.768000000000001},0.02]
[2022,1295,"10 del 20/01/2022","906878454D ","Servizio di pulizia presso le sedi del CDS","2022-07-01","2023-03-31",214900,4298,3438.4,859.6,null,null,"Inc. Pred. Doc. ",{"$f":"+J175*P175","v":532.952},0.155]
[2022,1295,"10 del 20/01/2022","906878454D ","Servizio di pulizia presso le sedi del CDS","2022-07-01","2023-03-31",214900,4298,3438.4,859.6,null,null,"Coll. Inc. Pred.",{"$f":"+J176*P176","v":68.768000000000001},0.02]
[2022,1295,"10 del 20/01/2022","906878454D ","Servizio di pulizia presso le sedi del CDS","2022-07-01","2023-03-31",214900,4298,3438.4,859.6,null,null,"RUP Affidamento",{"$f":"+J177*P177","v":1203.44},0.35]
[2022,1295,"10 del 20/01/2022","906878454D ","Servizio di pulizia presso le sedi del CDS","2022-07-01","2023-03-31",214900,4298,3438.4,859.6,null,null,"Coll. RUP Affidamento",{"$f":"+J178*P178","v":171.92000000000002},0.05]
[2022,1295,"10 del 20/01/2022","906878454D ","Servizio di pulizia presso le sedi del CDS","2022-07-01","2023-03-31",214900,4298,3438.4,859.6,null,null,"RUP esecuzione",{"$f":"+(J179*P179)/5*2","v":240.68800000000002},0.17499999999999999]
[2022,1295,"10 del 20/01/2022","906878454D ","Servizio di pulizia presso le sedi del CDS","2022-07-01","2023-03-31",214900,4298,3438.4,859.6,null,null,"Coll. RUP esecuzione",{"$f":"+(J180*P180)/5*2","v":20.630400000000002},1.4999999999999999E-2]
[2022,1295,"10 del 20/01/2022","906878454D ","Servizio di pulizia presso le sedi del CDS","2022-07-01","2023-03-31",214900,4298,3438.4,859.6,null,null,"Coll. RUP esecuzione",{"$f":"+(J181*P181)/5*2","v":20.630400000000002},1.4999999999999999E-2]
[2022,1295,"10 del 20/01/2022","906878454D ","Servizio di pulizia presso le sedi del CDS","2022-07-01","2023-03-31",214900,4298,3438.4,859.6,null,null,"DEC",{"$f":"+(J182*P182)/5*2","v":137.536},0.1]
[2022,1295,"10 del 20/01/2022","906878454D ","Servizio di pulizia presso le sedi del CDS","2022-07-01","2023-03-31",214900,4298,3438.4,859.6,null,null,"Coll. DEC",{"$f":"+(J183*P183)/5*2","v":13.7536},0.01]
[2022,1295,"10 del 20/01/2022","906878454D ","Servizio di pulizia presso le sedi del CDS","2022-07-01","2023-03-31",214900,4298,3438.4,859.6,null,null,"Coll. DEC",{"$f":"+(J184*P184)/5*2","v":13.7536},0.01]
[2022,1295,"10 del 20/01/2022","906878454D ","Servizio di pulizia presso le sedi del CDS","2022-07-01","2023-03-31",214900,4298,3438.4,859.6,null,null,"Inc. Ver. Conf",{"$f":"+(J185*P185)/5*2","v":48.137600000000006},3.5000000000000003E-2]
[2022,1295,"10 del 20/01/2022","906878454D ","Servizio di pulizia presso le sedi del CDS","2022-07-01","2023-03-31",214900,4298,3438.4,859.6,null,null,"Coll. Inc Ver. Conf.",{"$f":"+(J186*P186)/5*2","v":20.630400000000002},1.4999999999999999E-2]
[2020,3312,"89 del 05/05/2020","84122085A5.","Servizio di facchinaggio, trasloco e trasporto per le sedi del Consiglio di Stato” (solo esecuzione)","2021-01-16","2022-07-15",214000,4280,3424,856,570.66999999999996,{"$f":"+O187+O188+O189+O190+O191+O192+O193+O194","v":570.66777777777793},"RUP esecuzione",266.3,0.17499999999999999,null,null,2853.33,{"$f":"+J187-M187-S187","v":2.2222222223717836E-3}]
[2020,3312,"89 del 05/05/2020","84122085A5.","Servizio di facchinaggio, trasloco e trasporto per le sedi del Consiglio di Stato” (solo esecuzione)","2021-01-16","2022-07-15",214000,4280,3424,856,null,null,"Coll. RUP esecuzione",22.83,1.4999999999999999E-2]
[2020,3312,"89 del 05/05/2020","84122085A5.","Servizio di facchinaggio, trasloco e trasporto per le sedi del Consiglio di Stato” (solo esecuzione)","2021-01-16","2022-07-15",214000,4280,3424,856,null,null,"Coll. RUP esecuzione",22.83,1.4999999999999999E-2]
[2020,3312,"89 del 05/05/2020","84122085A5.","Servizio di facchinaggio, trasloco e trasporto per le sedi del Consiglio di Stato” (solo esecuzione)","2021-01-16","2022-07-15",214000,4280,3424,856,null,null,"DEC",{"$f":"+(J191*P190)/9*4","v":152.17777777777781},0.1]
[2020,3312,"89 del 05/05/2020","84122085A5.","Servizio di facchinaggio, trasloco e trasporto per le sedi del Consiglio di Stato” (solo esecuzione)","2021-01-16","2022-07-15",214000,4280,3424,856,null,null,"Coll. DEC",15.22,0.01]
[2020,3312,"89 del 05/05/2020","84122085A5.","Servizio di facchinaggio, trasloco e trasporto per le sedi del Consiglio di Stato” (solo esecuzione)","2021-01-16","2022-07-15",214000,4280,3424,856,null,null,"Coll. DEC",15.22,0.01]
[2020,3312,"89 del 05/05/2020","84122085A5.","Servizio di facchinaggio, trasloco e trasporto per le sedi del Consiglio di Stato” (solo esecuzione)","2021-01-16","2022-07-15",214000,4280,3424,856,null,null,"Inc. Ver. Conf",53.26,3.5000000000000003E-2]
[2020,3312,"89 del 05/05/2020","84122085A5.","Servizio di facchinaggio, trasloco e trasporto per le sedi del Consiglio di Stato” (solo esecuzione)","2021-01-16","2022-07-15",214000,4280,3424,856,null,null,"Coll. Inc Ver. Conf.",22.83,1.4999999999999999E-2]
[2022,3310,"14 del 31/10/2022","90857527bc","Servizio di facchinaggio, trasloco e trasporto per le sedi del Consiglio di Stato” ","2022-07-16","2024-01-15",214900,{"$f":"+H195*0.02","v":4298},{"$f":"+I195*0.8","v":3438.4},{"$f":"+I195*0.2","v":859.6},{"$f":"+J195","v":3438.4},2435.54,"Incaricato programm.",{"$f":"+J195*P195","v":103.152},0.03,null,null,null,1002.86]
[2022,3310,"14 del 31/10/2022","90857527bc","Servizio di facchinaggio, trasloco e trasporto per le sedi del Consiglio di Stato” ","2022-07-16","2024-01-15",214900,{"$f":"+H196*0.02","v":4298},{"$f":"+I196*0.8","v":3438.4},{"$f":"+I196*0.2","v":859.6},null,null,"Coll. Inc. prog.",{"$f":"+J196*P196","v":68.768000000000001},0.02]
[2022,3310,"14 del 31/10/2022","90857527bc","Servizio di facchinaggio, trasloco e trasporto per le sedi del Consiglio di Stato” ","2022-07-16","2024-01-15",214900,4298,3438.4,859.6,null,null,"Inc. Pred. Doc. ",{"$f":"+J197*P197","v":266.476},7.7499999999999999E-2]
[2022,3310,"14 del 31/10/2022","90857527bc","Servizio di facchinaggio, trasloco e trasporto per le sedi del Consiglio di Stato” ","2022-07-16","2024-01-15",214900,{"$f":"+H198*0.02","v":4298},{"$f":"+I198*0.8","v":3438.4},{"$f":"+I198*0.2","v":859.6},null,null,"Inc. Pred. Doc. ",{"$f":"+J198*P198","v":266.476},7.7499999999999999E-2]
[2022,3310,"14 del 31/10/2022","90857527bc","Servizio di facchinaggio, trasloco e trasporto per le sedi del Consiglio di Stato” ","2022-07-16","2024-01-15",214900,4298,3438.4,859.6,null,null,"Coll. Inc. Pred.",{"$f":"+J199*P199","v":68.768000000000001},0.02]
[2022,3310,"14 del 31/10/2022","90857527bc","Servizio di facchinaggio, trasloco e trasporto per le sedi del Consiglio di Stato” ","2022-07-16","2024-01-15",214900,4298,3438.4,859.6,null,null,"RUP Affidamento",{"$f":"+J200*P200","v":1203.44},0.35]
[2022,3310,"14 del 31/10/2022","90857527bc","Servizio di facchinaggio, trasloco e trasporto per le sedi del Consiglio di Stato” ","2022-07-16","2024-01-15",214900,4298,3438.4,859.6,null,null,"Coll. RUP Affidamento",{"$f":"+J201*P201","v":171.92000000000002},0.05]
[2022,3310,"14 del 31/10/2022","90857527bc","Servizio di facchinaggio, trasloco e trasporto per le sedi del Consiglio di Stato” ","2022-07-16","2024-01-15",214900,4298,3438.4,859.6,null,null,"RUP esecuzione",{"$f":"+(J202*P202)/9*2","v":133.71555555555557},0.17499999999999999]
[2022,3310,"14 del 31/10/2022","90857527bc","Servizio di facchinaggio, trasloco e trasporto per le sedi del Consiglio di Stato” ","2022-07-16","2024-01-15",214900,4298,3438.4,859.6,null,null,"Coll. RUP esecuzione",{"$f":"+(J203*P203)/9*2","v":11.461333333333334},1.4999999999999999E-2]
[2022,3310,"14 del 31/10/2022","90857527bc","Servizio di facchinaggio, trasloco e trasporto per le sedi del Consiglio di Stato” ","2022-07-16","2024-01-15",214900,4298,3438.4,859.6,null,null,"Coll. RUP esecuzione",{"$f":"+(J204*P204)/9*2","v":11.461333333333334},1.4999999999999999E-2]
[2022,3310,"14 del 31/10/2022","90857527bc","Servizio di facchinaggio, trasloco e trasporto per le sedi del Consiglio di Stato” ","2022-07-16","2024-01-15",214900,4298,3438.4,859.6,null,null,"DEC",{"$f":"+(J206*P205)/9*2","v":76.408888888888896},0.1]
[2022,3310,"14 del 31/10/2022","90857527bc","Servizio di facchinaggio, trasloco e trasporto per le sedi del Consiglio di Stato” ","2022-07-16","2024-01-15",214900,4298,3438.4,859.6,null,null,"Coll. DEC",{"$f":"+(J206*P206)/9*2","v":7.6408888888888891},0.01]
[2022,3310,"14 del 31/10/2022","90857527bc","Servizio di facchinaggio, trasloco e trasporto per le sedi del Consiglio di Stato” ","2022-07-16","2024-01-15",214900,4298,3438.4,859.6,null,null,"Coll. DEC",{"$f":"+(J207*P207)/9*2","v":7.6408888888888891},0.01]
[2022,3310,"14 del 31/10/2022","90857527bc","Servizio di facchinaggio, trasloco e trasporto per le sedi del Consiglio di Stato” ","2022-07-16","2024-01-15",214900,4298,3438.4,859.6,null,null,"Inc. Ver. Conf",{"$f":"+(J208*P208)/9*2","v":26.743111111111112},3.5000000000000003E-2]
[2022,3310,"14 del 31/10/2022","90857527bc","Servizio di facchinaggio, trasloco e trasporto per le sedi del Consiglio di Stato” ","2022-07-16","2024-01-15",214900,4298,3438.4,859.6,null,null,"Coll. Inc Ver. Conf.",{"$f":"+(J209*P209)/9*2","v":11.461333333333334},1.4999999999999999E-2]
[2021,1302,"21 del 12/02/2021","862976428A","Servizio di vigilanza armata presso le sedi del CDS (solo esecuzione)","2021-05-01","2022-07-07",214000,4280,3424,856,802.5,{"$f":"+O210+O211+O212+O213+O214+O215+O216+O217","v":802.5},"RUP esecuzione",374.5,0.17499999999999999,null,null,2621.5,{"$f":"+J210-M210-S210","v":0}]
[2021,1302,"21 del 12/02/2021","862976428A","Servizio di vigilanza armata presso le sedi del CDS (solo esecuzione)","2021-05-01","2022-07-07",214000,4280,3424,856,null,null,"Coll. RUP esecuzione",32.1,1.4999999999999999E-2]
[2021,1302,"21 del 12/02/2021","862976428A","Servizio di vigilanza armata presso le sedi del CDS (solo esecuzione)","2021-05-01","2022-07-07",214000,4280,3424,856,null,null,"Coll. RUP esecuzione",32.1,1.4999999999999999E-2]
[2021,1302,"21 del 12/02/2021","862976428A","Servizio di vigilanza armata presso le sedi del CDS (solo esecuzione)","2021-05-01","2022-07-07",214000,4280,3424,856,null,null,"DEC",214,0.1]
[2021,1302,"21 del 12/02/2021","862976428A","Servizio di vigilanza armata presso le sedi del CDS (solo esecuzione)","2021-05-01","2022-07-07",214000,4280,3424,856,null,null,"Coll. DEC",21.4,0.01]
[2021,1302,"21 del 12/02/2021","862976428A","Servizio di vigilanza armata presso le sedi del CDS (solo esecuzione)","2021-05-01","2022-07-07",214000,4280,3424,856,null,null,"Coll. DEC",21.4,0.01]
[2021,1302,"21 del 12/02/2021","862976428A","Servizio di vigilanza armata presso le sedi del CDS (solo esecuzione)","2021-05-01","2022-07-07",214000,4280,3424,856,null,null,"Inc. Ver. Conf",74.900000000000006,3.5000000000000003E-2]
[2021,1302,"21 del 12/02/2021","862976428A","Servizio di vigilanza armata presso le sedi del CDS (solo esecuzione)","2021-05-01","2022-07-07",214000,4280,3424,856,null,null,"Coll. Inc Ver. Conf.",32.1,1.4999999999999999E-2]
[2022,1302,"15 del 30/01/2022","9085836D0C","Servizio di vigilanza armata presso le sedi del CDS","2022-08-07","2023-11-06",214900,{"$f":"+H218*0.02","v":4298},{"$f":"+I218*0.8","v":3438.4},{"$f":"+I218*0.2","v":859.6},{"$f":"+J218","v":3438.4},{"$f":"+O218+O219+O220+O221+O222+O223+O224+O225+O226+O227+O228+O229+O230+O231","v":2471.349999999999},"Incaricato programm.",{"$f":"+J218*P218","v":103.152},0.03,null,null,null,{"$f":"+J218-M218","v":967.05000000000109}]
[2022,1302,"15 del 30/01/2022","9085836D0C","Servizio di vigilanza armata presso le sedi del CDS","2022-08-07","2023-11-06",214900,{"$f":"+H219*0.02","v":4298},{"$f":"+I219*0.8","v":3438.4},{"$f":"+I219*0.2","v":859.6},null,null,"Coll. Inc. prog.",{"$f":"+J219*P219","v":68.768000000000001},0.02]
[2022,1302,"15 del 30/01/2022","9085836D0C","Servizio di vigilanza armata presso le sedi del CDS","2022-08-07","2023-11-06",214900,4298,3438.4,859.6,null,null,"Inc. Pred. Doc. ",{"$f":"+J220*P220","v":532.952},0.155]
[2022,1302,"15 del 30/01/2022","9085836D0C","Servizio di vigilanza armata presso le sedi del CDS","2022-08-07","2023-11-06",214900,4298,3438.4,859.6,null,null,"Coll. Inc. Pred.",{"$f":"+J221*P221","v":68.768000000000001},0.02]
[2022,1302,"15 del 30/01/2022","9085836D0C","Servizio di vigilanza armata presso le sedi del CDS","2022-08-07","2023-11-06",214900,4298,3438.4,859.6,null,null,"RUP Affidamento",{"$f":"+J222*P222","v":1203.44},0.35]
[2022,1302,"15 del 30/01/2022","9085836D0C","Servizio di vigilanza armata presso le sedi del CDS","2022-08-07","2023-11-06",214900,4298,3438.4,859.6,null,null,"Coll. RUP Affidamento",{"$f":"+J223*P223","v":171.92000000000002},0.05]
[2022,1302,"15 del 30/01/2022","9085836D0C","Servizio di vigilanza armata presso le sedi del CDS","2022-08-07","2023-11-06",214900,4298,3438.4,859.6,null,null,"RUP esecuzione",{"$f":"+(J224*P224)/8*2","v":150.43},0.17499999999999999]
[2022,1302,"15 del 30/01/2022","9085836D0C","Servizio di vigilanza armata presso le sedi del CDS","2022-08-07","2023-11-06",214900,4298,3438.4,859.6,null,null,"Coll. RUP esecuzione",{"$f":"+(J225*P225)/8*2","v":12.894},1.4999999999999999E-2]
[2022,1302,"15 del 30/01/2022","9085836D0C","Servizio di vigilanza armata presso le sedi del CDS","2022-08-07","2023-11-06",214900,4298,3438.4,859.6,null,null,"Coll. RUP esecuzione",{"$f":"+(J226*P226)/8*2","v":12.894},1.4999999999999999E-2]
[2022,1302,"15 del 30/01/2022","9085836D0C","Servizio di vigilanza armata presso le sedi del CDS","2022-08-07","2023-11-06",214900,4298,3438.4,859.6,null,null,"DEC",{"$f":"+(J227*P227)/8*2","v":85.960000000000008},0.1]
[2022,1302,"15 del 30/01/2022","9085836D0C","Servizio di vigilanza armata presso le sedi del CDS","2022-08-07","2023-11-06",214900,4298,3438.4,859.6,null,null,"Coll. DEC",{"$f":"+(J228*P228)/8*2","v":8.5960000000000001},0.01]
[2022,1302,"15 del 30/01/2022","9085836D0C","Servizio di vigilanza armata presso le sedi del CDS","2022-08-07","2023-11-06",214900,4298,3438.4,859.6,null,null,"Coll. DEC",{"$f":"+(J229*P229)/8*2","v":8.5960000000000001},0.01]
[2022,1302,"15 del 30/01/2022","9085836D0C","Servizio di vigilanza armata presso le sedi del CDS","2022-08-07","2023-11-06",214900,4298,3438.4,859.6,null,null,"Inc. Ver. Conf",{"$f":"+(J230*P230)/8*2","v":30.086000000000002},3.5000000000000003E-2]
[2022,1302,"15 del 30/01/2022","9085836D0C","Servizio di vigilanza armata presso le sedi del CDS","2022-08-07","2023-11-06",214900,4298,3438.4,859.6,null,null,"Coll. Inc Ver. Conf.",{"$f":"+(J231*P231)/8*2","v":12.894},1.4999999999999999E-2]
[2022,1302,"48 del 05/04/2022","9170096A9A","servizio di noleggio di n. 18 fotocopiatrici in adesione alla Convenzione Consip ",null,null,66214.080000000002,{"$f":"+H232*0.02","v":1324.2816},1059.42,{"$f":"+I232*0.2","v":264.85632000000004},{"$f":"+J232","v":1059.42},{"$f":"+O232+O233+O234+O235+O236+O237","v":535.00409999999999},"Incaricato programm.",{"$f":"+J232*P232","v":52.971000000000004},0.05,null,null,null,{"$f":"+J232-M232","v":524.41590000000008}]
[2022,1302,"48 del 05/04/2022","9170096A9A","servizio di noleggio di n. 18 fotocopiatrici in adesione alla Convenzione Consip ",null,null,66214.080000000002,{"$f":"+H233*0.02","v":1324.2816},1059.42,{"$f":"+I233*0.2","v":264.85632000000004},null,null,"Coll. Inc. prog.",{"$f":"+J233*P233","v":31.782600000000002},0.03]
[2022,1302,"48 del 05/04/2022","9170096A9A","servizio di noleggio di n. 18 fotocopiatrici in adesione alla Convenzione Consip ",null,null,66214.080000000002,1324.2816,1059.42,264.85632000000004,null,null,"Inc. Pred. Doc. ",{"$f":"+J234*P234","v":127.13040000000001},0.12]
[2022,1302,"48 del 05/04/2022","9170096A9A","servizio di noleggio di n. 18 fotocopiatrici in adesione alla Convenzione Consip ",null,null,66214.080000000002,1324.2816,1059.42,264.85632000000004,null,null,"Coll. Inc. Pred.",{"$f":"+J235*P235","v":79.456500000000005},7.4999999999999997E-2]
[2022,1302,"48 del 05/04/2022","9170096A9A","servizio di noleggio di n. 18 fotocopiatrici in adesione alla Convenzione Consip ",null,null,66214.080000000002,1324.2816,1059.42,264.85632000000004,null,null,"RUP Affidamento",158.91,0.15]
[2022,1302,"48 del 05/04/2022","9170096A9A","servizio di noleggio di n. 18 fotocopiatrici in adesione alla Convenzione Consip ",null,null,66214.080000000002,1324.2816,1059.42,264.85632000000004,null,null,"Coll. RUP Affidamento",{"$f":"+J237*P237","v":84.753600000000006},0.08]
[2020,1302,"17 del 28/1/2020","8186938AF4","Verbalizzazione udienze (SOLO ESECUZIONE)","2020-10-20","2023-10-19",69300,{"$f":"+H238*0.02","v":1386},{"$f":"+(I238)*0.8","v":1108.8},{"$f":"+(I238)*0.2","v":277.2},382.37,{"$f":"+O238+O239+O240+O241+O242+O243+O244+O245","v":31.470000000000002},"RUP esecuzione",14.68,0.17499999999999999,null,693,33.43,{"$f":"+J238-Q238-R238-M238-S238","v":350.89999999999992}]
[2020,1302,"17 del 28/1/2020","8186938AF4","Verbalizzazione udienze (SOLO ESECUZIONE)","2020-10-20","2023-10-19",69300,{"$f":"+H239*0.02","v":1386},{"$f":"+(I239)*0.8","v":1108.8},{"$f":"+(I239)*0.2","v":277.2},null,null,"Coll. RUP esecuzione",1.26,1.4999999999999999E-2]
[2020,1302,"17 del 28/1/2020","8186938AF4","Verbalizzazione udienze (SOLO ESECUZIONE)","2020-10-20","2023-10-19",69300,1386,1108.8,277.2,null,null,"Coll. RUP esecuzione",1.26,1.4999999999999999E-2]
[2020,1302,"17 del 28/1/2020","8186938AF4","Verbalizzazione udienze (SOLO ESECUZIONE)","2020-10-20","2023-10-19",69300,1386,1108.8,277.2,null,null,"DEC esterno",8.39,0.1]
[2020,1302,"17 del 28/1/2020","8186938AF4","Verbalizzazione udienze (SOLO ESECUZIONE)","2020-10-20","2023-10-19",69300,1386,1108.8,277.2,null,null,"Coll. DEC",0.84,0.01]
[2020,1302,"17 del 28/1/2020","8186938AF4","Verbalizzazione udienze (SOLO ESECUZIONE)","2020-10-20","2023-10-19",69300,1386,1108.8,277.2,null,null,"Coll. DEC",0.84,0.01]
[2020,1302,"17 del 28/1/2020","8186938AF4","Verbalizzazione udienze (SOLO ESECUZIONE)","2020-10-20","2023-10-19",69300,1386,1108.8,277.2,null,null,"Inc. Ver. Conf",2.94,3.5000000000000003E-2]
[2020,1302,"17 del 28/1/2020","8186938AF4","Verbalizzazione udienze (SOLO ESECUZIONE)","2020-10-20","2023-10-19",69300,1386,1108.8,277.2,null,null,"Coll. Inc Ver. Conf.",1.26,1.4999999999999999E-2]
[2021,1302,"70 del 12/05/2021","Z5531B0901"," affidamento del servizio di manutenzione di n. 11 fotocopiatrici (solo esecuzione)",null,null,25200,{"$f":"+H246*0.02","v":504},{"$f":"+(I246)*0.8","v":403.20000000000005},{"$f":"+(I246)*0.2","v":100.80000000000001},173.38,{"$f":"+O246+O247+O248+O249+O250+O251+O252+O253","v":44.72},"RUP esecuzione",18.72,0.18,null,null,229.82,{"$f":"+J246-M246-S246","v":128.66000000000003}]
[2021,1302,"70 del 12/05/2021","Z5531B0901"," affidamento del servizio di manutenzione di n. 11 fotocopiatrici (solo esecuzione)",null,null,25200,{"$f":"+H247*0.02","v":504},{"$f":"+(I247)*0.8","v":403.20000000000005},{"$f":"+(I247)*0.2","v":100.80000000000001},null,null,"Coll. RUP esecuzione",2.08,0.02]
[2021,1302,"70 del 12/05/2021","Z5531B0901"," affidamento del servizio di manutenzione di n. 11 fotocopiatrici (solo esecuzione)",null,null,25200,504,403.20000000000005,100.80000000000001,null,null,"Coll. RUP esecuzione",2.08,0.02]
[2021,1302,"70 del 12/05/2021","Z5531B0901"," affidamento del servizio di manutenzione di n. 11 fotocopiatrici (solo esecuzione)",null,null,25200,504,403.20000000000005,100.80000000000001,null,null,"DEC",11.96,0.115]
[2021,1302,"70 del 12/05/2021","Z5531B0901"," affidamento del servizio di manutenzione di n. 11 fotocopiatrici (solo esecuzione)",null,null,25200,504,403.20000000000005,100.80000000000001,null,null,"Coll. DEC",2.34,2.2499999999999999E-2]
[2021,1302,"70 del 12/05/2021","Z5531B0901"," affidamento del servizio di manutenzione di n. 11 fotocopiatrici (solo esecuzione)",null,null,25200,504,403.20000000000005,100.80000000000001,null,null,"Coll. DEC",2.34,2.2499999999999999E-2]
[2021,1302,"70 del 12/05/2021","Z5531B0901"," affidamento del servizio di manutenzione di n. 11 fotocopiatrici (solo esecuzione)",null,null,25200,504,403.20000000000005,100.80000000000001,null,null,"Inc. Ver. Conf",3.64,3.5000000000000003E-2]
[2021,1302,"70 del 12/05/2021","Z5531B0901"," affidamento del servizio di manutenzione di n. 11 fotocopiatrici (solo esecuzione)",null,null,25200,504,403.20000000000005,100.80000000000001,null,null,"Coll. Inc Ver. Conf.",1.56,1.4999999999999999E-2]
[2022,1302,"139 del 08/09/2022","Z1C37AE480","affidamento della fornitura di buste concorsuali e materiale vario",null,null,39000,{"$f":"+H254*0.02","v":780},624,156,{"$f":"+M254","v":624},{"$f":"+O254+O255+O256+O257+O258+O259+O260+O261+O262+O263+O264+O265+O266+O267","v":624},"Incaricato programm.",{"$f":"+J254*P254","v":18.72},0.03]
[2022,1302,"139 del 08/09/2022","Z1C37AE480","affidamento della fornitura di buste concorsuali e materiale vario",null,null,39000,{"$f":"+H255*0.02","v":780},{"$f":"+(I255)*0.8","v":624},{"$f":"+(I255)*0.2","v":156},null,null,"Coll. Inc. prog.",{"$f":"+J255*P255","v":12.48},0.02]
[2022,1302,"139 del 08/09/2022","Z1C37AE480","affidamento della fornitura di buste concorsuali e materiale vario",null,null,39000,780,624,156,null,null,"Inc. Pred. Doc. ",{"$f":"+J256*P256","v":84.240000000000009},0.13500000000000001]
[2022,1302,"139 del 08/09/2022","Z1C37AE480","affidamento della fornitura di buste concorsuali e materiale vario",null,null,39000,780,624,156,null,null,"Coll. Inc. Pred.",{"$f":"+J257*P257","v":18.72},0.03]
[2022,1302,"139 del 08/09/2022","Z1C37AE480","affidamento della fornitura di buste concorsuali e materiale vario",null,null,39000,780,624,156,null,null,"RUP Affidamento",{"$f":"+J258*P258","v":180.95999999999998},0.28999999999999998]
[2022,1302,"139 del 08/09/2022","Z1C37AE480","affidamento della fornitura di buste concorsuali e materiale vario",null,null,39000,780,624,156,null,null,"Coll. RUP Affidamento",{"$f":"+J259*P259","v":40.56},6.5000000000000002E-2]
[2022,1302,"139 del 08/09/2022","Z1C37AE480","affidamento della fornitura di buste concorsuali e materiale vario",null,null,39000,780,624,156,null,null,"RUP esecuzione",{"$f":"+J260*P260","v":112.32},0.18]
[2022,1302,"139 del 08/09/2022","Z1C37AE480","affidamento della fornitura di buste concorsuali e materiale vario",null,null,39000,780,624,156,null,null,"Coll. RUP esecuzione",{"$f":"+J261*P261","v":12.48},0.02]
[2022,1302,"139 del 08/09/2022","Z1C37AE480","affidamento della fornitura di buste concorsuali e materiale vario",null,null,39000,780,624,156,null,null,"Coll. RUP esecuzione",{"$f":"+J262*P262","v":12.48},0.02]
[2022,1302,"139 del 08/09/2022","Z1C37AE480","affidamento della fornitura di buste concorsuali e materiale vario",null,null,39000,780,624,156,null,null,"DEC",{"$f":"+J263*P263","v":71.760000000000005},0.115]
[2022,1302,"139 del 08/09/2022","Z1C37AE480","affidamento della fornitura di buste concorsuali e materiale vario",null,null,39000,780,624,156,null,null,"Coll. DEC",{"$f":"+J264*P264","v":14.04},2.2499999999999999E-2]
[2022,1302,"139 del 08/09/2022","Z1C37AE480","affidamento della fornitura di buste concorsuali e materiale vario",null,null,39000,780,624,156,null,null,"Coll. DEC",{"$f":"+J265*P265","v":14.04},2.2499999999999999E-2]
[2022,1302,"139 del 08/09/2022","Z1C37AE480","affidamento della fornitura di buste concorsuali e materiale vario",null,null,39000,780,624,156,null,null,"Inc. Ver. Conf",{"$f":"+J266*P266","v":21.840000000000003},3.5000000000000003E-2]
[2022,1302,"139 del 08/09/2022","Z1C37AE480","affidamento della fornitura di buste concorsuali e materiale vario",null,null,39000,780,624,156,null,null,"Coll. Inc Ver. Conf.",{"$f":"+J267*P267","v":9.36},1.4999999999999999E-2]
[2022,1302,"13 DEL 28/01/2022","Z5B34FCB99","affidamento della fornitura di cancelleria varia per le esigenze del CDS",null,null,30000,{"$f":"+H268*0.02","v":600},{"$f":"+(I268)*0.8","v":480},{"$f":"+(I268)*0.2","v":120},{"$f":"+M268","v":480.00000000000006},{"$f":"+O268+O269+O270+O271+O272+O273+O274+O275+O276+O277+O278+O279+O280+O281","v":480.00000000000006},"Incaricato programm.",{"$f":"+J268*P268","v":14.399999999999999},0.03]
[2022,1302,"13 DEL 28/01/2022","Z5B34FCB99","affidamento della fornitura di cancelleria varia per le esigenze del CDS",null,null,30000,{"$f":"+H269*0.02","v":600},{"$f":"+(I269)*0.8","v":480},{"$f":"+(I269)*0.2","v":120},null,null,"Coll. Inc. prog.",{"$f":"+J269*P269","v":9.6},0.02]
[2022,1302,"13 DEL 28/01/2022","Z5B34FCB99","affidamento della fornitura di cancelleria varia per le esigenze del CDS",null,null,30000,600,480,120,null,null,"Inc. Pred. Doc. ",{"$f":"+J270*P270","v":64.800000000000011},0.13500000000000001]
[2022,1302,"13 DEL 28/01/2022","Z5B34FCB99","affidamento della fornitura di cancelleria varia per le esigenze del CDS",null,null,30000,600,480,120,null,null,"Coll. Inc. Pred.",{"$f":"+J271*P271","v":14.399999999999999},0.03]
[2022,1302,"13 DEL 28/01/2022","Z5B34FCB99","affidamento della fornitura di cancelleria varia per le esigenze del CDS",null,null,30000,600,480,120,null,null,"RUP Affidamento",{"$f":"+J272*P272","v":139.19999999999999},0.28999999999999998]
[2022,1302,"13 DEL 28/01/2022","Z5B34FCB99","affidamento della fornitura di cancelleria varia per le esigenze del CDS",null,null,30000,600,480,120,null,null,"Coll. RUP Affidamento",{"$f":"+J273*P273","v":31.200000000000003},6.5000000000000002E-2]
[2022,1302,"13 DEL 28/01/2022","Z5B34FCB99","affidamento della fornitura di cancelleria varia per le esigenze del CDS",null,null,30000,600,480,120,null,null,"RUP esecuzione",{"$f":"+J274*P274","v":86.399999999999991},0.18]
[2022,1302,"13 DEL 28/01/2022","Z5B34FCB99","affidamento della fornitura di cancelleria varia per le esigenze del CDS",null,null,30000,600,480,120,null,null,"Coll. RUP esecuzione",{"$f":"+J275*P275","v":9.6},0.02]
[2022,1302,"13 DEL 28/01/2022","Z5B34FCB99","affidamento della fornitura di cancelleria varia per le esigenze del CDS",null,null,30000,600,480,120,null,null,"Coll. RUP esecuzione",{"$f":"+J276*P276","v":9.6},0.02]
[2022,1302,"13 DEL 28/01/2022","Z5B34FCB99","affidamento della fornitura di cancelleria varia per le esigenze del CDS",null,null,30000,600,480,120,null,null,"DEC",{"$f":"+J277*P277","v":55.2},0.115]
[2022,1302,"13 DEL 28/01/2022","Z5B34FCB99","affidamento della fornitura di cancelleria varia per le esigenze del CDS",null,null,30000,600,480,120,null,null,"Coll. DEC",{"$f":"+J278*P278","v":10.799999999999999},2.2499999999999999E-2]
[2022,1302,"13 DEL 28/01/2022","Z5B34FCB99","affidamento della fornitura di cancelleria varia per le esigenze del CDS",null,null,30000,600,480,120,null,null,"Coll. DEC",{"$f":"+J279*P279","v":10.799999999999999},2.2499999999999999E-2]
[2022,1302,"13 DEL 28/01/2022","Z5B34FCB99","affidamento della fornitura di cancelleria varia per le esigenze del CDS",null,null,30000,600,480,120,null,null,"Inc. Ver. Conf",{"$f":"+J280*P280","v":16.8},3.5000000000000003E-2]
[2022,1302,"13 DEL 28/01/2022","Z5B34FCB99","affidamento della fornitura di cancelleria varia per le esigenze del CDS",null,null,30000,600,480,120,null,null,"Coll. Inc Ver. Conf.",{"$f":"+J281*P281","v":7.1999999999999993},1.4999999999999999E-2]
[2022,1302,"197 DEL 02/12/2022","ZA038E53AE","Rilegatura delle riviste giuridiche per le esigenze della Biblioteca del C.D.S",null,null,30000,{"$f":"+H282*0.02","v":600},480,120,{"$f":"+M282","v":273.60000000000002},{"$f":"+O282+O283+O284+O285+O286+O287","v":273.60000000000002},"Incaricato programm.",{"$f":"+J282*P282","v":14.399999999999999},0.03]
[2022,1302,"197 DEL 02/12/2022","ZA038E53AE","Rilegatura delle riviste giuridiche per le esigenze della Biblioteca del C.D.S",null,null,30000,{"$f":"+H283*0.02","v":600},{"$f":"+(I283)*0.8","v":480},120,null,null,"Coll. Inc. prog.",{"$f":"+J283*P283","v":9.6},0.02]
[2022,1302,"197 DEL 02/12/2022","ZA038E53AE","Rilegatura delle riviste giuridiche per le esigenze della Biblioteca del C.D.S",null,null,30000,600,480,120,null,null,"Inc. Pred. Doc. ",{"$f":"+J284*P284","v":64.800000000000011},0.13500000000000001]
[2022,1302,"197 DEL 02/12/2022","ZA038E53AE","Rilegatura delle riviste giuridiche per le esigenze della Biblioteca del C.D.S",null,null,30000,600,480,120,null,null,"Coll. Inc. Pred.",{"$f":"+J285*P285","v":14.399999999999999},0.03]
[2022,1302,"197 DEL 02/12/2022","ZA038E53AE","Rilegatura delle riviste giuridiche per le esigenze della Biblioteca del C.D.S",null,null,30000,600,480,120,null,null,"RUP Affidamento",{"$f":"+J286*P286","v":139.19999999999999},0.28999999999999998]
[2022,1302,"197 DEL 02/12/2022","ZA038E53AE","Rilegatura delle riviste giuridiche per le esigenze della Biblioteca del C.D.S",null,null,30000,600,480,120,null,null,"Coll. RUP Affidamento",{"$f":"+J287*P287","v":31.200000000000003},6.5000000000000002E-2]
[2021,1302,"173 del 09/11/2021","z4c33ce7ce","affidamento della fornitura di agende, calendari anno 2022 (SOLO ESECUZIONE)",null,null,19820,{"$f":"+H288*0.02","v":396.40000000000003},{"$f":"+(I288)*0.8","v":317.12000000000006},{"$f":"+(I288)*0.2","v":79.280000000000015},136.36000000000001,136.36000000000001,"RUP esecuzione",{"$f":"+J288*P288","v":57.081600000000009},0.18,null,null,180.76,{"$f":"+J288-M288-S288","v":0}]
[2021,1302,"173 del 09/11/2021","z4c33ce7ce","affidamento della fornitura di agende, calendari anno 2022 (SOLO ESECUZIONE)",null,null,19820,{"$f":"+H289*0.02","v":396.40000000000003},{"$f":"+(I289)*0.8","v":317.12000000000006},{"$f":"+(I289)*0.2","v":79.280000000000015},null,null,"Coll. RUP esecuzione",{"$f":"+J289*P289","v":6.3424000000000014},0.02]
[2021,1302,"173 del 09/11/2021","z4c33ce7ce","affidamento della fornitura di agende, calendari anno 2022 (SOLO ESECUZIONE)",null,null,19820,396.40000000000003,317.12000000000006,79.280000000000015,null,null,"Coll. RUP esecuzione",{"$f":"+J290*P290","v":6.3424000000000014},0.02]
[2021,1302,"173 del 09/11/2021","z4c33ce7ce","affidamento della fornitura di agende, calendari anno 2022 (SOLO ESECUZIONE)",null,null,19820,396.40000000000003,317.12000000000006,79.280000000000015,null,null,"DEC",{"$f":"+J291*P291","v":36.468800000000009},0.115]
[2021,1302,"173 del 09/11/2021","z4c33ce7ce","affidamento della fornitura di agende, calendari anno 2022 (SOLO ESECUZIONE)",null,null,19820,396.40000000000003,317.12000000000006,79.280000000000015,null,null,"Coll. DEC",{"$f":"+J292*P292","v":7.1352000000000011},2.2499999999999999E-2]
[2021,1302,"173 del 09/11/2021","z4c33ce7ce","affidamento della fornitura di agende, calendari anno 2022 (SOLO ESECUZIONE)",null,null,19820,396.40000000000003,317.12000000000006,79.280000000000015,null,null,"Coll. DEC",{"$f":"+J293*P293","v":7.1352000000000011},2.2499999999999999E-2]
[2021,1302,"173 del 09/11/2021","z4c33ce7ce","affidamento della fornitura di agende, calendari anno 2022 (SOLO ESECUZIONE)",null,null,19820,396.40000000000003,317.12000000000006,79.280000000000015,null,null,"Inc. Ver. Conf",{"$f":"+J294*P294","v":11.099200000000003},3.5000000000000003E-2]
[2021,1302,"173 del 09/11/2021","z4c33ce7ce","affidamento della fornitura di agende, calendari anno 2022 (SOLO ESECUZIONE)",null,null,19820,396.40000000000003,317.12000000000006,79.280000000000015,null,null,"Coll. Inc Ver. Conf.",4.75,1.4999999999999999E-2]
[2020,1302,"96 del 18/5/2020","8300348FD7","Noleggio apparecchiature multifunzione (SOLO ESECUZIONE)","48 MESI DALLA STIPULA",null,78291.199999999997,1565.82,{"$f":"+(I296)*0.8","v":1252.6559999999999},{"$f":"+(I296)*0.2","v":313.16399999999999},620.05999999999995,{"$f":"+O296+O297+O298+O302+O303+O299+O300+O301","v":116.24999999999999},"RUP esecuzione",39.93,0.17,null,232.51,632.59,{"$f":"+J296-M296-S296-R296","v":271.30599999999993}]
[2020,1302,"96 del 18/5/2020","8300348FD7","Noleggio apparecchiature multifunzione (SOLO ESECUZIONE)","48 MESI DALLA STIPULA",null,78291.199999999997,1565.82,1252.6559999999999,313.16399999999999,null,null,{"$f":"+N298","v":"Coll. RUP esecuzione"},9.39,0.04]
[2020,1302,"96 del 18/5/2020","8300348FD7","Noleggio apparecchiature multifunzione (SOLO ESECUZIONE)","48 MESI DALLA STIPULA",null,78291.199999999997,1565.82,1252.6559999999999,313.16399999999999,null,null,"Coll. RUP esecuzione",{"$f":"+O297","v":9.39},0.04]
[2020,1302,"96 del 18/5/2020","8300348FD7","Noleggio apparecchiature multifunzione (SOLO ESECUZIONE)","48 MESI DALLA STIPULA",null,78291.199999999997,1565.82,{"$f":"+(I299)*0.8","v":1252.6559999999999},{"$f":"+(I299)*0.2","v":313.16399999999999},null,null,"DEC",25.84,0.11]
[2020,1302,"96 del 18/5/2020","8300348FD7","Noleggio apparecchiature multifunzione (SOLO ESECUZIONE)","48 MESI DALLA STIPULA",null,78291.199999999997,1565.82,{"$f":"+(I300)*0.8","v":1252.6559999999999},{"$f":"+(I300)*0.2","v":313.16399999999999},null,null,"Coll. DEC",7.63,3.2500000000000001E-2]
[2020,1302,"96 del 18/5/2020","8300348FD7","Noleggio apparecchiature multifunzione (SOLO ESECUZIONE)","48 MESI DALLA STIPULA",null,78291.199999999997,1565.82,{"$f":"+(I301)*0.8","v":1252.6559999999999},{"$f":"+(I301)*0.2","v":313.16399999999999},null,null,"Coll. DEC",7.63,3.2500000000000001E-2]
[2020,1302,"96 del 18/5/2020","8300348FD7","Noleggio apparecchiature multifunzione (SOLO ESECUZIONE)","48 MESI DALLA STIPULA",null,78291.199999999997,1565.82,1252.6559999999999,313.16399999999999,null,null,"Inc. verifica conformità",9.39,0.04]
[2020,1302,"96 del 18/5/2020","8300348FD7","Noleggio apparecchiature multifunzione (SOLO ESECUZIONE)","48 MESI DALLA STIPULA",null,78291.199999999997,1565.82,1252.6559999999999,313.16399999999999,null,null,"Coll. Inc. Ver. Conf",7.05,0.03]
[2022,1302,"64 DEL 28/04/2022","ZA23626448  ","noleggio di n. 1 fotocopiatrice in adesione alla Convenzione Consip ",null,null,2000.32,{"$f":"+H304*0.02","v":40.006399999999999},{"$f":"+(I304)*0.8","v":32.005119999999998},{"$f":"+(I304)*0.2","v":8.0012799999999995},{"$f":"+J304-R304","v":32.005119999999998},{"$f":"+O304+O305+O306+O307+O308+O309","v":16.1625856},"Incaricato programm.",{"$f":"+J304*P304","v":1.6002559999999999},0.05,null,null,null,{"$f":"+J304-M304","v":15.842534399999998}]
[2022,1302,"64 DEL 28/04/2022","ZA23626448  ","noleggio di n. 1 fotocopiatrice in adesione alla Convenzione Consip ",null,null,2000.32,{"$f":"+H305*0.02","v":40.006399999999999},{"$f":"+(I305)*0.8","v":32.005119999999998},{"$f":"+(I305)*0.2","v":8.0012799999999995},null,null,"Coll. Inc. prog.",{"$f":"+J305*P305","v":0.96015359999999994},0.03]
[2022,1302,"64 DEL 28/04/2022","ZA23626448  ","noleggio di n. 1 fotocopiatrice in adesione alla Convenzione Consip ",null,null,2000.32,40.006399999999999,32.005119999999998,8.0012799999999995,null,null,"Inc. Pred. Doc. ",{"$f":"+J306*P306","v":3.8406143999999998},0.12]
[2022,1302,"64 DEL 28/04/2022","ZA23626448  ","noleggio di n. 1 fotocopiatrice in adesione alla Convenzione Consip ",null,null,2000.32,40.006399999999999,32.005119999999998,8.0012799999999995,null,null,"Coll. Inc. Pred.",{"$f":"+J307*P307","v":2.4003839999999999},7.4999999999999997E-2]
[2022,1302,"64 DEL 28/04/2022","ZA23626448  ","noleggio di n. 1 fotocopiatrice in adesione alla Convenzione Consip ",null,null,2000.32,40.006399999999999,32.005119999999998,8.0012799999999995,null,null,"RUP Affidamento",{"$f":"+J308*P308","v":4.8007679999999997},0.15]
[2022,1302,"64 DEL 28/04/2022","ZA23626448  ","noleggio di n. 1 fotocopiatrice in adesione alla Convenzione Consip ",null,null,2000.32,40.006399999999999,32.005119999999998,8.0012799999999995,null,null,"Coll. RUP Affidamento",{"$f":"+J309*P309","v":2.5604095999999998},0.08]
[2022,1302,"151 DEL 27/09/2022","Z3137E81D7","noleggio di n. 1 fotocopiatrice in adesione alla Convenzione Consip ",null,null,2957.12,{"$f":"+H310*0.02","v":59.142400000000002},47.313920000000003,11.828480000000001,{"$f":"+J310-R310","v":47.313920000000003},23.91,"Incaricato programm.",{"$f":"+J310*P310","v":2.3656960000000002},0.05,null,null,null,{"$f":"+J310-M310","v":23.403920000000003}]
[2022,1302,"151 DEL 27/09/2022","Z3137E81D7","noleggio di n. 1 fotocopiatrice in adesione alla Convenzione Consip ",null,null,2957.12,{"$f":"+H311*0.02","v":59.142400000000002},{"$f":"+(I311)*0.8","v":47.313920000000003},{"$f":"+(I311)*0.2","v":11.828480000000001},null,null,"Coll. Inc. prog.",{"$f":"+J311*P311","v":1.4194176000000001},0.03]
[2022,1302,"151 DEL 27/09/2022","Z3137E81D7","noleggio di n. 1 fotocopiatrice in adesione alla Convenzione Consip ",null,null,2957.12,59.142400000000002,47.313920000000003,11.828480000000001,null,null,"Inc. Pred. Doc. ",{"$f":"+J312*P312","v":5.6776704000000002},0.12]
[2022,1302,"151 DEL 27/09/2022","Z3137E81D7","noleggio di n. 1 fotocopiatrice in adesione alla Convenzione Consip ",null,null,2957.12,59.142400000000002,47.313920000000003,11.828480000000001,null,null,"Coll. Inc. Pred.",{"$f":"+J313*P313","v":3.5485440000000001},7.4999999999999997E-2]
[2022,1302,"151 DEL 27/09/2022","Z3137E81D7","noleggio di n. 1 fotocopiatrice in adesione alla Convenzione Consip ",null,null,2957.12,59.142400000000002,47.313920000000003,11.828480000000001,null,null,"RUP Affidamento",{"$f":"+J314*P314","v":7.0970880000000003},0.15]
[2022,1302,"151 DEL 27/09/2022","Z3137E81D7","noleggio di n. 1 fotocopiatrice in adesione alla Convenzione Consip ",null,null,2957.12,59.142400000000002,47.313920000000003,11.828480000000001,null,null,"Coll. RUP Affidamento",{"$f":"+J315*P315","v":3.7851136000000003},0.08]
[2022,1302,"25 del 09/02/2022","Z483523127","“SERVIZI ASSICURATIVI DELLA RESPONSABILITA' PROFESSIONALE DEI DIPENDENTI TECNICI-PROGETTISTI INTERNI ALL'AMMINISTRAZIONE” ","2022-02-09","2024-12-31",9000,{"$f":"+H316*0.02","v":180},{"$f":"+I316*0.8","v":144},{"$f":"+I316*0.2","v":36},{"$f":"+M316","v":123.36},{"$f":"+O316+O317+O318+O319+O320+O321+O322+O323+O324+O325+O326+O327+O328+O329","v":123.36},"Incaricato programm.",{"$f":"+J316*P316","v":4.32},0.03,null,null,null,0]
[2022,1302,"25 del 09/02/2022","Z483523127","“SERVIZI ASSICURATIVI DELLA RESPONSABILITA' PROFESSIONALE DEI DIPENDENTI TECNICI-PROGETTISTI INTERNI ALL'AMMINISTRAZIONE” ","2022-02-09","2024-12-31",9000,{"$f":"+H317*0.02","v":180},{"$f":"+I317*0.8","v":144},{"$f":"+I317*0.2","v":36},null,null,"Coll. Inc. prog.",{"$f":"+J317*P317","v":2.88},0.02]
[2022,1302,"25 del 09/02/2022","Z483523127","“SERVIZI ASSICURATIVI DELLA RESPONSABILITA' PROFESSIONALE DEI DIPENDENTI TECNICI-PROGETTISTI INTERNI ALL'AMMINISTRAZIONE” ","2022-02-09","2024-12-31",9000,180,144,36,null,null,"Inc. Pred. Doc. ",{"$f":"+J318*P318","v":19.440000000000001},0.13500000000000001]
[2022,1302,"25 del 09/02/2022","Z483523127","“SERVIZI ASSICURATIVI DELLA RESPONSABILITA' PROFESSIONALE DEI DIPENDENTI TECNICI-PROGETTISTI INTERNI ALL'AMMINISTRAZIONE” ","2022-02-09","2024-12-31",9000,180,144,36,null,null,"Coll. Inc. Pred.",{"$f":"+J319*P319","v":4.32},0.03]
[2022,1302,"25 del 09/02/2022","Z483523127","“SERVIZI ASSICURATIVI DELLA RESPONSABILITA' PROFESSIONALE DEI DIPENDENTI TECNICI-PROGETTISTI INTERNI ALL'AMMINISTRAZIONE” ","2022-02-09","2024-12-31",9000,180,144,36,null,null,"RUP Affidamento",{"$f":"+J320*P320","v":41.76},0.28999999999999998]
[2022,1302,"25 del 09/02/2022","Z483523127","“SERVIZI ASSICURATIVI DELLA RESPONSABILITA' PROFESSIONALE DEI DIPENDENTI TECNICI-PROGETTISTI INTERNI ALL'AMMINISTRAZIONE” ","2022-02-09","2024-12-31",9000,180,144,36,null,null,"Coll. RUP Affidamento",{"$f":"+J321*P321","v":9.36},6.5000000000000002E-2]
[2022,1302,"25 del 09/02/2022","Z483523127","“SERVIZI ASSICURATIVI DELLA RESPONSABILITA' PROFESSIONALE DEI DIPENDENTI TECNICI-PROGETTISTI INTERNI ALL'AMMINISTRAZIONE” ","2022-02-09","2024-12-31",9000,180,144,36,null,null,"RUP esecuzione",{"$f":"+(J322*P322)/3*2","v":17.279999999999998},0.18]
[2022,1302,"25 del 09/02/2022","Z483523127","“SERVIZI ASSICURATIVI DELLA RESPONSABILITA' PROFESSIONALE DEI DIPENDENTI TECNICI-PROGETTISTI INTERNI ALL'AMMINISTRAZIONE” ","2022-02-09","2024-12-31",9000,180,144,36,null,null,"Coll. RUP esecuzione",{"$f":"+(J323*P323)/3*2","v":1.92},0.02]
[2022,1302,"25 del 09/02/2022","Z483523127","“SERVIZI ASSICURATIVI DELLA RESPONSABILITA' PROFESSIONALE DEI DIPENDENTI TECNICI-PROGETTISTI INTERNI ALL'AMMINISTRAZIONE” ","2022-02-09","2024-12-31",9000,180,144,36,null,null,"Coll. RUP esecuzione",{"$f":"+(J324*P324)/3*2","v":1.92},0.02]
[2022,1302,"25 del 09/02/2022","Z483523127","“SERVIZI ASSICURATIVI DELLA RESPONSABILITA' PROFESSIONALE DEI DIPENDENTI TECNICI-PROGETTISTI INTERNI ALL'AMMINISTRAZIONE” ","2022-02-09","2024-12-31",9000,180,144,36,null,null,"DEC",{"$f":"+(J325*P325)/3*2","v":11.040000000000001},0.115]
[2022,1302,"25 del 09/02/2022","Z483523127","“SERVIZI ASSICURATIVI DELLA RESPONSABILITA' PROFESSIONALE DEI DIPENDENTI TECNICI-PROGETTISTI INTERNI ALL'AMMINISTRAZIONE” ","2022-02-09","2024-12-31",9000,180,144,36,null,null,"Coll. DEC",{"$f":"+(J326*P326)/3*2","v":2.1599999999999997},2.2499999999999999E-2]
[2022,1302,"25 del 09/02/2022","Z483523127","“SERVIZI ASSICURATIVI DELLA RESPONSABILITA' PROFESSIONALE DEI DIPENDENTI TECNICI-PROGETTISTI INTERNI ALL'AMMINISTRAZIONE” ","2022-02-09","2024-12-31",9000,180,144,36,null,null,"Coll. DEC",{"$f":"+(J327*P327)/3*2","v":2.1599999999999997},2.2499999999999999E-2]
[2022,1302,"25 del 09/02/2022","Z483523127","“SERVIZI ASSICURATIVI DELLA RESPONSABILITA' PROFESSIONALE DEI DIPENDENTI TECNICI-PROGETTISTI INTERNI ALL'AMMINISTRAZIONE” ","2022-02-09","2024-12-31",9000,180,144,36,null,null,"Inc. Ver. Conf",{"$f":"+(J328*P328)/3*2","v":3.3600000000000008},3.5000000000000003E-2]
[2022,1302,"25 del 09/02/2022","Z483523127","“SERVIZI ASSICURATIVI DELLA RESPONSABILITA' PROFESSIONALE DEI DIPENDENTI TECNICI-PROGETTISTI INTERNI ALL'AMMINISTRAZIONE” ","2022-02-09","2024-12-31",9000,180,144,36,null,null,"Coll. Inc Ver. Conf.",{"$f":"+(J329*P329)/3*2","v":1.4400000000000002},1.4999999999999999E-2]
[2022,1302,"132 del 5/8/2022","9359450E76","Procedura di affidamento per l’uso temporaneo di locali per l’espletamento delle prove scritte dei concorsi a 67 posti di Assistente, a 23 posti di Funzionario e a 53 posti di Referendario di TAR. ",null,null,210000,{"$f":"+H330*0.02","v":4200},{"$f":"+(I330)*0.8","v":3360},{"$f":"+(I330)*0.2","v":840},{"$f":"+M330","v":3359.9999999999995},{"$f":"+O330+O331+O332+O333+O334+O335+O336+O337+O338+O339+O340+O341+O342+O343+O344","v":3359.9999999999995},"Incaricato programm.",{"$f":"+J330*P330","v":100.8},0.03]
[2022,1302,"132 del 5/8/2022","9359450E76","Procedura di affidamento per l’uso temporaneo di locali per l’espletamento delle prove scritte dei concorsi a 67 posti di Assistente, a 23 posti di Funzionario e a 53 posti di Referendario di TAR. ",null,null,210000,{"$f":"+H331*0.02","v":4200},{"$f":"+(I331)*0.8","v":3360},{"$f":"+(I331)*0.2","v":840},null,null,"Coll. Inc. prog.",{"$f":"+J331*P331","v":33.6},0.01]
[2022,1302,"132 del 5/8/2022","9359450E76","Procedura di affidamento per l’uso temporaneo di locali per l’espletamento delle prove scritte dei concorsi a 67 posti di Assistente, a 23 posti di Funzionario e a 53 posti di Referendario di TAR. ",null,null,210000,{"$f":"+H332*0.02","v":4200},{"$f":"+(I332)*0.8","v":3360},{"$f":"+(I332)*0.2","v":840},null,null,"Coll. Inc. prog.",{"$f":"+J332*P332","v":33.6},0.01]
[2022,1302,"132 del 5/8/2022","9359450E76","Procedura di affidamento per l’uso temporaneo di locali per l’espletamento delle prove scritte dei concorsi a 67 posti di Assistente, a 23 posti di Funzionario e a 53 posti di Referendario di TAR. ",null,null,210000,4200,3360,840,null,null,"Inc. Pred. Doc. ",{"$f":"+J333*P333","v":453.6},0.13500000000000001]
[2022,1302,"132 del 5/8/2022","9359450E76","Procedura di affidamento per l’uso temporaneo di locali per l’espletamento delle prove scritte dei concorsi a 67 posti di Assistente, a 23 posti di Funzionario e a 53 posti di Referendario di TAR. ",null,null,210000,4200,3360,840,null,null,"Coll. Inc. Pred.",{"$f":"+J334*P334","v":100.8},0.03]
[2022,1302,"132 del 5/8/2022","9359450E76","Procedura di affidamento per l’uso temporaneo di locali per l’espletamento delle prove scritte dei concorsi a 67 posti di Assistente, a 23 posti di Funzionario e a 53 posti di Referendario di TAR. ",null,null,210000,4200,3360,840,null,null,"RUP Affidamento",{"$f":"+J335*P335","v":974.4},0.28999999999999998]
[2022,1302,"132 del 5/8/2022","9359450E76","Procedura di affidamento per l’uso temporaneo di locali per l’espletamento delle prove scritte dei concorsi a 67 posti di Assistente, a 23 posti di Funzionario e a 53 posti di Referendario di TAR. ",null,null,210000,4200,3360,840,null,null,"Coll. RUP Affidamento",{"$f":"+J336*P336","v":218.4},6.5000000000000002E-2]
[2022,1302,"132 del 5/8/2022","9359450E76","Procedura di affidamento per l’uso temporaneo di locali per l’espletamento delle prove scritte dei concorsi a 67 posti di Assistente, a 23 posti di Funzionario e a 53 posti di Referendario di TAR. ",null,null,210000,4200,3360,840,null,null,"RUP esecuzione",{"$f":"+J337*P337","v":604.79999999999995},0.18]
[2022,1302,"132 del 5/8/2022","9359450E76","Procedura di affidamento per l’uso temporaneo di locali per l’espletamento delle prove scritte dei concorsi a 67 posti di Assistente, a 23 posti di Funzionario e a 53 posti di Referendario di TAR. ",null,null,210000,4200,3360,840,null,null,"Coll. RUP esecuzione",{"$f":"+J338*P338","v":67.2},0.02]
[2022,1302,"132 del 5/8/2022","9359450E76","Procedura di affidamento per l’uso temporaneo di locali per l’espletamento delle prove scritte dei concorsi a 67 posti di Assistente, a 23 posti di Funzionario e a 53 posti di Referendario di TAR. ",null,null,210000,4200,3360,840,null,null,"Coll. RUP esecuzione",{"$f":"+J339*P339","v":67.2},0.02]
[2022,1302,"132 del 5/8/2022","9359450E76","Procedura di affidamento per l’uso temporaneo di locali per l’espletamento delle prove scritte dei concorsi a 67 posti di Assistente, a 23 posti di Funzionario e a 53 posti di Referendario di TAR. ",null,null,210000,4200,3360,840,null,null,"DEC",{"$f":"+J340*P340","v":386.40000000000003},0.115]
[2022,1302,"132 del 5/8/2022","9359450E76","Procedura di affidamento per l’uso temporaneo di locali per l’espletamento delle prove scritte dei concorsi a 67 posti di Assistente, a 23 posti di Funzionario e a 53 posti di Referendario di TAR. ",null,null,210000,4200,3360,840,null,null,"Coll. DEC",{"$f":"+J341*P341","v":75.599999999999994},2.2499999999999999E-2]
[2022,1302,"132 del 5/8/2022","9359450E76","Procedura di affidamento per l’uso temporaneo di locali per l’espletamento delle prove scritte dei concorsi a 67 posti di Assistente, a 23 posti di Funzionario e a 53 posti di Referendario di TAR. ",null,null,210000,4200,3360,840,null,null,"Coll. DEC",{"$f":"+J342*P342","v":75.599999999999994},2.2499999999999999E-2]
[2022,1302,"132 del 5/8/2022","9359450E76","Procedura di affidamento per l’uso temporaneo di locali per l’espletamento delle prove scritte dei concorsi a 67 posti di Assistente, a 23 posti di Funzionario e a 53 posti di Referendario di TAR. ",null,null,210000,4200,3360,840,null,null,"Inc. Ver. Conf",{"$f":"+J343*P343","v":117.60000000000001},3.5000000000000003E-2]
[2022,1302,"132 del 5/8/2022","9359450E76","Procedura di affidamento per l’uso temporaneo di locali per l’espletamento delle prove scritte dei concorsi a 67 posti di Assistente, a 23 posti di Funzionario e a 53 posti di Referendario di TAR. ",null,null,210000,4200,3360,840,null,null,"Coll. Inc Ver. Conf.",{"$f":"+J344*P344","v":50.4},1.4999999999999999E-2]
[2021,1303,"128 DEL 29/09/2021","8921223A1B","Convenzione Consip Energia elettrica 18 (SOLO ESECUZIONE)",null,null,214000,{"$f":"+H345*2/100","v":4280},{"$f":"+(I345)*0.8","v":3424},{"$f":"+(I345)*0.2","v":856},1694.88,{"$f":"+O345+O348+O349+O350+O351+O352+O346+O347","v":1694.88},"RUP esecuzione",{"$f":"J345*P345","v":582.08000000000004},0.17,null,null,1729.12,{"$f":"+J345-Q345-R345-M345-S345","v":0}]
[2021,1303,"128 DEL 29/09/2021","8921223A1B","Convenzione Consip Energia elettrica 18 (SOLO ESECUZIONE)",null,null,214000,{"$f":"+H346*2/100","v":4280},{"$f":"+(I346)*0.8","v":3424},{"$f":"+(I346)*0.2","v":856},null,null,"Coll. Rup esecuzione",{"$f":"J346*P346","v":136.96},0.04]
[2021,1303,"128 DEL 29/09/2021","8921223A1B","Convenzione Consip Energia elettrica 18 (SOLO ESECUZIONE)",null,null,214000,4280,3424,856,null,null,"Coll. Rup esecuzione",{"$f":"J347*P347","v":136.96},0.04]
[2021,1303,"128 DEL 29/09/2021","8921223A1B","Convenzione Consip Energia elettrica 18 (SOLO ESECUZIONE)",null,null,214000,4280,3424,856,null,null,"DEC",{"$f":"J348*P348","v":376.64},0.11]
[2021,1303,"128 DEL 29/09/2021","8921223A1B","Convenzione Consip Energia elettrica 18 (SOLO ESECUZIONE)",null,null,214000,4280,3424,856,null,null,"Coll. DEC",{"$f":"J349*P349","v":111.28},3.2500000000000001E-2]
[2021,1303,"128 DEL 29/09/2021","8921223A1B","Convenzione Consip Energia elettrica 18 (SOLO ESECUZIONE)",null,null,214000,4280,3424,856,null,null,"Coll. DEC",{"$f":"J350*P350","v":111.28},3.2500000000000001E-2]
[2021,1303,"128 DEL 29/09/2021","8921223A1B","Convenzione Consip Energia elettrica 18 (SOLO ESECUZIONE)",null,null,214000,4280,3424,856,null,null,"Collaudatore",{"$f":"J351*P351","v":136.96},0.04]
[2021,1303,"128 DEL 29/09/2021","8921223A1B","Convenzione Consip Energia elettrica 18 (SOLO ESECUZIONE)",null,null,214000,4280,3424,856,null,null,"Coll. collaudatore",{"$f":"J352*P352","v":102.72},0.03]
[2022,1303,"138 DEL 08/09/2022","9393670DB3","Adesione alla convenzione “Energia elettrica ed.19” Lotto 10 ",null,null,214000,{"$f":"+H353*0.02","v":4280},3424,856,{"$f":"+J353-R353","v":3424},{"$f":"+O353+O354+O355+O356+O357+O358","v":1729.12},"Incaricato programm.",{"$f":"+J353*P353","v":171.20000000000002},0.05,null,null,null,{"$f":"+J353-Q353-R353-M353-S353","v":1694.88}]
[2022,1303,"138 DEL 08/09/2022","9393670DB3","Adesione alla convenzione “Energia elettrica ed.19” Lotto 10 ",null,null,214000,{"$f":"+H354*0.02","v":4280},{"$f":"+(I354)*0.8","v":3424},{"$f":"+(I354)*0.2","v":856},null,null,"Coll. Inc. prog.",{"$f":"+J354*P354","v":102.72},0.03]
[2022,1303,"138 DEL 08/09/2022","9393670DB3","Adesione alla convenzione “Energia elettrica ed.19” Lotto 10 ",null,null,214000,4280,3424,856,null,null,"Inc. Pred. Doc. ",{"$f":"+J355*P355","v":410.88},0.12]
[2022,1303,"138 DEL 08/09/2022","9393670DB3","Adesione alla convenzione “Energia elettrica ed.19” Lotto 10 ",null,null,214000,4280,3424,856,null,null,"Coll. Inc. Pred.",{"$f":"+J356*P356","v":256.8},7.4999999999999997E-2]
[2022,1303,"138 DEL 08/09/2022","9393670DB3","Adesione alla convenzione “Energia elettrica ed.19” Lotto 10 ",null,null,214000,4280,3424,856,null,null,"RUP Affidamento",{"$f":"+J357*P357","v":513.6},0.15]
[2022,1303,"138 DEL 08/09/2022","9393670DB3","Adesione alla convenzione “Energia elettrica ed.19” Lotto 10 ",null,null,214000,4280,{"$f":"+(I358)*0.8","v":3424},{"$f":"+(I358)*0.2","v":856},null,null,"Coll. RUP Affidamento",{"$f":"+J358*P358","v":273.92},0.08]
[2022,6251,"179 DEL 08/10/2022","Z2E387A46E","acquisto di riviste giuridiche, anno 2023",null,null,13000,{"$f":"+H359*0.02","v":260},{"$f":"+(I359)*0.8","v":208},{"$f":"+(I359)*0.2","v":52},{"$f":"+J359-R359","v":208},{"$f":"+O359+O360+O361+O362+O363+O364","v":118.55999999999999},"Incaricato programm.",{"$f":"+J359*P359","v":6.24},0.03,null,null,null,{"$f":"+J359-Q359-R359-M359-S359","v":89.440000000000012},null,null,null,null,null,null,null,null,"+"]
[2022,6251,"179 DEL 08/10/2022","Z2E387A46E","acquisto di riviste giuridiche, anno 2023",null,null,13000,{"$f":"+H360*0.02","v":260},{"$f":"+(I360)*0.8","v":208},{"$f":"+(I360)*0.2","v":52},null,null,"Coll. Inc. prog.",{"$f":"+J360*P360","v":4.16},0.02,null,null,null,null,null,null,null,null,null,null,null,null,{"$f":"+#REF!+#REF!++#REF!+#REF!+O344+#REF!+#REF!+#REF!+#REF!","v":{"$error":"#REF!"}}]
[2022,6251,"179 DEL 08/10/2022","Z2E387A46E","acquisto di riviste giuridiche, anno 2023",null,null,13000,260,208,52,null,null,"Inc. Pred. Doc. ",{"$f":"+J361*P361","v":28.080000000000002},0.13500000000000001]
[2022,6251,"179 DEL 08/10/2022","Z2E387A46E","acquisto di riviste giuridiche, anno 2023",null,null,13000,260,208,52,null,null,"Coll. Inc. Pred.",{"$f":"+J362*P362","v":6.24},0.03]
[2022,6251,"179 DEL 08/10/2022","Z2E387A46E","acquisto di riviste giuridiche, anno 2023",null,null,13000,260,208,52,null,null,"RUP Affidamento",{"$f":"+J363*P363","v":60.319999999999993},0.28999999999999998]
[2022,6251,"179 DEL 08/10/2022","Z2E387A46E","acquisto di riviste giuridiche, anno 2023",null,null,13000,260,208,52,null,null,"Coll. RUP Affidamento",{"$f":"+J364*P364","v":13.52},6.5000000000000002E-2]
[2022,6251,"190 del 23/12/2022","Z5E38B5BAD","Fornitura di libri per le esigenze della Biblioteca del C.D.S.",null,null,10201.75,{"$f":"+H365*0.02","v":204.035},163.22800000000001,40.807000000000002,{"$f":"+J365-R365","v":163.22800000000001},93.05,"Incaricato programm.",{"$f":"+J365*P365","v":4.8968400000000001},0.03,null,null,null,{"$f":"+J365-Q365-R365-M365-S365","v":70.178000000000011}]
[2022,6251,"190 del 23/12/2022","Z5E38B5BAD","Fornitura di libri per le esigenze della Biblioteca del C.D.S.",null,null,10201.75,{"$f":"+H366*0.02","v":204.035},{"$f":"+(I366)*0.8","v":163.22800000000001},{"$f":"+(I366)*0.2","v":40.807000000000002},null,null,"Coll. Inc. prog.",{"$f":"+J366*P366","v":3.2645600000000004},0.02]
[2022,6251,"190 del 23/12/2022","Z5E38B5BAD","Fornitura di libri per le esigenze della Biblioteca del C.D.S.",null,null,10201.75,204.035,163.22800000000001,40.807000000000002,null,null,"Inc. Pred. Doc. ",{"$f":"+J367*P367","v":22.035780000000003},0.13500000000000001]
[2022,6251,"190 del 23/12/2022","Z5E38B5BAD","Fornitura di libri per le esigenze della Biblioteca del C.D.S.",null,null,10201.75,204.035,163.22800000000001,40.807000000000002,null,null,"Coll. Inc. Pred.",{"$f":"+J368*P368","v":4.8968400000000001},0.03]
[2022,6251,"190 del 23/12/2022","Z5E38B5BAD","Fornitura di libri per le esigenze della Biblioteca del C.D.S.",null,null,10201.75,204.035,163.22800000000001,40.807000000000002,null,null,"RUP Affidamento",{"$f":"+J369*P369","v":47.336120000000001},0.28999999999999998]
[2022,6251,"190 del 23/12/2022","Z5E38B5BAD","Fornitura di libri per le esigenze della Biblioteca del C.D.S.",null,null,10201.75,204.035,163.22800000000001,40.807000000000002,null,null,"Coll. RUP Affidamento",{"$f":"+J370*P370","v":10.609820000000001},6.5000000000000002E-2]
[2021,6251,"185 DEL 17/12/2021","Z37346F9AE","affidamento fornitura di libri per la Biblioteca del Consiglio di Stato  (solo esecuzione)",null,null,7026.11,{"$f":"+H371*0.02","v":140.5222},{"$f":"+(I371)*0.8","v":112.41776},{"$f":"+(I371)*0.2","v":28.10444},48.34,48.32,"RUP esecuzione",20.21,0.18,null,null,64.08,{"$f":"+J371-Q371-R371-M371-S371","v":1.7759999999995557E-2}]
[2021,6251,"185 DEL 17/12/2021","Z37346F9AE","affidamento fornitura di libri per la Biblioteca del Consiglio di Stato  (solo esecuzione)",null,null,7026.11,{"$f":"+H372*0.02","v":140.5222},{"$f":"+(I372)*0.8","v":112.41776},{"$f":"+(I372)*0.2","v":28.10444},null,null,"Coll. RUP esecuzione",{"$f":"+J372*P372","v":2.2483552000000002},0.02]
[2021,6251,"185 DEL 17/12/2021","Z37346F9AE","affidamento fornitura di libri per la Biblioteca del Consiglio di Stato  (solo esecuzione)",null,null,7026.11,140.5222,112.41776,28.10444,null,null,"Coll. RUP esecuzione",{"$f":"+J373*P373","v":2.2483552000000002},0.02]
[2021,6251,"185 DEL 17/12/2021","Z37346F9AE","affidamento fornitura di libri per la Biblioteca del Consiglio di Stato  (solo esecuzione)",null,null,7026.11,140.5222,112.41776,28.10444,null,null,"DEC ",{"$f":"+J374*P374","v":12.928042400000001},0.115]
[2021,6251,"185 DEL 17/12/2021","Z37346F9AE","affidamento fornitura di libri per la Biblioteca del Consiglio di Stato  (solo esecuzione)",null,null,7026.11,140.5222,112.41776,28.10444,null,null,"Coll. DEC",{"$f":"+J375*P375","v":2.5293996000000001},2.2499999999999999E-2]
[2021,6251,"185 DEL 17/12/2021","Z37346F9AE","affidamento fornitura di libri per la Biblioteca del Consiglio di Stato  (solo esecuzione)",null,null,7026.11,140.5222,112.41776,28.10444,null,null,"Coll. DEC",{"$f":"+J376*P376","v":2.5293996000000001},2.2499999999999999E-2]
[2021,6251,"185 DEL 17/12/2021","Z37346F9AE","affidamento fornitura di libri per la Biblioteca del Consiglio di Stato  (solo esecuzione)",null,null,7026.11,140.5222,112.41776,28.10444,null,null,"Inc. Ver. Conf",{"$f":"+J377*P377","v":3.9346216000000003},3.5000000000000003E-2]
[2021,6251,"185 DEL 17/12/2021","Z37346F9AE","affidamento fornitura di libri per la Biblioteca del Consiglio di Stato  (solo esecuzione)",null,null,7026.11,140.5222,112.41776,28.10444,null,null,"Coll. Inc Ver. Conf.",{"$f":"+J378*P378","v":1.6862664000000001},1.4999999999999999E-2]
[2022,4251,"4 DEL 13/01/2022","ZC434C8A11","fornitura di n. 170 sedie in plexiglass,",null,null,39000,{"$f":"+H379*0.02","v":780},{"$f":"+(I379)*0.8","v":624},{"$f":"+(I379)*0.2","v":156},{"$f":"+J379-R379","v":624},{"$f":"+O379+O380+O381+O382+O383+O384+O385+O386+O387+O388+O389+O390+O391+O392","v":624},"Incaricato programm.",{"$f":"+J379*P379","v":18.72},0.03]
[2022,4251,"4 DEL 13/01/2022","ZC434C8A11","fornitura di n. 170 sedie in plexiglass,",null,null,39000,{"$f":"+H380*0.02","v":780},{"$f":"+(I380)*0.8","v":624},{"$f":"+(I380)*0.2","v":156},null,null,"Coll. Inc. prog.",{"$f":"+J380*P380","v":12.48},0.02]
[2022,4251,"4 DEL 13/01/2022","ZC434C8A11","fornitura di n. 170 sedie in plexiglass,",null,null,39000,780,624,156,null,null,"Inc. Pred. Doc. ",{"$f":"+J381*P381","v":84.240000000000009},0.13500000000000001]
[2022,4251,"4 DEL 13/01/2022","ZC434C8A11","fornitura di n. 170 sedie in plexiglass,",null,null,39000,780,624,156,null,null,"Coll. Inc. Pred.",{"$f":"+J382*P382","v":18.72},0.03]
[2022,4251,"4 DEL 13/01/2022","ZC434C8A11","fornitura di n. 170 sedie in plexiglass,",null,null,39000,780,624,156,null,null,"RUP Affidamento",{"$f":"+J383*P383","v":180.95999999999998},0.28999999999999998]
[2022,4251,"4 DEL 13/01/2022","ZC434C8A11","fornitura di n. 170 sedie in plexiglass,",null,null,39000,780,624,156,null,null,"Coll. RUP Affidamento",{"$f":"+J384*P384","v":40.56},6.5000000000000002E-2]
[2022,4251,"4 DEL 13/01/2022","ZC434C8A11","fornitura di n. 170 sedie in plexiglass,",null,null,39000,780,624,156,null,null,"RUP esecuzione",{"$f":"+J385*P385","v":112.32},0.18]
[2022,4251,"4 DEL 13/01/2022","ZC434C8A11","fornitura di n. 170 sedie in plexiglass,",null,null,39000,780,624,156,null,null,"Coll. RUP esecuzione",{"$f":"+J386*P386","v":12.48},0.02]
[2022,4251,"4 DEL 13/01/2022","ZC434C8A11","fornitura di n. 170 sedie in plexiglass,",null,null,39000,780,624,156,null,null,"Coll. RUP esecuzione",{"$f":"+J387*P387","v":12.48},0.02]
[2022,4251,"4 DEL 13/01/2022","ZC434C8A11","fornitura di n. 170 sedie in plexiglass,",null,null,39000,780,624,156,null,null,"DEC ",{"$f":"+J388*P388","v":71.760000000000005},0.115]
[2022,4251,"4 DEL 13/01/2022","ZC434C8A11","fornitura di n. 170 sedie in plexiglass,",null,null,39000,780,624,156,null,null,"Coll. DEC",{"$f":"+J389*P389","v":14.04},2.2499999999999999E-2]
[2022,4251,"4 DEL 13/01/2022","ZC434C8A11","fornitura di n. 170 sedie in plexiglass,",null,null,39000,780,624,156,null,null,"Coll. DEC",{"$f":"+J390*P390","v":14.04},2.2499999999999999E-2]
[2022,4251,"4 DEL 13/01/2022","ZC434C8A11","fornitura di n. 170 sedie in plexiglass,",null,null,39000,780,624,156,null,null,"Inc. Ver. Conf",{"$f":"+J391*P391","v":21.840000000000003},3.5000000000000003E-2]
[2022,4251,"4 DEL 13/01/2022","ZC434C8A11","fornitura di n. 170 sedie in plexiglass,",null,null,39000,780,624,156,null,null,"Coll. Inc Ver. Conf.",{"$f":"+J392*P392","v":9.36},1.4999999999999999E-2]
[2022,1308,"1 DEL 04/01/2022","ZD534B4536 ","affidamento della fornitura di n. 30.000 mascherine FFP2 di  colore blu da utilizzare come dispositivi di protezione per l’emergenza sanitaria legata al COVID 19",null,null,15000,{"$f":"+H393*0.02","v":300},{"$f":"+(I393)*0.8","v":240},{"$f":"+(I393)*0.2","v":60},{"$f":"+M393","v":240.00000000000003},{"$f":"+O393+O394+O395+O396+O397+O398+O399+O400+O401+O402+O403+O404+O405+O406","v":240.00000000000003},"Incaricato programm.",{"$f":"+J393*P393","v":7.1999999999999993},0.03]
[2022,1308,"1 DEL 04/01/2022","ZD534B4536 ","affidamento della fornitura di n. 30.000 mascherine FFP2 di  colore blu da utilizzare come dispositivi di protezione per l’emergenza sanitaria legata al COVID 19",null,null,15000,{"$f":"+H394*0.02","v":300},{"$f":"+(I394)*0.8","v":240},{"$f":"+(I394)*0.2","v":60},null,null,"Coll. Inc. prog.",{"$f":"+J394*P394","v":4.8},0.02]
[2022,1308,"1 DEL 04/01/2022","ZD534B4536 ","affidamento della fornitura di n. 30.000 mascherine FFP2 di  colore blu da utilizzare come dispositivi di protezione per l’emergenza sanitaria legata al COVID 19",null,null,15000,300,240,60,null,null,"Inc. Pred. Doc. ",{"$f":"+J395*P395","v":32.400000000000006},0.13500000000000001]
[2022,1308,"1 DEL 04/01/2022","ZD534B4536 ","affidamento della fornitura di n. 30.000 mascherine FFP2 di  colore blu da utilizzare come dispositivi di protezione per l’emergenza sanitaria legata al COVID 19",null,null,15000,300,240,60,null,null,"Coll. Inc. Pred.",{"$f":"+J396*P396","v":7.1999999999999993},0.03]
[2022,1308,"1 DEL 04/01/2022","ZD534B4536 ","affidamento della fornitura di n. 30.000 mascherine FFP2 di  colore blu da utilizzare come dispositivi di protezione per l’emergenza sanitaria legata al COVID 19",null,null,15000,300,240,60,null,null,"RUP Affidamento",{"$f":"+J397*P397","v":69.599999999999994},0.28999999999999998]
[2022,1308,"1 DEL 04/01/2022","ZD534B4536 ","affidamento della fornitura di n. 30.000 mascherine FFP2 di  colore blu da utilizzare come dispositivi di protezione per l’emergenza sanitaria legata al COVID 19",null,null,15000,300,240,60,null,null,"Coll. RUP Affidamento",{"$f":"+J398*P398","v":15.600000000000001},6.5000000000000002E-2]
[2022,1308,"1 DEL 04/01/2022","ZD534B4536 ","affidamento della fornitura di n. 30.000 mascherine FFP2 di  colore blu da utilizzare come dispositivi di protezione per l’emergenza sanitaria legata al COVID 19",null,null,15000,300,240,60,null,null,"RUP esecuzione",{"$f":"+J399*P399","v":43.199999999999996},0.18]
[2022,1308,"1 DEL 04/01/2022","ZD534B4536 ","affidamento della fornitura di n. 30.000 mascherine FFP2 di  colore blu da utilizzare come dispositivi di protezione per l’emergenza sanitaria legata al COVID 19",null,null,15000,300,240,60,null,null,"Coll. RUP esecuzione",{"$f":"+J400*P400","v":4.8},0.02]
[2022,1308,"1 DEL 04/01/2022","ZD534B4536 ","affidamento della fornitura di n. 30.000 mascherine FFP2 di  colore blu da utilizzare come dispositivi di protezione per l’emergenza sanitaria legata al COVID 19",null,null,15000,300,240,60,null,null,"Coll. RUP esecuzione",{"$f":"+J401*P401","v":4.8},0.02]
[2022,1308,"1 DEL 04/01/2022","ZD534B4536 ","affidamento della fornitura di n. 30.000 mascherine FFP2 di  colore blu da utilizzare come dispositivi di protezione per l’emergenza sanitaria legata al COVID 19",null,null,15000,300,240,60,null,null,"DEC",{"$f":"+J402*P402","v":27.6},0.115]
[2022,1308,"1 DEL 04/01/2022","ZD534B4536 ","affidamento della fornitura di n. 30.000 mascherine FFP2 di  colore blu da utilizzare come dispositivi di protezione per l’emergenza sanitaria legata al COVID 19",null,null,15000,300,240,60,null,null,"Coll. DEC",{"$f":"+J403*P403","v":5.3999999999999995},2.2499999999999999E-2]
[2022,1308,"1 DEL 04/01/2022","ZD534B4536 ","affidamento della fornitura di n. 30.000 mascherine FFP2 di  colore blu da utilizzare come dispositivi di protezione per l’emergenza sanitaria legata al COVID 19",null,null,15000,300,240,60,null,null,"Coll. DEC",{"$f":"+J404*P404","v":5.3999999999999995},2.2499999999999999E-2]
[2022,1308,"1 DEL 04/01/2022","ZD534B4536 ","affidamento della fornitura di n. 30.000 mascherine FFP2 di  colore blu da utilizzare come dispositivi di protezione per l’emergenza sanitaria legata al COVID 19",null,null,15000,300,240,60,null,null,"Inc. Ver. Conf",{"$f":"+J405*P405","v":8.4},3.5000000000000003E-2]
[2022,1308,"1 DEL 04/01/2022","ZD534B4536 ","affidamento della fornitura di n. 30.000 mascherine FFP2 di  colore blu da utilizzare come dispositivi di protezione per l’emergenza sanitaria legata al COVID 19",null,null,15000,300,240,60,null,null,"Coll. Inc Ver. Conf.",{"$f":"+J406*P406","v":3.5999999999999996},1.4999999999999999E-2]
[2021,1292,"95 DEL 15/07/2021",{"$f":"+[1]Foglio1!$F$46","v":"8833454CD5"},{"$f":"+[1]Foglio1!$E$46","v":"PROCEDURA DI GARA AVENTE AD OGGETTO L’AFFIDAMENTO DI SERVIZI ASSICURATIVI (ALL RISKS PATRIMONIO IMMOBILIARE e RESPONSABILITÀ CIVILE VERSO TERZI E DIPENDENTI)"},null,null,210000,{"$f":"+H407*0.02","v":4200},{"$f":"+(I407)*0.8","v":3360},{"$f":"+(I407)*0.2","v":840},840,{"$f":"+O407+O408+O409+O410+O411+O412+O413","v":420},"RUP esecuzione",{"$f":"+(J407*P407)/3","v":196},0.17499999999999999,null,null,2520,{"$f":"+J407-S407-M407","v":420}]
[2021,1292,"95 DEL 15/07/2021",{"$f":"+[1]Foglio1!$F$46","v":"8833454CD5"},{"$f":"+[1]Foglio1!$E$46","v":"PROCEDURA DI GARA AVENTE AD OGGETTO L’AFFIDAMENTO DI SERVIZI ASSICURATIVI (ALL RISKS PATRIMONIO IMMOBILIARE e RESPONSABILITÀ CIVILE VERSO TERZI E DIPENDENTI)"},null,null,210000,{"$f":"+H408*0.02","v":4200},{"$f":"+(I408)*0.8","v":3360},{"$f":"+(I408)*0.2","v":840},null,null,"Coll. RUP esecuzione",{"$f":"+(J408*P408)/3","v":33.6},0.03]
[2021,1292,"95 DEL 15/07/2021",{"$f":"+[1]Foglio1!$F$46","v":"8833454CD5"},{"$f":"+[1]Foglio1!$E$46","v":"PROCEDURA DI GARA AVENTE AD OGGETTO L’AFFIDAMENTO DI SERVIZI ASSICURATIVI (ALL RISKS PATRIMONIO IMMOBILIARE e RESPONSABILITÀ CIVILE VERSO TERZI E DIPENDENTI)"},null,null,210000,{"$f":"+H409*0.02","v":4200},{"$f":"+(I409)*0.8","v":3360},{"$f":"+(I409)*0.2","v":840},null,null,"DEC",{"$f":"+(J409*P409)/3","v":112},0.1]
[2021,1292,"95 DEL 15/07/2021",{"$f":"+[1]Foglio1!$F$46","v":"8833454CD5"},{"$f":"+[1]Foglio1!$E$46","v":"PROCEDURA DI GARA AVENTE AD OGGETTO L’AFFIDAMENTO DI SERVIZI ASSICURATIVI (ALL RISKS PATRIMONIO IMMOBILIARE e RESPONSABILITÀ CIVILE VERSO TERZI E DIPENDENTI)"},null,null,210000,4200,3360,840,null,null,"Coll. DEC",{"$f":"+(J410*P410)/3","v":11.200000000000001},0.01]
[2021,1292,"95 DEL 15/07/2021",{"$f":"+[1]Foglio1!$F$46","v":"8833454CD5"},{"$f":"+[1]Foglio1!$E$46","v":"PROCEDURA DI GARA AVENTE AD OGGETTO L’AFFIDAMENTO DI SERVIZI ASSICURATIVI (ALL RISKS PATRIMONIO IMMOBILIARE e RESPONSABILITÀ CIVILE VERSO TERZI E DIPENDENTI)"},null,null,210000,4200,3360,840,null,null,"Coll. DEC",{"$f":"+(J411*P411)/3","v":11.200000000000001},0.01]
[2021,1292,"95 DEL 15/07/2021",{"$f":"+[1]Foglio1!$F$46","v":"8833454CD5"},{"$f":"+[1]Foglio1!$E$46","v":"PROCEDURA DI GARA AVENTE AD OGGETTO L’AFFIDAMENTO DI SERVIZI ASSICURATIVI (ALL RISKS PATRIMONIO IMMOBILIARE e RESPONSABILITÀ CIVILE VERSO TERZI E DIPENDENTI)"},null,null,210000,4200,3360,840,null,null,"Inc. Ver. Conf",{"$f":"+(J412*P412)/3","v":39.200000000000003},3.5000000000000003E-2]
[2021,1292,"95 DEL 15/07/2021",{"$f":"+[1]Foglio1!$F$46","v":"8833454CD5"},{"$f":"+[1]Foglio1!$E$46","v":"PROCEDURA DI GARA AVENTE AD OGGETTO L’AFFIDAMENTO DI SERVIZI ASSICURATIVI (ALL RISKS PATRIMONIO IMMOBILIARE e RESPONSABILITÀ CIVILE VERSO TERZI E DIPENDENTI)"},null,null,210000,4200,3360,840,null,null,"Coll. Inc Ver. Conf.",{"$f":"+(J413*P413)/3","v":16.8},1.4999999999999999E-2]
[2022,1308,"107 DEL 05/07/2022","Z49370CA63","affidamento della fornitura di n. 20000 mascherine FFP2.",null,null,10000,{"$f":"+H414*0.02","v":200},{"$f":"+(I414)*0.8","v":160},{"$f":"+(I414)*0.2","v":40},{"$f":"+M414","v":160},{"$f":"+O414+O415+O416+O417+O418+O419+O420+O421+O422+O423+O424+O425+O426+O427","v":160},"Incaricato programm.",{"$f":"+J414*P414","v":4.8},0.03]
[2022,1308,"107 DEL 05/07/2022","Z49370CA63","affidamento della fornitura di n. 20000 mascherine FFP2.",null,null,10000,{"$f":"+H415*0.02","v":200},{"$f":"+(I415)*0.8","v":160},{"$f":"+(I415)*0.2","v":40},null,null,"Coll. Inc. prog.",{"$f":"+J415*P415","v":3.2},0.02]
[2022,1308,"107 DEL 05/07/2022","Z49370CA63","affidamento della fornitura di n. 20000 mascherine FFP2.",null,null,10000,200,160,40,null,null,"Inc. Pred. Doc. ",{"$f":"+J416*P416","v":21.6},0.13500000000000001]
[2022,1308,"107 DEL 05/07/2022","Z49370CA63","affidamento della fornitura di n. 20000 mascherine FFP2.",null,null,10000,200,160,40,null,null,"Coll. Inc. Pred. Doc. ",{"$f":"+J417*P417","v":4.8},0.03]
[2022,1308,"107 DEL 05/07/2022","Z49370CA63","affidamento della fornitura di n. 20000 mascherine FFP2.",null,null,10000,200,160,40,null,null,"RUP Affidamento",{"$f":"+J418*P418","v":46.4},0.28999999999999998]
[2022,1308,"107 DEL 05/07/2022","Z49370CA63","affidamento della fornitura di n. 20000 mascherine FFP2.",null,null,10000,200,160,40,null,null,"Coll. RUP Affidamento",{"$f":"+J419*P419","v":10.4},6.5000000000000002E-2]
[2022,1308,"107 DEL 05/07/2022","Z49370CA63","affidamento della fornitura di n. 20000 mascherine FFP2.",null,null,10000,200,160,40,null,null,"RUP Esecuzione",{"$f":"+J420*P420","v":28.799999999999997},0.18]
[2022,1308,"107 DEL 05/07/2022","Z49370CA63","affidamento della fornitura di n. 20000 mascherine FFP2.",null,null,10000,200,160,40,null,null,"Coll. RUP esecuzione",{"$f":"+J414*P421","v":3.2},0.02]
[2022,1308,"107 DEL 05/07/2022","Z49370CA63","affidamento della fornitura di n. 20000 mascherine FFP2.",null,null,10000,200,160,40,null,null,"Coll. RUP esecuzione",{"$f":"+J414*P422","v":3.2},0.02]
[2022,1308,"107 DEL 05/07/2022","Z49370CA63","affidamento della fornitura di n. 20000 mascherine FFP2.",null,null,10000,200,160,40,null,null,"DEC",{"$f":"+J414*P423","v":18.400000000000002},0.115]
[2022,1308,"107 DEL 05/07/2022","Z49370CA63","affidamento della fornitura di n. 20000 mascherine FFP2.",null,null,10000,200,160,40,null,null,"Coll. DEC",{"$f":"+J414*P424","v":3.5999999999999996},2.2499999999999999E-2]
[2022,1308,"107 DEL 05/07/2022","Z49370CA63","affidamento della fornitura di n. 20000 mascherine FFP2.",null,null,10000,200,160,40,null,null,"Coll. DEC",{"$f":"+J415*P425","v":3.5999999999999996},2.2499999999999999E-2]
[2022,1308,"107 DEL 05/07/2022","Z49370CA63","affidamento della fornitura di n. 20000 mascherine FFP2.",null,null,10000,200,160,40,null,null,"Inc. Ver. Conf",{"$f":"+J416*P426","v":5.6000000000000005},3.5000000000000003E-2]
[2022,1308,"107 DEL 05/07/2022","Z49370CA63","affidamento della fornitura di n. 20000 mascherine FFP2.",null,null,10000,200,160,40,null,null,"Coll. Inc. Ver. Conf",{"$f":"+J417*P427","v":2.4},1.4999999999999999E-2]
[2020,1308,"183 DEL 20/10/2020",8481077624,"servizio di sanificazione straordinaria per prevenire la trasmissione di SARS-COV 2, da eseguirsi presso le tre sedi del Consiglio di Stato (SOLO ESECUZIONE)","2020-11-05","termine situazione emergenziale",74900,{"$f":"+H428*0.02","v":1498},{"$f":"+(I428)*0.8","v":1198.4000000000001},{"$f":"+(I428)*0.2","v":299.60000000000002},477.87,{"$f":"+O428+O429+O430+O431+O434+O435+O432+O433","v":477.87},"RUP esecuzione",198,0.17499999999999999,null,683.08,37.450000000000003,{"$f":"+J428-Q428-R428-M428-S428","v":0}]
[2020,1308,"183 DEL 20/10/2020",8481077624,"servizio di sanificazione straordinaria per prevenire la trasmissione di SARS-COV 2, da eseguirsi presso le tre sedi del Consiglio di Stato (SOLO ESECUZIONE)","2020-11-05","termine situazione emergenziale",74900,1498,1198.4000000000001,299.60000000000002,null,null,"Coll. RUP esecuzione",23,1.4999999999999999E-2]
[2020,1308,"183 DEL 20/10/2020",8481077624,"servizio di sanificazione straordinaria per prevenire la trasmissione di SARS-COV 2, da eseguirsi presso le tre sedi del Consiglio di Stato (SOLO ESECUZIONE)","2020-11-05","termine situazione emergenziale",74900,1498,1198.4000000000001,299.60000000000002,null,null,"Coll. RUP esecuzione",23,1.4999999999999999E-2]
[2020,1308,"183 DEL 20/10/2020",8481077624,"servizio di sanificazione straordinaria per prevenire la trasmissione di SARS-COV 2, da eseguirsi presso le tre sedi del Consiglio di Stato (SOLO ESECUZIONE)","2020-11-05","termine situazione emergenziale",74900,1498,1198.4000000000001,299.60000000000002,null,null,"DEC",127.87,0.1]
[2020,1308,"183 DEL 20/10/2020",8481077624,"servizio di sanificazione straordinaria per prevenire la trasmissione di SARS-COV 2, da eseguirsi presso le tre sedi del Consiglio di Stato (SOLO ESECUZIONE)","2020-11-05","termine situazione emergenziale",74900,{"$f":"+H432*0.02","v":1498},{"$f":"+(I432)*0.8","v":1198.4000000000001},{"$f":"+(I432)*0.2","v":299.60000000000002},null,null,"Coll. DEC",25,0.01]
[2020,1308,"183 DEL 20/10/2020",8481077624,"servizio di sanificazione straordinaria per prevenire la trasmissione di SARS-COV 2, da eseguirsi presso le tre sedi del Consiglio di Stato (SOLO ESECUZIONE)","2020-11-05","termine situazione emergenziale",74900,{"$f":"+H433*0.02","v":1498},{"$f":"+(I433)*0.8","v":1198.4000000000001},{"$f":"+(I433)*0.2","v":299.60000000000002},null,null,"Coll. DEC",25,0.01]
[2020,1308,"183 DEL 20/10/2020",8481077624,"servizio di sanificazione straordinaria per prevenire la trasmissione di SARS-COV 2, da eseguirsi presso le tre sedi del Consiglio di Stato (SOLO ESECUZIONE)","2020-11-05","termine situazione emergenziale",74900,1498,1198.4000000000001,299.60000000000002,null,null,"Incaricato ver. conf.",39,3.5000000000000003E-2]
[2020,1308,"183 DEL 20/10/2020",8481077624,"servizio di sanificazione straordinaria per prevenire la trasmissione di SARS-COV 2, da eseguirsi presso le tre sedi del Consiglio di Stato (SOLO ESECUZIONE)","2020-11-05","termine situazione emergenziale",74900,1498,1198.4000000000001,299.60000000000002,null,null,"Coll. Inc. Ver. Conf",17,1.4999999999999999E-2]
[2021,1306,"160 DEL 10/11/2021","Z6833D8171","Buoni TAXI per membri CdS (SOLO ESECUZIONE) ",null,null,39999,{"$f":"+H436*0.02","v":799.98},{"$f":"+(I436)*0.8","v":639.98400000000004},{"$f":"+(I436)*0.2","v":159.99600000000001},275.19,{"$f":"+O436+O439+O440+O441+O442+O443+O437+O438","v":85.92},"RUP esecuzione",30.03,0.18,null,null,364.79,{"$f":"+J436-M436-S436","v":189.27400000000006}]
[2021,1306,"160 DEL 10/11/2021","Z6833D8171","Buoni TAXI per membri CdS (SOLO ESECUZIONE) ",null,null,39999,{"$f":"+H437*0.02","v":799.98},{"$f":"+(I437)*0.8","v":639.98400000000004},{"$f":"+(I437)*0.2","v":159.99600000000001},null,null,"Coll. RUP esecuzione",6.67,0.02]
[2021,1306,"160 DEL 10/11/2021","Z6833D8171","Buoni TAXI per membri CdS (SOLO ESECUZIONE) ",null,null,39999,799.98,639.98400000000004,159.99600000000001,null,null,"Coll. RUP esecuzione",6.67,0.02]
[2021,1306,"160 DEL 10/11/2021","Z6833D8171","Buoni TAXI per membri CdS (SOLO ESECUZIONE) ",null,null,39999,799.98,639.98400000000004,159.99600000000001,null,null,"DEC ESTERNO",19.190000000000001,0.115]
[2021,1306,"160 DEL 10/11/2021","Z6833D8171","Buoni TAXI per membri CdS (SOLO ESECUZIONE) ",null,null,39999,799.98,639.98400000000004,159.99600000000001,null,null,"Coll. DEC",7.51,2.2499999999999999E-2]
[2021,1306,"160 DEL 10/11/2021","Z6833D8171","Buoni TAXI per membri CdS (SOLO ESECUZIONE) ",null,null,39999,799.98,639.98400000000004,159.99600000000001,null,null,"Coll. DEC",7.51,2.2499999999999999E-2]
[2021,1306,"160 DEL 10/11/2021","Z6833D8171","Buoni TAXI per membri CdS (SOLO ESECUZIONE) ",null,null,39999,799.98,639.98400000000004,159.99600000000001,null,null,"Incaricato ver. conf.",5.84,3.5000000000000003E-2]
[2021,1306,"160 DEL 10/11/2021","Z6833D8171","Buoni TAXI per membri CdS (SOLO ESECUZIONE) ",null,null,39999,799.98,639.98400000000004,159.99600000000001,null,null,"Coll. Inc. Ver. Conf",2.5,1.4999999999999999E-2]
[2020,3305,"128 del 17/7/2020","83737458F8","Manutenzione ordinaria ed adeguamento impianti incendi (SOLO ESECUZIONE)","2021-01-01","2022-12-30",618000,12360,{"$f":"+(I444)*0.8","v":9888},{"$f":"+(I444)*0.2","v":2472},{"$f":"+J444-R444-S444","v":3194.82},{"$f":"+O444+O445+O446+O447+O448+O449+O450","v":2557.89},"RUP esecuzione",892.29,0.15,null,5636.16,1057.02,{"$f":"+J444-Q444-R444-M444-S444","v":636.93000000000029}]
[2020,3305,"128 del 17/7/2020","83737458F8","Manutenzione ordinaria ed adeguamento impianti incendi (SOLO ESECUZIONE)","2021-01-01","2022-12-30",618000,12360,9888,2472,null,null,"Coll. RUP esecuzione",118.97,0.02]
[2020,3305,"128 del 17/7/2020","83737458F8","Manutenzione ordinaria ed adeguamento impianti incendi (SOLO ESECUZIONE)","2021-01-01","2022-12-30",618000,12360,9888,2472,null,null,"Coll. RUP esecuzione",118.97,0.02]
[2020,3305,"128 del 17/7/2020","83737458F8","Manutenzione ordinaria ed adeguamento impianti incendi (SOLO ESECUZIONE)","2021-01-01","2022-12-30",618000,12360,9888,2472,null,null,"DL",684.09,0.115]
[2020,3305,"128 del 17/7/2020","83737458F8","Manutenzione ordinaria ed adeguamento impianti incendi (SOLO ESECUZIONE)","2021-01-01","2022-12-30",618000,12360,9888,2472,null,null,"COLL. DL",208.2,3.5000000000000003E-2]
[2020,3305,"128 del 17/7/2020","83737458F8","Manutenzione ordinaria ed adeguamento impianti incendi (SOLO ESECUZIONE)","2021-01-01","2022-12-30",618000,12360,9888,2472,null,null,"Collaudatore",416.4,7.0000000000000007E-2]
[2020,3305,"128 del 17/7/2020","83737458F8","Manutenzione ordinaria ed adeguamento impianti incendi (SOLO ESECUZIONE)","2021-01-01","2022-12-30",618000,12360,9888,2472,null,null,"Coll. Collaudatore",118.97,0.02]
[2022,3305,"127 DEL 27/07/2022",9330992231," BARRIERE ARCHITETTONICHE (SOLO AFFIDAMENTO)",null,null,680044,{"$f":"+H451*0.02","v":13600.880000000001},10880.704000000002,2720.1760000000004,{"$f":"+J451","v":10880.704000000002},{"$f":"+O451+O452+O454+O455+O456+O457+O453+O458+O459+O460","v":6201.9872000000014},"Incaricato programm.",{"$f":"+J451*P451","v":326.42112000000003},0.03,null,null,null,4678.71]
[2022,3305,"127 DEL 27/07/2022",9330992231," BARRIERE ARCHITETTONICHE (SOLO AFFIDAMENTO)",null,null,680044,{"$f":"+H452*0.02","v":13600.880000000001},10880.704000000002,2720.1760000000004,null,null,"Coll. Inc. prog.",217.6,0.02]
[2022,3305,"127 DEL 27/07/2022",9330992231," BARRIERE ARCHITETTONICHE (SOLO AFFIDAMENTO)",null,null,680044,{"$f":"+H453*0.02","v":13600.880000000001},{"$f":"+(I453)*0.8","v":10880.704000000002},{"$f":"+(I453)*0.2","v":2720.1760000000004},null,null,"Verificatore Prog.",{"$f":"+J453*P453","v":707.24576000000013},6.5000000000000002E-2]
[2022,3305,"127 DEL 27/07/2022",9330992231," BARRIERE ARCHITETTONICHE (SOLO AFFIDAMENTO)",null,null,680044,13600.880000000001,10880.704000000002,2720.1760000000004,null,null,"Coll. VER. Prog.",{"$f":"+J454*P454","v":163.21056000000002},1.4999999999999999E-2]
[2022,3305,"127 DEL 27/07/2022",9330992231," BARRIERE ARCHITETTONICHE (SOLO AFFIDAMENTO)",null,null,680044,13600.880000000001,10880.704000000002,2720.1760000000004,null,null,"Inc. Pred. Doc. ",{"$f":"+J455*P455","v":1088.0704000000003},0.1]
[2022,3305,"127 DEL 27/07/2022",9330992231," BARRIERE ARCHITETTONICHE (SOLO AFFIDAMENTO)",null,null,680044,13600.880000000001,10880.704000000002,2720.1760000000004,null,null,"Coll. Inc. Pred.",{"$f":"+J456*P456","v":163.21056000000002},1.4999999999999999E-2]
[2022,3305,"127 DEL 27/07/2022",9330992231," BARRIERE ARCHITETTONICHE (SOLO AFFIDAMENTO)",null,null,680044,13600.880000000001,10880.704000000002,2720.1760000000004,null,null,"Coll. Inc. Pred.",{"$f":"+J457*P457","v":163.21056000000002},1.4999999999999999E-2]
[2022,3305,"127 DEL 27/07/2022",9330992231," BARRIERE ARCHITETTONICHE (SOLO AFFIDAMENTO)",null,null,680044,13600.880000000001,10880.704000000002,2720.1760000000004,null,null,"RUP Affidamento",{"$f":"+J458*P458","v":2937.7900800000007},0.27]
[2022,3305,"127 DEL 27/07/2022",9330992231," BARRIERE ARCHITETTONICHE (SOLO AFFIDAMENTO)",null,null,680044,{"$f":"+H459*0.02","v":13600.880000000001},{"$f":"+(I459)*0.8","v":10880.704000000002},{"$f":"+(I459)*0.2","v":2720.1760000000004},null,null,"Coll. RUP Affidamento",{"$f":"+J459*P459","v":217.61408000000003},0.02]
[2022,3305,"127 DEL 27/07/2022",9330992231," BARRIERE ARCHITETTONICHE (SOLO AFFIDAMENTO)",null,null,680044,{"$f":"+H460*0.02","v":13600.880000000001},{"$f":"+(I460)*0.8","v":10880.704000000002},{"$f":"+(I460)*0.2","v":2720.1760000000004},null,null,"Coll. RUP Affidamento",{"$f":"+J460*P460","v":217.61408000000003},0.02]
[2020,3305,"185 DEL 26/11/2020","8482948E21","lavori di manutenzione ordinaria degli impianti di condizionamento  (SOLO ESECUZIONE.)",null,null,200000,{"$f":"+H461*0.02","v":4000},{"$f":"+(I461)*0.8","v":3200},{"$f":"+(I461)*0.2","v":800},{"$f":"+J461-S461","v":1126.6100000000001},{"$f":"+O461+O462+O464+O465+O466+O467+O463","v":374.89},"RUP esecuzione",130.77000000000001,{"$f":"+[2]infissi!$E$47","v":0.15},null,null,2073.39,{"$f":"+J461-Q461-R461-M461-S461","v":751.72000000000025}]
[2020,3305,"185 DEL 26/11/2020","8482948E21","lavori di manutenzione ordinaria degli impianti di condizionamento  (SOLO ESECUZIONE.)",null,null,200000,{"$f":"+H462*0.02","v":4000},3200,800,null,null,"Coll. RUP esecuzione",17.440000000000001,{"$f":"+[2]infissi!$E$49","v":0.02}]
[2020,3305,"185 DEL 26/11/2020","8482948E21","lavori di manutenzione ordinaria degli impianti di condizionamento  (SOLO ESECUZIONE.)",null,null,200000,4000,3200,800,null,null,"Coll. RUP esecuzione",17.440000000000001,{"$f":"+P462","v":0.02}]
[2020,3305,"185 DEL 26/11/2020","8482948E21","lavori di manutenzione ordinaria degli impianti di condizionamento  (SOLO ESECUZIONE.)",null,null,200000,4000,3200,800,null,null,"DL",100.26,0.115]
[2020,3305,"185 DEL 26/11/2020","8482948E21","lavori di manutenzione ordinaria degli impianti di condizionamento  (SOLO ESECUZIONE.)",null,null,200000,4000,3200,800,null,null,"COLLAB. DL",30.51,3.5000000000000003E-2]
[2020,3305,"185 DEL 26/11/2020","8482948E21","lavori di manutenzione ordinaria degli impianti di condizionamento  (SOLO ESECUZIONE.)",null,null,200000,4000,3200,800,null,null,"COLLADAUTORE",61.03,7.0000000000000007E-2]
[2020,3305,"185 DEL 26/11/2020","8482948E21","lavori di manutenzione ordinaria degli impianti di condizionamento  (SOLO ESECUZIONE.)",null,null,200000,4000,3200,800,null,null,"COLLAB. COLLAUD.",17.440000000000001,{"$f":"+[2]infissi!$E$59","v":0.02}]
[2022,3305,"137 DEL 05/09/2022","9388977CEA","IMPIANTI DI SICUREZZA E DEGLI IMPIANTI ANTINCENDIO (SOLO AFFIDAMENTO)",null,null,544440,{"$f":"+H468*0.02","v":10888.800000000001},8711.0400000000009,2177.7600000000002,8771.0400000000009,{"$f":"+O468+O469+O471+O472+O473+O474+O470+O475","v":4965.2928000000011},"Incaricato programm.",{"$f":"+J468*P468","v":261.33120000000002},0.03,null,null,null,{"$f":"+J468-Q468-R468-M468-S468","v":3745.7471999999998}]
[2022,3305,"137 DEL 05/09/2022","9388977CEA","IMPIANTI DI SICUREZZA E DEGLI IMPIANTI ANTINCENDIO (SOLO AFFIDAMENTO)",null,null,544440,{"$f":"+H469*0.02","v":10888.800000000001},{"$f":"+(I469)*0.8","v":8711.0400000000009},{"$f":"+(I469)*0.2","v":2177.7600000000002},null,null,"Coll. Inc. prog.",{"$f":"+J469*P469","v":174.22080000000003},0.02]
[2022,3305,"137 DEL 05/09/2022","9388977CEA","IMPIANTI DI SICUREZZA E DEGLI IMPIANTI ANTINCENDIO (SOLO AFFIDAMENTO)",null,null,544440,10888.800000000001,8711.0400000000009,2177.7600000000002,null,null,"Verificatore Prog.",{"$f":"+J470*P470","v":566.21760000000006},6.5000000000000002E-2]
[2022,3305,"137 DEL 05/09/2022","9388977CEA","IMPIANTI DI SICUREZZA E DEGLI IMPIANTI ANTINCENDIO (SOLO AFFIDAMENTO)",null,null,544440,10888.800000000001,8711.0400000000009,2177.7600000000002,null,null,"Coll. VER. Prog.",{"$f":"+J471*P471","v":130.66560000000001},1.4999999999999999E-2]
[2022,3305,"137 DEL 05/09/2022","9388977CEA","IMPIANTI DI SICUREZZA E DEGLI IMPIANTI ANTINCENDIO (SOLO AFFIDAMENTO)",null,null,544440,10888.800000000001,8711.0400000000009,2177.7600000000002,null,null,"Inc. Pred. Doc. ",{"$f":"+J472*P472","v":871.10400000000016},0.1]
[2022,3305,"137 DEL 05/09/2022","9388977CEA","IMPIANTI DI SICUREZZA E DEGLI IMPIANTI ANTINCENDIO (SOLO AFFIDAMENTO)",null,null,544440,10888.800000000001,8711.0400000000009,2177.7600000000002,null,null,"Coll. Inc. Pred.",{"$f":"+J473*P473","v":261.33120000000002},0.03]
[2022,3305,"137 DEL 05/09/2022","9388977CEA","IMPIANTI DI SICUREZZA E DEGLI IMPIANTI ANTINCENDIO (SOLO AFFIDAMENTO)",null,null,544440,10888.800000000001,8711.0400000000009,2177.7600000000002,null,null,"RUP Affidamento",{"$f":"+J474*P474","v":2351.9808000000003},0.27]
[2022,3305,"137 DEL 05/09/2022","9388977CEA","IMPIANTI DI SICUREZZA E DEGLI IMPIANTI ANTINCENDIO (SOLO AFFIDAMENTO)",null,null,544440,10888.800000000001,8711.0400000000009,2177.7600000000002,null,null,"Coll. RUP Affidamento",{"$f":"+J475*P475","v":348.44160000000005},0.04]
[2022,4254,"45 DEL 18/03/2022"," 8124159C15","MANUTENZIONE STRAORDINARIA CON SOSTITUZIONE PARZIALE DEGLI INFISSI ESTERNI (AFFIDAMENTO + ESECUZIONE)",null,null,68332.789999999994,{"$f":"+H476*0.02","v":1366.6558},1093.33,273.33116000000001,{"$f":"+M476","v":1093.33},1093.33,"Incaricato programm.",{"$f":"+J476*P476","v":32.799899999999994},0.03,null,null,null,{"$f":"+J476-Q476-R476-M476","v":0}]
[2022,4254,"45 DEL 18/03/2022"," 8124159C15","MANUTENZIONE STRAORDINARIA CON SOSTITUZIONE PARZIALE DEGLI INFISSI ESTERNI (AFFIDAMENTO + ESECUZIONE)",null,null,68332.789999999994,{"$f":"+H477*0.02","v":1366.6558},1093.33,{"$f":"+(I477)*0.2","v":273.33116000000001},null,null,"Coll. Inc. prog.",21.86,0.02]
[2022,4254,"45 DEL 18/03/2022"," 8124159C15","MANUTENZIONE STRAORDINARIA CON SOSTITUZIONE PARZIALE DEGLI INFISSI ESTERNI (AFFIDAMENTO + ESECUZIONE)",null,null,68332.789999999994,1366.6558,1093.33,273.33116000000001,null,null,"Inc. Pred. Doc. ",{"$f":"+J478*P478","v":109.333},0.1]
[2022,4254,"45 DEL 18/03/2022"," 8124159C15","MANUTENZIONE STRAORDINARIA CON SOSTITUZIONE PARZIALE DEGLI INFISSI ESTERNI (AFFIDAMENTO + ESECUZIONE)",null,null,68332.789999999994,1366.6558,1093.33,273.33116000000001,null,null,"Coll. Inc. Pred.",{"$f":"+J479*P479","v":32.799899999999994},0.03]
[2022,4254,"45 DEL 18/03/2022"," 8124159C15","MANUTENZIONE STRAORDINARIA CON SOSTITUZIONE PARZIALE DEGLI INFISSI ESTERNI (AFFIDAMENTO + ESECUZIONE)",null,null,68332.789999999994,1366.6558,1093.33,273.33116000000001,null,null,"Verificatore Prog.",{"$f":"+J480*P480","v":71.066450000000003},6.5000000000000002E-2]
[2022,4254,"45 DEL 18/03/2022"," 8124159C15","MANUTENZIONE STRAORDINARIA CON SOSTITUZIONE PARZIALE DEGLI INFISSI ESTERNI (AFFIDAMENTO + ESECUZIONE)",null,null,68332.789999999994,1366.6558,1093.33,273.33116000000001,null,null,"Coll. Ver. Prog.",{"$f":"+J481*P481","v":16.399949999999997},1.4999999999999999E-2]
[2022,4254,"45 DEL 18/03/2022"," 8124159C15","MANUTENZIONE STRAORDINARIA CON SOSTITUZIONE PARZIALE DEGLI INFISSI ESTERNI (AFFIDAMENTO + ESECUZIONE)",null,null,68332.789999999994,1366.6558,1093.33,273.33116000000001,null,null,"RUP Affidamento",{"$f":"+J482*P482","v":295.19909999999999},0.27]
[2022,4254,"45 DEL 18/03/2022"," 8124159C15","MANUTENZIONE STRAORDINARIA CON SOSTITUZIONE PARZIALE DEGLI INFISSI ESTERNI (AFFIDAMENTO + ESECUZIONE)",null,null,68332.789999999994,1366.6558,1093.33,273.33116000000001,null,null,"Coll. RUP Affidamento",{"$f":"+J483*P483","v":43.733199999999997},0.04]
[2022,4254,"45 DEL 18/03/2022"," 8124159C15","MANUTENZIONE STRAORDINARIA CON SOSTITUZIONE PARZIALE DEGLI INFISSI ESTERNI (AFFIDAMENTO + ESECUZIONE)",null,null,68332.789999999994,1366.6558,1093.33,273.33116000000001,null,null,"RUP esecuzione",{"$f":"+J484*P484","v":163.99949999999998},0.15]
[2022,4254,"45 DEL 18/03/2022"," 8124159C15","MANUTENZIONE STRAORDINARIA CON SOSTITUZIONE PARZIALE DEGLI INFISSI ESTERNI (AFFIDAMENTO + ESECUZIONE)",null,null,68332.789999999994,1366.6558,1093.33,273.33116000000001,null,null,"Coll. RUP esecuzione",{"$f":"+J485*P485","v":21.866599999999998},0.02]
[2022,4254,"45 DEL 18/03/2022"," 8124159C15","MANUTENZIONE STRAORDINARIA CON SOSTITUZIONE PARZIALE DEGLI INFISSI ESTERNI (AFFIDAMENTO + ESECUZIONE)",null,null,68332.789999999994,1366.6558,1093.33,273.33116000000001,null,null,"Coll. RUP esecuzione",{"$f":"+J486*P486","v":21.866599999999998},0.02]
[2022,4254,"45 DEL 18/03/2022"," 8124159C15","MANUTENZIONE STRAORDINARIA CON SOSTITUZIONE PARZIALE DEGLI INFISSI ESTERNI (AFFIDAMENTO + ESECUZIONE)",null,null,68332.789999999994,1366.6558,1093.33,273.33116000000001,null,null,"Direttore Lavori",{"$f":"+J487*P487","v":125.73295},0.115]
[2022,4254,"45 DEL 18/03/2022"," 8124159C15","MANUTENZIONE STRAORDINARIA CON SOSTITUZIONE PARZIALE DEGLI INFISSI ESTERNI (AFFIDAMENTO + ESECUZIONE)",null,null,68332.789999999994,1366.6558,1093.33,273.33116000000001,null,null,"Coll. Direttore Lavori",{"$f":"+J488*P488","v":38.266550000000002},3.5000000000000003E-2]
[2022,4254,"45 DEL 18/03/2022"," 8124159C15","MANUTENZIONE STRAORDINARIA CON SOSTITUZIONE PARZIALE DEGLI INFISSI ESTERNI (AFFIDAMENTO + ESECUZIONE)",null,null,68332.789999999994,1366.6558,1093.33,273.33116000000001,null,null,"Collaudatore",{"$f":"+J489*P489","v":76.533100000000005},7.0000000000000007E-2]
[2022,4254,"45 DEL 18/03/2022"," 8124159C15","MANUTENZIONE STRAORDINARIA CON SOSTITUZIONE PARZIALE DEGLI INFISSI ESTERNI (AFFIDAMENTO + ESECUZIONE)",null,null,68332.789999999994,1366.6558,1093.33,273.33116000000001,null,null,"Coll. Collaudatore",{"$f":"+J490*P490","v":21.866599999999998},0.02]
[2022,4254,"32 DEL 21/02/2022",9110513928,"LAVORI URGENTI DI NATURA STRUTTURALE E CONSERVATIVA DELLE COPERTURE DI PALAZZO SPADA (solo affidamento)",null,null,965500,{"$f":"+H491*0.02","v":19310},{"$f":"+(I491)*0.8","v":15448},{"$f":"+(I491)*0.2","v":3862},{"$f":"+J491","v":15448},{"$f":"+O491+O496+O492+O493+O494+O495+O497+O498+O499+O500","v":8805.3599999999988},"Incaricato programm.",{"$f":"+J491*P491","v":463.44},0.03,null,null,null,{"$f":"+J491-Q491-R491-M491","v":6642.6400000000012}]
[2022,4254,"32 DEL 21/02/2022",9110513928,"LAVORI URGENTI DI NATURA STRUTTURALE E CONSERVATIVA DELLE COPERTURE DI PALAZZO SPADA (solo affidamento)",null,null,965500,{"$f":"+H492*0.02","v":19310},{"$f":"+(I492)*0.8","v":15448},{"$f":"+(I492)*0.2","v":3862},null,null,"Coll. Inc. prog.",{"$f":"+J492*P492","v":308.95999999999998},0.02]
[2022,4254,"32 DEL 21/02/2022",9110513928,"LAVORI URGENTI DI NATURA STRUTTURALE E CONSERVATIVA DELLE COPERTURE DI PALAZZO SPADA (solo affidamento)",null,null,965500,19310,15448,3862,null,null,"Inc. Pred. Doc. ",{"$f":"+J493*P493","v":386.20000000000005},2.5000000000000001E-2]
[2022,4254,"32 DEL 21/02/2022",9110513928,"LAVORI URGENTI DI NATURA STRUTTURALE E CONSERVATIVA DELLE COPERTURE DI PALAZZO SPADA (solo affidamento)",null,null,965500,19310,15448,3862,null,null,"Inc. Pred. Doc. ",{"$f":"+J494*P494","v":1158.5999999999999},7.4999999999999997E-2]
[2022,4254,"32 DEL 21/02/2022",9110513928,"LAVORI URGENTI DI NATURA STRUTTURALE E CONSERVATIVA DELLE COPERTURE DI PALAZZO SPADA (solo affidamento)",null,null,965500,19310,15448,3862,null,null,"Coll. Inc. Pred.",{"$f":"+J495*P495","v":231.72},1.4999999999999999E-2]
[2022,4254,"32 DEL 21/02/2022",9110513928,"LAVORI URGENTI DI NATURA STRUTTURALE E CONSERVATIVA DELLE COPERTURE DI PALAZZO SPADA (solo affidamento)",null,null,965500,19310,{"$f":"+(I496)*0.8","v":15448},{"$f":"+(I496)*0.2","v":3862},null,null,"Coll. Inc. Pred.",{"$f":"+J496*P496","v":231.72},1.4999999999999999E-2]
[2022,4254,"32 DEL 21/02/2022",9110513928,"LAVORI URGENTI DI NATURA STRUTTURALE E CONSERVATIVA DELLE COPERTURE DI PALAZZO SPADA (solo affidamento)",null,null,965500,19310,15448,3862,null,null,"Verificatore Prog.",{"$f":"+J497*P497","v":1004.12},6.5000000000000002E-2]
[2022,4254,"32 DEL 21/02/2022",9110513928,"LAVORI URGENTI DI NATURA STRUTTURALE E CONSERVATIVA DELLE COPERTURE DI PALAZZO SPADA (solo affidamento)",null,null,965500,19310,15448,3862,null,null,"Coll. Ver. Prog.",{"$f":"+J498*P498","v":231.72},1.4999999999999999E-2]
[2022,4254,"32 DEL 21/02/2022",9110513928,"LAVORI URGENTI DI NATURA STRUTTURALE E CONSERVATIVA DELLE COPERTURE DI PALAZZO SPADA (solo affidamento)",null,null,965500,19310,15448,3862,null,null,"RUP Affidamento",{"$f":"+J499*P499","v":4170.96},0.27]
[2022,4254,"32 DEL 21/02/2022",9110513928,"LAVORI URGENTI DI NATURA STRUTTURALE E CONSERVATIVA DELLE COPERTURE DI PALAZZO SPADA (solo affidamento)",null,null,965500,19310,15448,3862,null,null,"Coll. RUP Affidamento",{"$f":"+J500*P500","v":617.91999999999996},0.04,null,null,null,null,null,null,null,null,4376.16]
[2019,4254,"214 del 2/12/2019 ","8124159C15","Manutenzione straordinaria infissi (SOLO ESECUZIONE)","2020-08-05","2021-07-07",911700,18234,{"$f":"+(I501)*0.8","v":14587.2},{"$f":"+(I501)*0.2","v":3646.8},1625.59,{"$f":"+O501+O502+O503+O504+O505+O506+O507","v":1625.59},"RUP esecuzione",567.05999999999995,0.15,null,10196.450000000001,2765.16,{"$f":"+J501-M501-R501-S501","v":0}]
[2019,4254,"214 del 2/12/2019 ","8124159C15","Manutenzione straordinaria infissi (SOLO ESECUZIONE)","2020-08-05","2021-07-07",911700,18234,14587.2,3646.8,null,null,"Coll. RUP esecuzione",75.61,0.02]
[2019,4254,"214 del 2/12/2019 ","8124159C15","Manutenzione straordinaria infissi (SOLO ESECUZIONE)","2020-08-05","2021-07-07",911700,18234,14587.2,3646.8,null,null,"Coll. RUP esecuzione",75.61,0.02]
[2019,4254,"214 del 2/12/2019 ","8124159C15","Manutenzione straordinaria infissi (SOLO ESECUZIONE)","2020-08-05","2021-07-07",911700,18234,14587.2,3646.8,null,null,"Direttore Lavori",434.75,0.115]
[2019,4254,"214 del 2/12/2019 ","8124159C15","Manutenzione straordinaria infissi (SOLO ESECUZIONE)","2020-08-05","2021-07-07",911700,18234,14587.2,3646.8,null,null,"Coll. Direttore Lavori",132.31,3.5000000000000003E-2]
[2019,4254,"214 del 2/12/2019 ","8124159C15","Manutenzione straordinaria infissi (SOLO ESECUZIONE)","2020-08-05","2021-07-07",911700,18234,14587.2,3646.8,null,null,"Collaudatore",264.64,7.0000000000000007E-2]
[2019,4254,"214 del 2/12/2019 ","8124159C15","Manutenzione straordinaria infissi (SOLO ESECUZIONE)","2020-08-05","2021-07-07",911700,18234,14587.2,3646.8,null,null,"Coll. Collaudatore",75.61,0.02,null,null,null,null,null,null,null,null,4376.16]
[2019,1305,"217 del 5/12/2019",8128631680,"Manutenzione edile (FASE ESECUTIVA)","24 MESI DALLA STIPULA",null,661764.75,13235.3,10588.24,2647.06,2224.87,{"$f":"+O508+O509+O510+O511+O512+O513+O514","v":2224.87},"RUP ESECUZIONE",776.11,0.15,null,6035.29,2328.08,{"$f":"+J508-Q508-R508-M508-S508","v":0}]
[2019,1305,"217 del 5/12/2019",8128631680,"Manutenzione edile (FASE ESECUTIVA)","24 MESI DALLA STIPULA",null,661764.75,13235.3,10588.24,2647.06,null,null,"Coll. RUP ESEC",103.48,0.02]
[2019,1305,"217 del 5/12/2019",8128631680,"Manutenzione edile (FASE ESECUTIVA)","24 MESI DALLA STIPULA",null,661764.75,13235.3,10588.24,2647.06,null,null,"Coll. RUP ESEC",103.48,0.02]
[2019,1305,"217 del 5/12/2019",8128631680,"Manutenzione edile (FASE ESECUTIVA)","24 MESI DALLA STIPULA",null,661764.75,13235.3,10588.24,2647.06,null,null,"DL",595.02,0.115]
[2019,1305,"217 del 5/12/2019",8128631680,"Manutenzione edile (FASE ESECUTIVA)","24 MESI DALLA STIPULA",null,661764.75,13235.3,10588.24,2647.06,null,null,"Coll. DL",181.09,3.5000000000000003E-2]
[2019,1305,"217 del 5/12/2019",8128631680,"Manutenzione edile (FASE ESECUTIVA)","24 MESI DALLA STIPULA",null,661764.75,13235.3,10588.24,2647.06,null,null,"Collaudatore",362.19,7.0000000000000007E-2]
[2019,1305,"217 del 5/12/2019",8128631680,"Manutenzione edile (FASE ESECUTIVA)","24 MESI DALLA STIPULA",null,661764.75,13235.3,10588.24,2647.06,null,null,"Coll. Collaudatore",103.5,0.02]
[2021,1305,"10 DEL 27/01/2021"," 8609029B77","MANUTENZIONE FARNESINA (SOLO ESECUZIONE)",null,null,413259,{"$f":"+H515*0.02","v":8265.18},{"$f":"+I515*0.8","v":6612.1440000000002},{"$f":"+I515-J515","v":1653.0360000000001},{"$f":"+M515","v":877.03},{"$f":"+O515+O516+O517+O518+O520+O521+O519","v":877.03},"RUP esecuzione",305.94,0.15,null,null,5735.11,{"$f":"+J515-Q515-R515-M515-S515","v":4.0000000008149073E-3}]
[2021,1305,"10 DEL 27/01/2021"," 8609029B77","MANUTENZIONE FARNESINA (SOLO ESECUZIONE)",null,null,413259,8265.18,6612.1440000000002,1653.0360000000001,null,null,"Coll. RUP esecuzione",40.79,0.02]
[2021,1305,"10 DEL 27/01/2021"," 8609029B77","MANUTENZIONE FARNESINA (SOLO ESECUZIONE)",null,null,413259,8265.18,6612.1440000000002,1653.0360000000001,null,null,"Coll. RUP esecuzione",40.79,0.02]
[2021,1305,"10 DEL 27/01/2021"," 8609029B77","MANUTENZIONE FARNESINA (SOLO ESECUZIONE)",null,null,413259,8265.18,6612.1440000000002,1653.0360000000001,null,null,"DL.",234.55,0.115]
[2021,1305,"10 DEL 27/01/2021"," 8609029B77","MANUTENZIONE FARNESINA (SOLO ESECUZIONE)",null,null,413259,8265.18,6612.1440000000002,1653.0360000000001,null,null,"coll. DL",71.400000000000006,3.5000000000000003E-2]
[2021,1305,"10 DEL 27/01/2021"," 8609029B77","MANUTENZIONE FARNESINA (SOLO ESECUZIONE)",null,null,413259,8265.18,6612.1440000000002,1653.0360000000001,null,null,"Collaudatore",142.77000000000001,7.0000000000000007E-2]
[2021,1305,"10 DEL 27/01/2021"," 8609029B77","MANUTENZIONE FARNESINA (SOLO ESECUZIONE)",null,null,413259,8265.18,6612.1440000000002,1653.0360000000001,null,null,"Coll. Collaudatore",40.79,0.02]
[2022,1305,"125 DEL 26/07/2022","93350853D7","IMPIANTI DI CONDIZIONAMENTO PRESSO PALAZZO SPADA (SOLO AFFIDAMENTO)",null,null,654043.42000000004,13080.868400000001,10464.694720000001,2616.1736799999999,10464.69,{"$f":"+O522+O525+O530+O529+O528+O527+O523+O524+O526","v":5964.8759904000017},"Incaricato programm.",{"$f":"+J522*P522","v":313.94084160000006},0.03,null,null,null,{"$f":"+J522-Q522-R522-M522-S522","v":4499.8187295999996}]
[2022,1305,"125 DEL 26/07/2022","93350853D7","IMPIANTI DI CONDIZIONAMENTO PRESSO PALAZZO SPADA (SOLO AFFIDAMENTO)",null,null,654043.42000000004,{"$f":"+H523*0.02","v":13080.868400000001},{"$f":"+I523*0.8","v":10464.694720000001},{"$f":"+I523-J523","v":2616.1736799999999},null,null,"Coll. Inc. prog.",{"$f":"+J523*P523","v":209.29389440000003},0.02]
[2022,1305,"125 DEL 26/07/2022","93350853D7","IMPIANTI DI CONDIZIONAMENTO PRESSO PALAZZO SPADA (SOLO AFFIDAMENTO)",null,null,654043.42000000004,13080.868400000001,10464.694720000001,2616.1736799999999,null,null,"Inc. Pred. Doc. ",{"$f":"+J524*P524","v":1046.4694720000002},0.1]
[2022,1305,"125 DEL 26/07/2022","93350853D7","IMPIANTI DI CONDIZIONAMENTO PRESSO PALAZZO SPADA (SOLO AFFIDAMENTO)",null,null,654043.42000000004,13080.868400000001,10464.694720000001,2616.1736799999999,null,null,"Coll. Inc. Pred.",{"$f":"+J525*P525","v":156.97042080000003},1.4999999999999999E-2]
[2022,1305,"125 DEL 26/07/2022","93350853D7","IMPIANTI DI CONDIZIONAMENTO PRESSO PALAZZO SPADA (SOLO AFFIDAMENTO)",null,null,654043.42000000004,13080.868400000001,10464.694720000001,2616.1736799999999,null,null,"Coll. Inc. Pred.",{"$f":"+J526*P526","v":156.97042080000003},1.4999999999999999E-2]
[2022,1305,"125 DEL 26/07/2022","93350853D7","IMPIANTI DI CONDIZIONAMENTO PRESSO PALAZZO SPADA (SOLO AFFIDAMENTO)",null,null,654043.42000000004,13080.868400000001,10464.694720000001,2616.1736799999999,null,null,"Verificatore Prog.",{"$f":"+J527*P527","v":680.20515680000005},6.5000000000000002E-2]
[2022,1305,"125 DEL 26/07/2022","93350853D7","IMPIANTI DI CONDIZIONAMENTO PRESSO PALAZZO SPADA (SOLO AFFIDAMENTO)",null,null,654043.42000000004,13080.868400000001,10464.694720000001,2616.1736799999999,null,null,"Coll. Ver. Prog.",{"$f":"+J528*P528","v":156.97042080000003},1.4999999999999999E-2]
[2022,1305,"125 DEL 26/07/2022","93350853D7","IMPIANTI DI CONDIZIONAMENTO PRESSO PALAZZO SPADA (SOLO AFFIDAMENTO)",null,null,654043.42000000004,13080.868400000001,10464.694720000001,2616.1736799999999,null,null,"RUP Affidamento",{"$f":"+J529*P529","v":2825.4675744000006},0.27]
[2022,1305,"125 DEL 26/07/2022","93350853D7","IMPIANTI DI CONDIZIONAMENTO PRESSO PALAZZO SPADA (SOLO AFFIDAMENTO)",null,null,654043.42000000004,13080.868400000001,10464.694720000001,2616.1736799999999,null,null,"Coll. RUP Affidamento",{"$f":"+J530*P530","v":418.58778880000006},0.04]
[2022,1305,"166 DEL 19/10/2022","Z963834455","MANUTENZIONE ASCENSORI (SOLO AFFIDAMENTO)",null,null,31930,{"$f":"+H531*0.02","v":638.6},{"$f":"+I531*0.8","v":510.88000000000005},{"$f":"+I531-J531","v":127.71999999999997},510.88,291.22000000000003,"Incaricato programm.",{"$f":"+J531*P531","v":15.326400000000001},0.03,null,null,null,{"$f":"+J531-Q531-R531-M531-S531","v":219.66000000000003}]
[2022,1305,"166 DEL 19/10/2022","Z963834455","MANUTENZIONE ASCENSORI (SOLO AFFIDAMENTO)",null,null,31930,638.6,510.88000000000005,127.71999999999997,null,null,"Coll. Inc. prog.",{"$f":"+J532*P532","v":10.217600000000001},0.02]
[2022,1305,"166 DEL 19/10/2022","Z963834455","MANUTENZIONE ASCENSORI (SOLO AFFIDAMENTO)",null,null,31930,638.6,510.88000000000005,127.71999999999997,null,null,"Inc. Pred. Doc. ",{"$f":"+J533*P533","v":68.968800000000016},0.13500000000000001]
[2022,1305,"166 DEL 19/10/2022","Z963834455","MANUTENZIONE ASCENSORI (SOLO AFFIDAMENTO)",null,null,31930,638.6,510.88000000000005,127.71999999999997,null,null,"Coll. Inc. Pred.",{"$f":"+J534*P534","v":15.326400000000001},0.03]
[2022,1305,"166 DEL 19/10/2022","Z963834455","MANUTENZIONE ASCENSORI (SOLO AFFIDAMENTO)",null,null,31930,638.6,510.88000000000005,127.71999999999997,null,null,"RUP Affidamento",{"$f":"+J535*P535","v":148.15520000000001},0.28999999999999998]
[2022,1305,"166 DEL 19/10/2022","Z963834455","MANUTENZIONE ASCENSORI (SOLO AFFIDAMENTO)",null,null,31930,638.6,510.88000000000005,127.71999999999997,null,null,"Coll. RUP Affidamento",{"$f":"+J536*P536","v":33.207200000000007},6.5000000000000002E-2]
[2021,1305,"81 DEL 14/06/2021",8792072755,"IMPIANTI TELEFONICI  (solo  esecuzione)",null,null,177050,{"$f":"+H537*0.02","v":3541},{"$f":"+I537*0.8","v":2832.8},{"$f":"+I537-J537","v":708.19999999999982},1015.1,{"$f":"+O537+O538+O540+O541+O542+O543+O544+O539","v":609.06000000000006},"RUP esecuzione",254.95,0.18,null,null,1817.7,{"$f":"+J537-Q537-R537-M537-S537","v":406.04000000000019}]
[2021,1305,"81 DEL 14/06/2021",8792072755,"IMPIANTI TELEFONICI  (solo  esecuzione)",null,null,177050,{"$f":"+H538*0.02","v":3541},{"$f":"+I538*0.8","v":2832.8},{"$f":"+I538-J538","v":708.19999999999982},null,null,"Coll. RUP esecuzione",28.33,0.02]
[2021,1305,"81 DEL 14/06/2021",8792072755,"IMPIANTI TELEFONICI  (solo  esecuzione)",null,null,177050,3541,2832.8,{"$f":"+I539-J539","v":708.19999999999982},null,null,"Coll. RUP esecuzione",28.33,0.02]
[2021,1305,"81 DEL 14/06/2021",8792072755,"IMPIANTI TELEFONICI  (solo  esecuzione)",null,null,177050,3541,2832.8,708.19999999999982,null,null,"dec",162.88999999999999,0.115]
[2021,1305,"81 DEL 14/06/2021",8792072755,"IMPIANTI TELEFONICI  (solo  esecuzione)",null,null,177050,3541,2832.8,708.19999999999982,null,null,"coll. Dec",31.87,2.2499999999999999E-2]
[2021,1305,"81 DEL 14/06/2021",8792072755,"IMPIANTI TELEFONICI  (solo  esecuzione)",null,null,177050,3541,2832.8,708.19999999999982,null,null,"coll DEC",31.87,2.2499999999999999E-2]
[2021,1305,"81 DEL 14/06/2021",8792072755,"IMPIANTI TELEFONICI  (solo  esecuzione)",null,null,177050,3541,2832.8,708.19999999999982,null,null,"Inc. verifica conformità",49.57,3.5000000000000003E-2]
[2021,1305,"81 DEL 14/06/2021",8792072755,"IMPIANTI TELEFONICI  (solo  esecuzione)",null,null,177050,3541,2832.8,708.19999999999982,null,null,"Coll. Inc. Ver. Conf",21.25,1.4999999999999999E-2]
[2022,1305,"131 del 04/08/2022",8792072755,"L’APPALTO DEL SERVIZIO DI GESTIONE E MANUTENZIONE CON PRESIDIO FISSO DEGLI IMPIANTI TELEFONICI VOIP - QUINTO D'OBBLIGO","non inviata determina",null,27300,{"$f":"+H545*0.02","v":546},{"$f":"+I545*0.8","v":436.8},{"$f":"+I545-J545","v":109.19999999999999},{"$f":"+M545","v":436.8},{"$f":"+O545+O546+O550+O549+O548+O547+O551+O552+O553+O554+O555+O556+O557+O558","v":436.8},"Incaricato programm.",{"$f":"+J545*P545","v":13.103999999999999},0.03]
[2022,1305,"131 del 04/08/2022",8792072755,"L’APPALTO DEL SERVIZIO DI GESTIONE E MANUTENZIONE CON PRESIDIO FISSO DEGLI IMPIANTI TELEFONICI VOIP - QUINTO D'OBBLIGO",null,null,27300,{"$f":"+H546*0.02","v":546},{"$f":"+I546*0.8","v":436.8},{"$f":"+I546-J546","v":109.19999999999999},null,null,"Coll. Inc. prog.",{"$f":"+J546*P546","v":8.7360000000000007},0.02]
[2022,1305,"131 del 04/08/2022",8792072755,"L’APPALTO DEL SERVIZIO DI GESTIONE E MANUTENZIONE CON PRESIDIO FISSO DEGLI IMPIANTI TELEFONICI VOIP - QUINTO D'OBBLIGO",null,null,27300,546,436.8,109.19999999999999,null,null,"Inc. Pred. Doc. ",{"$f":"+J547*P547","v":58.968000000000004},0.13500000000000001]
[2022,1305,"131 del 04/08/2022",8792072755,"L’APPALTO DEL SERVIZIO DI GESTIONE E MANUTENZIONE CON PRESIDIO FISSO DEGLI IMPIANTI TELEFONICI VOIP - QUINTO D'OBBLIGO",null,null,27300,546,436.8,109.19999999999999,null,null,"Coll. Inc. Pred.",{"$f":"+J548*P548","v":13.103999999999999},0.03]
[2022,1305,"131 del 04/08/2022",8792072755,"L’APPALTO DEL SERVIZIO DI GESTIONE E MANUTENZIONE CON PRESIDIO FISSO DEGLI IMPIANTI TELEFONICI VOIP - QUINTO D'OBBLIGO",null,null,27300,546,436.8,109.19999999999999,null,null,"RUP Affidamento",{"$f":"+J549*P549","v":126.672},0.28999999999999998]
[2022,1305,"131 del 04/08/2022",8792072755,"L’APPALTO DEL SERVIZIO DI GESTIONE E MANUTENZIONE CON PRESIDIO FISSO DEGLI IMPIANTI TELEFONICI VOIP - QUINTO D'OBBLIGO",null,null,27300,546,436.8,109.19999999999999,null,null,"Coll. RUP Affidamento",{"$f":"+J550*P550","v":28.392000000000003},6.5000000000000002E-2]
[2022,1305,"131 del 04/08/2022",8792072755,"L’APPALTO DEL SERVIZIO DI GESTIONE E MANUTENZIONE CON PRESIDIO FISSO DEGLI IMPIANTI TELEFONICI VOIP - QUINTO D'OBBLIGO",null,null,27300,546,436.8,109.19999999999999,null,null,"RUP esecuzione",{"$f":"+J551*P551","v":78.623999999999995},0.18]
[2022,1305,"131 del 04/08/2022",8792072755,"L’APPALTO DEL SERVIZIO DI GESTIONE E MANUTENZIONE CON PRESIDIO FISSO DEGLI IMPIANTI TELEFONICI VOIP - QUINTO D'OBBLIGO",null,null,27300,546,436.8,109.19999999999999,null,null,"Coll. RUP esecuzione",{"$f":"+J552*P552","v":8.7360000000000007},0.02]
[2022,1305,"131 del 04/08/2022",8792072755,"L’APPALTO DEL SERVIZIO DI GESTIONE E MANUTENZIONE CON PRESIDIO FISSO DEGLI IMPIANTI TELEFONICI VOIP - QUINTO D'OBBLIGO",null,null,27300,546,436.8,109.19999999999999,null,null,"Coll. RUP esecuzione",{"$f":"+J553*P553","v":8.7360000000000007},0.02]
[2022,1305,"131 del 04/08/2022",8792072755,"L’APPALTO DEL SERVIZIO DI GESTIONE E MANUTENZIONE CON PRESIDIO FISSO DEGLI IMPIANTI TELEFONICI VOIP - QUINTO D'OBBLIGO",null,null,27300,546,436.8,109.19999999999999,null,null,"dec",{"$f":"+J554*P554","v":50.232000000000006},0.115]
[2022,1305,"131 del 04/08/2022",8792072755,"L’APPALTO DEL SERVIZIO DI GESTIONE E MANUTENZIONE CON PRESIDIO FISSO DEGLI IMPIANTI TELEFONICI VOIP - QUINTO D'OBBLIGO",null,null,27300,546,436.8,109.19999999999999,null,null,"coll. Dec",{"$f":"+J555*P555","v":9.8279999999999994},2.2499999999999999E-2]
[2022,1305,"131 del 04/08/2022",8792072755,"L’APPALTO DEL SERVIZIO DI GESTIONE E MANUTENZIONE CON PRESIDIO FISSO DEGLI IMPIANTI TELEFONICI VOIP - QUINTO D'OBBLIGO",null,null,27300,546,436.8,109.19999999999999,null,null,"coll DEC",{"$f":"+J556*P556","v":9.8279999999999994},2.2499999999999999E-2]
[2022,1305,"131 del 04/08/2022",8792072755,"L’APPALTO DEL SERVIZIO DI GESTIONE E MANUTENZIONE CON PRESIDIO FISSO DEGLI IMPIANTI TELEFONICI VOIP - QUINTO D'OBBLIGO",null,null,27300,546,436.8,109.19999999999999,null,null,"Inc. verifica conformità",{"$f":"+J557*P557","v":15.288000000000002},3.5000000000000003E-2]
[2022,1305,"131 del 04/08/2022",8792072755,"L’APPALTO DEL SERVIZIO DI GESTIONE E MANUTENZIONE CON PRESIDIO FISSO DEGLI IMPIANTI TELEFONICI VOIP - QUINTO D'OBBLIGO",null,null,27300,546,436.8,109.19999999999999,null,null,"Coll. Inc. Ver. Conf",{"$f":"+J558*P558","v":6.5519999999999996},1.4999999999999999E-2]
[2019,1305,"195 del 12/11/2019","Z4F2A23A6C","Servizio di manutenzione degli impianti elevatori di Palazzo Spada e Palazzo Ossoli - (solo esecuzione)","2019-12-01","2022-11-30",19365,{"$f":"+H559*0.02","v":387.3},{"$f":"+(I559)*0.8","v":309.84000000000003},{"$f":"+(I559)*0.2","v":77.460000000000008},{"$f":"+J559-Q559-R559-S559","v":44.420000000000023},{"$f":"+O559+O560+O561+O562+O563+O564+O565+O566","v":44.42},"RUP esecuzione",18.600000000000001,0.18,176.61,44.41,44.4,{"$f":"+J559-M559-Q559-R559-S559","v":0}]
[2019,1305,"195 del 12/11/2019","Z4F2A23A6C","Servizio di manutenzione degli impianti elevatori di Palazzo Spada e Palazzo Ossoli - (solo esecuzione)","2019-12-01","2022-11-30",19365,387.3,309.84000000000003,77.460000000000008,null,null,"Coll. RUP esecuzione",2.06,0.02]
[2019,1305,"195 del 12/11/2019","Z4F2A23A6C","Servizio di manutenzione degli impianti elevatori di Palazzo Spada e Palazzo Ossoli - (solo esecuzione)","2019-12-01","2022-11-30",19365,387.3,309.84000000000003,77.460000000000008,null,null,"Coll. RUP esecuzione",2.06,0.02]
[2019,1305,"195 del 12/11/2019","Z4F2A23A6C","Servizio di manutenzione degli impianti elevatori di Palazzo Spada e Palazzo Ossoli - (solo esecuzione)","2019-12-01","2022-11-30",19365,387.3,309.84000000000003,77.460000000000008,null,null,"DEC ",{"$f":"2.38*5","v":11.899999999999999},0.115]
[2019,1305,"195 del 12/11/2019","Z4F2A23A6C","Servizio di manutenzione degli impianti elevatori di Palazzo Spada e Palazzo Ossoli - (solo esecuzione)","2019-12-01","2022-11-30",19365,387.3,309.84000000000003,77.460000000000008,null,null,"Coll. DEC",2.3199999999999998,2.2499999999999999E-2]
[2019,1305,"195 del 12/11/2019","Z4F2A23A6C","Servizio di manutenzione degli impianti elevatori di Palazzo Spada e Palazzo Ossoli - (solo esecuzione)","2019-12-01","2022-11-30",19365,387.3,309.84000000000003,77.460000000000008,null,null,"Coll. DEC",2.3199999999999998,2.2499999999999999E-2]
[2019,1305,"195 del 12/11/2019","Z4F2A23A6C","Servizio di manutenzione degli impianti elevatori di Palazzo Spada e Palazzo Ossoli - (solo esecuzione)","2019-12-01","2022-11-30",19365,{"$f":"+H565*0.02","v":387.3},309.84000000000003,77.460000000000008,null,null,"Inc. Ver. Conf",3.6,3.5000000000000003E-2]
[2019,1305,"195 del 12/11/2019","Z4F2A23A6C","Servizio di manutenzione degli impianti elevatori di Palazzo Spada e Palazzo Ossoli - (solo esecuzione)","2019-12-01","2022-11-30",19365,{"$f":"+H566*0.02","v":387.3},{"$f":"+(I566)*0.8","v":309.84000000000003},{"$f":"+(I566)*0.2","v":77.460000000000008},null,null,"Coll. Inc Ver. Conf.",1.56,1.4999999999999999E-2]
[2022,1305,"21 del 07/02/2022","Z6D34F7B26","affidamento degli interventi di adeguamento ed ammodernamento dell’impianto ascensore installato presso Palazzo Spada","10 GG DALLA DATA DELL'AFFIDAMENTO",null,4460,{"$f":"+H567*0.02","v":89.2},{"$f":"+(I567)*0.8","v":71.36},{"$f":"+(I567)*0.2","v":17.84},{"$f":"+M567","v":71.36},71.36,"Incaricato programm.",{"$f":"+J567*P567","v":2.1408},0.03]
[2022,1305,"21 del 07/02/2022","Z6D34F7B26","affidamento degli interventi di adeguamento ed ammodernamento dell’impianto ascensore installato presso Palazzo Spada","10 GG DALLA DATA DELL'AFFIDAMENTO",null,4460,{"$f":"+H568*0.02","v":89.2},{"$f":"+(I568)*0.8","v":71.36},{"$f":"+(I568)*0.2","v":17.84},null,null,"Coll. Inc. prog.",{"$f":"+J568*P568","v":1.4272},0.02]
[2022,1305,"21 del 07/02/2022","Z6D34F7B26","affidamento degli interventi di adeguamento ed ammodernamento dell’impianto ascensore installato presso Palazzo Spada","10 GG DALLA DATA DELL'AFFIDAMENTO",null,4460,89.2,71.36,17.84,null,null,"Inc. Pred. Doc. ",{"$f":"+J569*P569","v":9.6336000000000013},0.13500000000000001]
[2022,1305,"21 del 07/02/2022","Z6D34F7B26","affidamento degli interventi di adeguamento ed ammodernamento dell’impianto ascensore installato presso Palazzo Spada","10 GG DALLA DATA DELL'AFFIDAMENTO",null,4460,89.2,71.36,17.84,null,null,"Coll. Inc. Pred.",{"$f":"+J570*P570","v":2.1408},0.03]
[2022,1305,"21 del 07/02/2022","Z6D34F7B26","affidamento degli interventi di adeguamento ed ammodernamento dell’impianto ascensore installato presso Palazzo Spada","10 GG DALLA DATA DELL'AFFIDAMENTO",null,4460,89.2,71.36,17.84,null,null,"RUP Affidamento",{"$f":"+J571*P571","v":20.694399999999998},0.28999999999999998]
[2022,1305,"21 del 07/02/2022","Z6D34F7B26","affidamento degli interventi di adeguamento ed ammodernamento dell’impianto ascensore installato presso Palazzo Spada","10 GG DALLA DATA DELL'AFFIDAMENTO",null,4460,89.2,71.36,17.84,null,null,"Coll. RUP Affidamento",{"$f":"+J572*P572","v":4.6383999999999999},6.5000000000000002E-2]
[2022,1305,"21 del 07/02/2022","Z6D34F7B26","affidamento degli interventi di adeguamento ed ammodernamento dell’impianto ascensore installato presso Palazzo Spada","10 GG DALLA DATA DELL'AFFIDAMENTO",null,4460,89.2,71.36,17.84,null,null,"RUP esecuzione",{"$f":"+J573*P573","v":12.844799999999999},0.18]
[2022,1305,"21 del 07/02/2022","Z6D34F7B26","affidamento degli interventi di adeguamento ed ammodernamento dell’impianto ascensore installato presso Palazzo Spada","10 GG DALLA DATA DELL'AFFIDAMENTO",null,4460,89.2,71.36,17.84,null,null,"Coll. RUP esecuzione",{"$f":"+J574*P574","v":1.4272},0.02]
[2022,1305,"21 del 07/02/2022","Z6D34F7B26","affidamento degli interventi di adeguamento ed ammodernamento dell’impianto ascensore installato presso Palazzo Spada","10 GG DALLA DATA DELL'AFFIDAMENTO",null,4460,89.2,71.36,17.84,null,null,"Coll. RUP esecuzione",{"$f":"+J575*P575","v":1.4272},0.02]
[2022,1305,"21 del 07/02/2022","Z6D34F7B26","affidamento degli interventi di adeguamento ed ammodernamento dell’impianto ascensore installato presso Palazzo Spada","10 GG DALLA DATA DELL'AFFIDAMENTO",null,4460,89.2,71.36,17.84,null,null,"DEC",{"$f":"+J576*P576","v":8.2064000000000004},0.115]
[2022,1305,"21 del 07/02/2022","Z6D34F7B26","affidamento degli interventi di adeguamento ed ammodernamento dell’impianto ascensore installato presso Palazzo Spada","10 GG DALLA DATA DELL'AFFIDAMENTO",null,4460,89.2,71.36,17.84,null,null,"Coll. DEC",{"$f":"+J577*P577","v":1.6055999999999999},2.2499999999999999E-2]
[2022,1305,"21 del 07/02/2022","Z6D34F7B26","affidamento degli interventi di adeguamento ed ammodernamento dell’impianto ascensore installato presso Palazzo Spada","10 GG DALLA DATA DELL'AFFIDAMENTO",null,4460,89.2,71.36,17.84,null,null,"Coll. DEC",{"$f":"+J578*P578","v":1.6055999999999999},2.2499999999999999E-2]
[2022,1305,"21 del 07/02/2022","Z6D34F7B26","affidamento degli interventi di adeguamento ed ammodernamento dell’impianto ascensore installato presso Palazzo Spada","10 GG DALLA DATA DELL'AFFIDAMENTO",null,4460,89.2,71.36,17.84,null,null,"Inc. Ver. Conf",{"$f":"+J579*P579","v":2.4976000000000003},3.5000000000000003E-2]
[2022,1305,"21 del 07/02/2022","Z6D34F7B26","affidamento degli interventi di adeguamento ed ammodernamento dell’impianto ascensore installato presso Palazzo Spada","10 GG DALLA DATA DELL'AFFIDAMENTO",null,4460,89.2,71.36,17.84,null,null,"Coll. Inc Ver. Conf.",1.06,1.4999999999999999E-2]
[2022,1305,"121 DEL 22/07/2022","933328566E","MANUTENZIONE ORDINARIA EDILE (SOLO AFFIDAMENTO)","2022-12-01","2024-11-30",827200,16544,{"$f":"+I581*0.8","v":13235.2},{"$f":"+I581-J581","v":3308.7999999999993},{"$f":"+M581","v":7544.0559999999996},{"$f":"+O581+O582+O586+O585+O584+O583+O587+O588+O589","v":7544.0559999999996},"Incaricato programm.",{"$f":"+J581*P581","v":397.05599999999998},0.03]
[2022,1305,"121 DEL 22/07/2022","933328566E","MANUTENZIONE ORDINARIA EDILE (SOLO AFFIDAMENTO)","2022-12-01","2024-11-30",827200,{"$f":"+H582*0.02","v":16544},{"$f":"+I582*0.8","v":13235.2},{"$f":"+I582-J582","v":3308.7999999999993},null,null,"Coll. Inc. prog.",{"$f":"+J582*P582","v":264.70400000000001},0.02]
[2022,1305,"121 DEL 22/07/2022","933328566E","MANUTENZIONE ORDINARIA EDILE (SOLO AFFIDAMENTO)","2022-12-01","2024-11-30",827200,16544,13235.2,3308.7999999999993,null,null,"Verificatore Progetto",{"$f":"+J583*P583","v":860.28800000000012},6.5000000000000002E-2]
[2022,1305,"121 DEL 22/07/2022","933328566E","MANUTENZIONE ORDINARIA EDILE (SOLO AFFIDAMENTO)","2022-12-01","2024-11-30",827200,16544,13235.2,3308.7999999999993,null,null,"Coll. Ver. Prog.",{"$f":"+J584*P584","v":198.52799999999999},1.4999999999999999E-2]
[2022,1305,"121 DEL 22/07/2022","933328566E","MANUTENZIONE ORDINARIA EDILE (SOLO AFFIDAMENTO)","2022-12-01","2024-11-30",827200,16544,13235.2,3308.7999999999993,null,null," Inc. Pred.",{"$f":"+J585*P585","v":1323.5200000000002},0.1]
[2022,1305,"121 DEL 22/07/2022","933328566E","MANUTENZIONE ORDINARIA EDILE (SOLO AFFIDAMENTO)","2022-12-01","2024-11-30",827200,16544,13235.2,3308.7999999999993,null,null,"Coll. Inc. Pred.",{"$f":"+J586*P586","v":198.52799999999999},1.4999999999999999E-2]
[2022,1305,"121 DEL 22/07/2022","933328566E","MANUTENZIONE ORDINARIA EDILE (SOLO AFFIDAMENTO)","2022-12-01","2024-11-30",827200,16544,13235.2,3308.7999999999993,null,null,"Coll. Inc. Pred.",{"$f":"+J587*P587","v":198.52799999999999},1.4999999999999999E-2]
[2022,1305,"121 DEL 22/07/2022","933328566E","MANUTENZIONE ORDINARIA EDILE (SOLO AFFIDAMENTO)","2022-12-01","2024-11-30",827200,16544,13235.2,3308.7999999999993,null,null,"RUP Affidamento",{"$f":"+J588*P588","v":3573.5040000000004},0.27]
[2022,1305,"121 DEL 22/07/2022","933328566E","MANUTENZIONE ORDINARIA EDILE (SOLO AFFIDAMENTO)","2022-12-01","2024-11-30",827200,16544,13235.2,3308.7999999999993,null,null,"Coll. RUP Affidamento",529.4,0.04]
[2020,1305,"140 del 20/8/2020",8407650444,"Manutenzione ordinaria aree a verde  (SOLO ESECUZIONE)","24 MESI DALLA STIPULA",null,149000,2980,{"$f":"+(I590)*0.8","v":2384},{"$f":"+(I590)*0.2","v":596},{"$f":"+J590-R590-S590","v":683.4899999999999},{"$f":"+O590+O596+O597+O598+O599+O591+O592+O593+O594+O595","v":341.71333333333331},"RUP esecuzione",{"$f":"+(J590*P590)/3","v":143.04},0.18,null,1358.88,341.63,{"$f":"+J590-M590-R590-S590","v":341.77666666666653}]
[2020,1305,"140 del 20/8/2020",8407650444,"Manutenzione ordinaria aree a verde  (SOLO ESECUZIONE)","24 MESI DALLA STIPULA",null,149000,2980,2384,596,null,null,"Coll. RUP esecuzione",10.6,1.3299999999999999E-2]
[2020,1305,"140 del 20/8/2020",8407650444,"Manutenzione ordinaria aree a verde  (SOLO ESECUZIONE)","24 MESI DALLA STIPULA",null,149000,2980,2384,596,null,null,"Coll. RUP esecuzione",10.6,1.3299999999999999E-2]
[2020,1305,"140 del 20/8/2020",8407650444,"Manutenzione ordinaria aree a verde  (SOLO ESECUZIONE)","24 MESI DALLA STIPULA",null,149000,2980,2384,596,null,null,"Coll. RUP esecuzione",10.6,1.3299999999999999E-2]
[2020,1305,"140 del 20/8/2020",8407650444,"Manutenzione ordinaria aree a verde  (SOLO ESECUZIONE)","24 MESI DALLA STIPULA",null,149000,2980,2384,596,null,null,"DEC",91.38,0.115]
[2020,1305,"140 del 20/8/2020",8407650444,"Manutenzione ordinaria aree a verde  (SOLO ESECUZIONE)","24 MESI DALLA STIPULA",null,149000,2980,2384,596,null,null,"Coll. DEC",{"$f":"+(J595*P595)/3","v":11.92},1.4999999999999999E-2]
[2020,1305,"140 del 20/8/2020",8407650444,"Manutenzione ordinaria aree a verde  (SOLO ESECUZIONE)","24 MESI DALLA STIPULA",null,149000,2980,2384,596,null,null,"Coll. DEC",{"$f":"+(J596*P596)/3","v":11.92},1.4999999999999999E-2]
[2020,1305,"140 del 20/8/2020",8407650444,"Manutenzione ordinaria aree a verde  (SOLO ESECUZIONE)","24 MESI DALLA STIPULA",null,149000,2980,2384,596,null,null,"Coll. DEC",{"$f":"+(J597*P597)/3","v":11.92},1.4999999999999999E-2]
[2020,1305,"140 del 20/8/2020",8407650444,"Manutenzione ordinaria aree a verde  (SOLO ESECUZIONE)","24 MESI DALLA STIPULA",null,149000,2980,2384,596,null,null,"INC. VER. CONFORMITA'",{"$f":"+(J598*P598)/3","v":27.813333333333336},3.5000000000000003E-2]
[2020,1305,"140 del 20/8/2020",8407650444,"Manutenzione ordinaria aree a verde  (SOLO ESECUZIONE)","24 MESI DALLA STIPULA",null,149000,2980,2384,596,null,null,"Coll. Inc. Ver. Conf",{"$f":"+(J599*P599)/3","v":11.92},1.4999999999999999E-2]
[2020,1305,"124 del 14/7/2020","83705994D0","Manutenzione impianti elettrici (SOLO ESECUZIONE)","2021-01-01","2022-12-31",685750,{"$f":"+H600*0.02","v":13715},10972,2743,{"$f":"+J600-S600","v":4718.87},{"$f":"+O600+O601+O602+O603+O604+O605+O606","v":3367.9100000000003},"RUP esecuzione",1174.8499999999999,0.15,null,null,6253.13,{"$f":"+J600-Q600-R600-M600-S600","v":1350.96}]
[2020,1305,"124 del 14/7/2020","83705994D0","Manutenzione impianti elettrici (SOLO ESECUZIONE)","2021-01-01","2022-12-31",685750,{"$f":"+H601*0.02","v":13715},10972,2743,null,null,"Coll. RUP esecuzione",156.65,0.02]
[2020,1305,"124 del 14/7/2020","83705994D0","Manutenzione impianti elettrici (SOLO ESECUZIONE)","2021-01-01","2022-12-31",685750,13715,10972,2743,null,null,"Coll. RUP esecuzione",156.65,0.02]
[2020,1305,"124 del 14/7/2020","83705994D0","Manutenzione impianti elettrici (SOLO ESECUZIONE)","2021-01-01","2022-12-31",685750,13715,10972,2743,null,null,"Direttore Lavori",900.72,0.115]
[2020,1305,"124 del 14/7/2020","83705994D0","Manutenzione impianti elettrici (SOLO ESECUZIONE)","2021-01-01","2022-12-31",685750,13715,10972,2743,null,null,"Coll. D.l.",274.13,3.5000000000000003E-2]
[2020,1305,"124 del 14/7/2020","83705994D0","Manutenzione impianti elettrici (SOLO ESECUZIONE)","2021-01-01","2022-12-31",685750,13715,10972,2743,null,null,"Collaudatore",548.26,7.0000000000000007E-2]
[2020,1305,"124 del 14/7/2020","83705994D0","Manutenzione impianti elettrici (SOLO ESECUZIONE)","2021-01-01","2022-12-31",685750,13715,10972,2743,null,null,"Coll. Collaudatore",156.65,0.02]
[2022,1305,"136 del 5/9/2022",9386991606,"Impianti elettrici (solo affidamento)",null,null,585273,{"$f":"+H607*0.02","v":11705.460000000001},9364.3680000000004,2341.0920000000001,{"$f":"+J607","v":9364.3680000000004},{"$f":"+O607+O608+O609+O610+O611+O612+O613+O614","v":5337.6897600000002},"Incaricato programm.",{"$f":"+J607*P607","v":280.93104},0.03,null,null,null,{"$f":"+J607-Q607-R607-M607","v":4026.6782400000002}]
[2022,1305,"136 del 5/9/2022",9386991606,"Impianti elettrici (solo affidamento)",null,null,585273,{"$f":"+H608*0.02","v":11705.460000000001},{"$f":"+(I608)*0.8","v":9364.3680000000004},{"$f":"+(I608)*0.2","v":2341.0920000000001},null,null,"Coll. Inc. prog.",{"$f":"+J608*P608","v":187.28736000000001},0.02]
[2022,1305,"136 del 5/9/2022",9386991606,"Impianti elettrici (solo affidamento)",null,null,585273,11705.460000000001,9364.3680000000004,2341.0920000000001,null,null,"Inc. Pred. Doc. ",{"$f":"+J609*P609","v":936.43680000000006},0.1]
[2022,1305,"136 del 5/9/2022",9386991606,"Impianti elettrici (solo affidamento)",null,null,585273,11705.460000000001,9364.3680000000004,2341.0920000000001,null,null,"Coll. Inc. Pred.",{"$f":"+J610*P610","v":280.93104},0.03]
[2022,1305,"136 del 5/9/2022",9386991606,"Impianti elettrici (solo affidamento)",null,null,585273,11705.460000000001,9364.3680000000004,2341.0920000000001,null,null,"Verificatore Prog.",{"$f":"+J611*P611","v":608.68392000000006},6.5000000000000002E-2]
[2022,1305,"136 del 5/9/2022",9386991606,"Impianti elettrici (solo affidamento)",null,null,585273,11705.460000000001,9364.3680000000004,2341.0920000000001,null,null,"Coll. Ver. Prog.",{"$f":"+J612*P612","v":140.46552},1.4999999999999999E-2]
[2022,1305,"136 del 5/9/2022",9386991606,"Impianti elettrici (solo affidamento)",null,null,585273,11705.460000000001,9364.3680000000004,2341.0920000000001,null,null,"RUP Affidamento",{"$f":"+J613*P613","v":2528.3793600000004},0.27]
[2022,1305,"136 del 5/9/2022",9386991606,"Impianti elettrici (solo affidamento)",null,null,585273,11705.460000000001,9364.3680000000004,2341.0920000000001,null,null,"Coll. RUP Affidamento",{"$f":"+J614*P614","v":374.57472000000001},0.04]
[2022,3301,"154 DEL 30/09/2022","ZA437F66E4","Fornitura di n. 6 Fuel card ",null,null,36000,{"$f":"+H615*0.02","v":720},{"$f":"+(I615)*0.8","v":576},{"$f":"+(I615)*0.2","v":144},{"$f":"+J615","v":576},{"$f":"+O615+O616+O617+O618+O619+O620","v":290.88},"Incaricato programm.",{"$f":"+J615*P615","v":28.8},0.05,null,null,null,{"$f":"+J615-Q615-R615-M615","v":285.12}]
[2022,3301,"154 DEL 30/09/2022","ZA437F66E4","Fornitura di n. 6 Fuel card ",null,null,36000,{"$f":"+H616*0.02","v":720},{"$f":"+(I616)*0.8","v":576},{"$f":"+(I616)*0.2","v":144},null,null,"Coll. Inc. prog.",{"$f":"+J616*P616","v":17.28},0.03]
[2022,3301,"154 DEL 30/09/2022","ZA437F66E4","Fornitura di n. 6 Fuel card ",null,null,36000,720,576,144,null,null,"Inc. Pred. Doc. ",{"$f":"+J617*P617","v":69.12},0.12]
[2022,3301,"154 DEL 30/09/2022","ZA437F66E4","Fornitura di n. 6 Fuel card ",null,null,36000,720,576,144,null,null,"Coll. Inc. Pred.",{"$f":"+J618*P618","v":43.199999999999996},7.4999999999999997E-2]
[2022,3301,"154 DEL 30/09/2022","ZA437F66E4","Fornitura di n. 6 Fuel card ",null,null,36000,720,576,144,null,null,"RUP Affidamento",{"$f":"+J619*P619","v":86.399999999999991},0.15]
[2022,3301,"154 DEL 30/09/2022","ZA437F66E4","Fornitura di n. 6 Fuel card ",null,null,36000,720,576,144,null,null,"Coll. RUP Affidamento",{"$f":"+J620*P620","v":46.08},0.08]
[2022,3301,"162 del 17/10/2022","Z64382D3D4","affidamento della fornitura di cancelleria varia per le esigenze degli uffici del Consiglio di Stato",null,null,25000,500,400,100,{"$f":"+J621","v":400},{"$f":"+O621+O631+O632+O633+O634+O622+O623+O624+O625+O626+O627+O628+O629+O630","v":400}," Inc. prog.",{"$f":"+J621*P621","v":12},0.03]
[2022,3301,"162 del 17/10/2022","Z64382D3D4","affidamento della fornitura di cancelleria varia per le esigenze degli uffici del Consiglio di Stato",null,null,25000,{"$f":"+H622*0.02","v":500},{"$f":"+(I622)*0.8","v":400},{"$f":"+(I622)*0.2","v":100},null,null,"Coll. Inc. prog.",{"$f":"+J622*P622","v":8},0.02]
[2022,3301,"162 del 17/10/2022","Z64382D3D4","affidamento della fornitura di cancelleria varia per le esigenze degli uffici del Consiglio di Stato",null,null,25000,500,400,100,null,null,"Inc. Pred. Doc. ",{"$f":"+J623*P623","v":54},0.13500000000000001]
[2022,3301,"162 del 17/10/2022","Z64382D3D4","affidamento della fornitura di cancelleria varia per le esigenze degli uffici del Consiglio di Stato",null,null,25000,500,400,100,null,null,"Coll. Inc. Pred.",{"$f":"+J624*P624","v":12},0.03]
[2022,3301,"162 del 17/10/2022","Z64382D3D4","affidamento della fornitura di cancelleria varia per le esigenze degli uffici del Consiglio di Stato",null,null,25000,500,400,100,null,null,"RUP Affidamento",{"$f":"+J625*P625","v":115.99999999999999},0.28999999999999998]
[2022,3301,"162 del 17/10/2022","Z64382D3D4","affidamento della fornitura di cancelleria varia per le esigenze degli uffici del Consiglio di Stato",null,null,25000,500,400,100,null,null,"Coll. RUP Affidamento",{"$f":"+J626*P626","v":26},6.5000000000000002E-2]
[2022,3301,"162 del 17/10/2022","Z64382D3D4","affidamento della fornitura di cancelleria varia per le esigenze degli uffici del Consiglio di Stato",null,null,25000,500,400,100,null,null,"RUP esecuzione",{"$f":"+J627*P627","v":72},0.18]
[2022,3301,"162 del 17/10/2022","Z64382D3D4","affidamento della fornitura di cancelleria varia per le esigenze degli uffici del Consiglio di Stato",null,null,25000,500,400,100,null,null,"Coll. RUP esecuzione",{"$f":"+J628*P628","v":8},0.02]
[2022,3301,"162 del 17/10/2022","Z64382D3D4","affidamento della fornitura di cancelleria varia per le esigenze degli uffici del Consiglio di Stato",null,null,25000,500,400,100,null,null,"Coll. RUP esecuzione",{"$f":"+J629*P629","v":8},0.02]
[2022,3301,"162 del 17/10/2022","Z64382D3D4","affidamento della fornitura di cancelleria varia per le esigenze degli uffici del Consiglio di Stato",null,null,25000,500,400,100,null,null,"DEC",{"$f":"+J630*P630","v":46},0.115]
[2022,3301,"162 del 17/10/2022","Z64382D3D4","affidamento della fornitura di cancelleria varia per le esigenze degli uffici del Consiglio di Stato",null,null,25000,500,400,100,null,null,"Coll. DEC",{"$f":"+J631*P631","v":9},2.2499999999999999E-2]
[2022,3301,"162 del 17/10/2022","Z64382D3D4","affidamento della fornitura di cancelleria varia per le esigenze degli uffici del Consiglio di Stato",null,null,25000,500,400,100,null,null,"Coll. DEC",{"$f":"+J632*P632","v":9},2.2499999999999999E-2]
[2022,3301,"162 del 17/10/2022","Z64382D3D4","affidamento della fornitura di cancelleria varia per le esigenze degli uffici del Consiglio di Stato",null,null,25000,500,400,100,null,null,"Inc. Ver. Conf",{"$f":"+J633*P633","v":14.000000000000002},3.5000000000000003E-2]
[2022,3301,"162 del 17/10/2022","Z64382D3D4","affidamento della fornitura di cancelleria varia per le esigenze degli uffici del Consiglio di Stato",null,null,25000,500,400,100,null,null,"Coll. Inc Ver. Conf.",{"$f":"+J634*P634","v":6},1.4999999999999999E-2]
[2022,3301,"66 DEL 04/05/2022","ZCB363F68A ","affidamento della fornitura di buste per le esigenze degli Uffici del Consiglio di Stato",null,null,15000,{"$f":"+H635*0.02","v":300},{"$f":"+(I635)*0.8","v":240},{"$f":"+(I635)*0.2","v":60},{"$f":"+J635","v":240},{"$f":"+O635+O645+O646+O647+O648+O636+O637+O638+O639+O640+O641+O642+O643+O644","v":240},"Incaricato programm.",{"$f":"+J635*P635","v":7.1999999999999993},0.03]
[2022,3301,"66 DEL 04/05/2022","ZCB363F68A ","affidamento della fornitura di buste per le esigenze degli Uffici del Consiglio di Stato",null,null,15000,{"$f":"+H636*0.02","v":300},{"$f":"+(I636)*0.8","v":240},{"$f":"+(I636)*0.2","v":60},null,null,"Coll. Inc. prog.",{"$f":"+J636*P636","v":4.8},0.02]
[2022,3301,"66 DEL 04/05/2022","ZCB363F68A ","affidamento della fornitura di buste per le esigenze degli Uffici del Consiglio di Stato",null,null,15000,300,240,60,null,null,"Inc. Pred. Doc. ",{"$f":"+J637*P637","v":32.400000000000006},0.13500000000000001]
[2022,3301,"66 DEL 04/05/2022","ZCB363F68A ","affidamento della fornitura di buste per le esigenze degli Uffici del Consiglio di Stato",null,null,15000,300,240,60,null,null,"Coll. Inc. Pred.",{"$f":"+J638*P638","v":7.1999999999999993},0.03]
[2022,3301,"66 DEL 04/05/2022","ZCB363F68A ","affidamento della fornitura di buste per le esigenze degli Uffici del Consiglio di Stato",null,null,15000,300,240,60,null,null,"RUP Affidamento",{"$f":"+J639*P639","v":69.599999999999994},0.28999999999999998]
[2022,3301,"66 DEL 04/05/2022","ZCB363F68A ","affidamento della fornitura di buste per le esigenze degli Uffici del Consiglio di Stato",null,null,15000,300,240,60,null,null,"Coll. RUP Affidamento",{"$f":"+J640*P640","v":15.600000000000001},6.5000000000000002E-2]
[2022,3301,"66 DEL 04/05/2022","ZCB363F68A ","affidamento della fornitura di buste per le esigenze degli Uffici del Consiglio di Stato",null,null,15000,300,240,60,null,null,"RUP esecuzione",{"$f":"+J641*P641","v":43.199999999999996},0.18]
[2022,3301,"66 DEL 04/05/2022","ZCB363F68A ","affidamento della fornitura di buste per le esigenze degli Uffici del Consiglio di Stato",null,null,15000,300,240,60,null,null,"Coll. RUP esecuzione",{"$f":"+J642*P642","v":4.8},0.02]
[2022,3301,"66 DEL 04/05/2022","ZCB363F68A ","affidamento della fornitura di buste per le esigenze degli Uffici del Consiglio di Stato",null,null,15000,300,240,60,null,null,"Coll. RUP esecuzione",{"$f":"+J643*P643","v":4.8},0.02]
[2022,3301,"66 DEL 04/05/2022","ZCB363F68A ","affidamento della fornitura di buste per le esigenze degli Uffici del Consiglio di Stato",null,null,15000,300,240,60,null,null,"DEC",{"$f":"+J644*P644","v":27.6},0.115]
[2022,3301,"66 DEL 04/05/2022","ZCB363F68A ","affidamento della fornitura di buste per le esigenze degli Uffici del Consiglio di Stato",null,null,15000,300,240,60,null,null,"Coll. DEC",{"$f":"+J645*P645","v":5.3999999999999995},2.2499999999999999E-2]
[2022,3301,"66 DEL 04/05/2022","ZCB363F68A ","affidamento della fornitura di buste per le esigenze degli Uffici del Consiglio di Stato",null,null,15000,300,240,60,null,null,"Coll. DEC",{"$f":"+J646*P646","v":5.3999999999999995},2.2499999999999999E-2]
[2022,3301,"66 DEL 04/05/2022","ZCB363F68A ","affidamento della fornitura di buste per le esigenze degli Uffici del Consiglio di Stato",null,null,15000,300,240,60,null,null,"Inc. Ver. Conf",{"$f":"+J647*P647","v":8.4},3.5000000000000003E-2]
[2022,3301,"66 DEL 04/05/2022","ZCB363F68A ","affidamento della fornitura di buste per le esigenze degli Uffici del Consiglio di Stato",null,null,15000,300,240,60,null,null,"Coll. Inc Ver. Conf.",{"$f":"+J648*P648","v":3.5999999999999996},1.4999999999999999E-2]
[2021,3301,"100 DEL 26/07/2021","ZC1329346F","Acquisto divise (solo esecuzione)",null,null,11550,{"$f":"+H649*0.02","v":231},{"$f":"+(I649)*0.8","v":184.8},{"$f":"+(I649)*0.2","v":46.2},79.459999999999994,79.459999999999994,"RUP esecuzione",{"$f":"+J649*P649","v":33.264000000000003},0.18,null,null,105.34,{"$f":"+J649-M649-S649","v":0}]
[2021,3301,"100 DEL 26/07/2021","ZC1329346F","Acquisto divise (solo esecuzione)",null,null,11550,231,{"$f":"+(I650)*0.8","v":184.8},{"$f":"+(I650)*0.2","v":46.2},null,null,"Coll. RUP esecuzione",{"$f":"+J650*P650","v":3.6960000000000002},0.02]
[2021,3301,"100 DEL 26/07/2021","ZC1329346F","Acquisto divise (solo esecuzione)",null,null,11550,{"$f":"+H651*0.02","v":231},{"$f":"+(I651)*0.8","v":184.8},{"$f":"+(I651)*0.2","v":46.2},null,null,"Coll. RUP esecuzione",{"$f":"+J651*P651","v":3.6960000000000002},0.02]
[2021,3301,"100 DEL 26/07/2021","ZC1329346F","Acquisto divise (solo esecuzione)",null,null,11550,231,184.8,46.2,null,null,"DEC ",{"$f":"+J652*P652","v":21.252000000000002},0.115]
[2021,3301,"100 DEL 26/07/2021","ZC1329346F","Acquisto divise (solo esecuzione)",null,null,11550,231,184.8,46.2,null,null,"Coll. DEC",{"$f":"+J653*P653","v":4.1580000000000004},2.2499999999999999E-2]
[2021,3301,"100 DEL 26/07/2021","ZC1329346F","Acquisto divise (solo esecuzione)",null,null,11550,231,184.8,46.2,null,null,"Coll. DEC",{"$f":"+J654*P654","v":4.1580000000000004},2.2499999999999999E-2]
[2021,3301,"100 DEL 26/07/2021","ZC1329346F","Acquisto divise (solo esecuzione)",null,null,11550,231,184.8,46.2,null,null,"Incaricato ver. conf.",{"$f":"+J655*P655","v":6.4680000000000009},3.5000000000000003E-2]
[2021,3301,"100 DEL 26/07/2021","ZC1329346F","Acquisto divise (solo esecuzione)",null,null,11550,231,184.8,46.2,null,null,"Coll. Inc. Ver. Conf",2.76,1.4999999999999999E-2]
[2022,1257,"165 del 19/10/2022 (rett.)",9434743439,"BUONI PASTO LOTTO 1",null,null,13172.28,263.44560000000001,210.75648000000001,52.689120000000003,{"$f":"+M657","v":89.571504000000004},{"$f":"+O657+O658+O659+O660","v":89.571504000000004},"Inc. Pred. Doc",{"$f":"+J657*P657","v":25.290777600000002},0.12]
[2022,1257,"165 del 19/10/2022 (rett.)",9434743439,"BUONI PASTO LOTTO 1",null,null,13172.28,263.44560000000001,{"$f":"+(I658)*0.8","v":210.75648000000001},{"$f":"+(I658)*0.2","v":52.689120000000003},null,null,"Coll. Inc. Pred. Doc",{"$f":"+J658*P658","v":15.806736000000001},7.4999999999999997E-2]
[2022,1257,"165 del 19/10/2022 (rett.)",9434743439,"BUONI PASTO LOTTO 1",null,null,13172.28,263.44560000000001,{"$f":"+(I659)*0.8","v":210.75648000000001},{"$f":"+(I659)*0.2","v":52.689120000000003},null,null,"RUP Affidamento",{"$f":"+J659*P659","v":31.613472000000002},0.15]
[2022,1257,"165 del 19/10/2022 (rett.)",9434743439,"BUONI PASTO LOTTO 1",null,null,13172.28,{"$f":"+H660*0.02","v":263.44560000000001},210.75648000000001,52.689120000000003,null,null,"Coll RUP Aff.",{"$f":"+J660*P660","v":16.8605184},0.08]
[2022,1257,"165 del 19/10/2022 (rett.)",9434801416,"BUONI PASTO LOTTO 3",null,null,10958.64,219.1728,{"$f":"+(I661)*0.8","v":175.33824000000001},{"$f":"+(I661)*0.2","v":43.834560000000003},{"$f":"+M661","v":74.518752000000006},{"$f":"+O661+O662+O663+O664","v":74.518752000000006},"Inc. Pred. Doc",{"$f":"+J661*P661","v":21.040588800000002},0.12]
[2022,1257,"165 del 19/10/2022 (rett.)",9434801416,"BUONI PASTO LOTTO 3",null,null,10958.64,219.1728,{"$f":"+(I662)*0.8","v":175.33824000000001},{"$f":"+(I662)*0.2","v":43.834560000000003},null,null,"Coll. Inc. Pred. Doc",{"$f":"+J662*P662","v":13.150368},7.4999999999999997E-2]
[2022,1257,"165 del 19/10/2022 (rett.)",9434801416,"BUONI PASTO LOTTO 3",null,null,10958.64,{"$f":"+H663*0.02","v":219.1728},{"$f":"+(I663)*0.8","v":175.33824000000001},{"$f":"+(I663)*0.2","v":43.834560000000003},null,null,"RUP Affidamento",{"$f":"+J663*P663","v":26.300736000000001},0.15]
[2022,1257,"165 del 19/10/2022 (rett.)",9434801416,"BUONI PASTO LOTTO 3",null,null,10958.64,219.1728,175.33824000000001,43.834560000000003,null,null,"Coll RUP Aff.",{"$f":"+J664*P664","v":14.027059200000002},0.08]
[2022,1257,"165 del 19/10/2022 (rett.)","94348268b6","BUONI PASTO LOTTO 4",null,null,5562.48,111.24959999999999,88.999679999999998,22.249919999999999,{"$f":"+M665","v":37.824864000000005},{"$f":"+O665++O666+O667+O668","v":37.824864000000005},"Inc. Pred. Doc",{"$f":"+J665*P665","v":10.679961599999999},0.12]
[2022,1257,"165 del 19/10/2022 (rett.)","94348268b6","BUONI PASTO LOTTO 4",null,null,5562.48,{"$f":"+H666*0.02","v":111.24959999999999},{"$f":"+(I666)*0.8","v":88.999679999999998},{"$f":"+(I666)*0.2","v":22.249919999999999},null,null,"Coll. Inc. Pred. Doc",{"$f":"+J666*P666","v":6.674976},7.4999999999999997E-2]
[2022,1257,"165 del 19/10/2022 (rett.)","94348268b6","BUONI PASTO LOTTO 4",null,null,5562.48,{"$f":"+H667*0.02","v":111.24959999999999},{"$f":"+(I667)*0.8","v":88.999679999999998},{"$f":"+(I667)*0.2","v":22.249919999999999},null,null,"RUP Affidamento",{"$f":"+J667*P667","v":13.349952},0.15]
[2022,1257,"165 del 19/10/2022 (rett.)","94348268b6","BUONI PASTO LOTTO 4",null,null,5562.48,111.24959999999999,88.999679999999998,22.249919999999999,null,null,"Coll RUP Aff.",{"$f":"+J668*P668","v":7.1199744000000003},0.08]
[2022,1257,"165 del 19/10/2022 (rett.)","9435260EDA","BUONI PASTO LOTTO 5",null,null,4474.3999999999996,89.48,{"$f":"+(I669)*0.8","v":71.584000000000003},{"$f":"+(I669)*0.2","v":17.896000000000001},{"$f":"+M669","v":30.41648},{"$f":"+O669+O670+O671+O672","v":30.41648},"Inc. Pred. Doc",{"$f":"+J669*P669","v":8.5900800000000004},0.12]
[2022,1257,"165 del 19/10/2022 (rett.)","9435260EDA","BUONI PASTO LOTTO 5",null,null,4474.3999999999996,89.48,{"$f":"+(I670)*0.8","v":71.584000000000003},{"$f":"+(I670)*0.2","v":17.896000000000001},null,null,"Coll. Inc. Pred. Doc",{"$f":"+J670*P670","v":5.3688000000000002},7.4999999999999997E-2]
[2022,1257,"165 del 19/10/2022 (rett.)","9435260EDA","BUONI PASTO LOTTO 5",null,null,4474.3999999999996,89.48,{"$f":"+(I671)*0.8","v":71.584000000000003},{"$f":"+(I671)*0.2","v":17.896000000000001},null,null,"RUP Affidamento",{"$f":"+J671*P671","v":10.7376},0.15]
[2022,1257,"165 del 19/10/2022 (rett.)","9435260EDA","BUONI PASTO LOTTO 5",null,null,4474.3999999999996,89.48,71.584000000000003,17.896000000000001,null,null,"Coll RUP Aff.",5.72,0.08]
[2022,1257,"165 del 19/10/2022 (rett.)",9435286452,"BUONI PASTO LOTTO 6",null,null,5252.74,{"$f":"+H673*0.02","v":105.0548},84.043840000000003,21.010960000000001,{"$f":"+M673","v":35.718631999999999},{"$f":"+O673+O674+O675+O676","v":35.718631999999999},"Inc. Pred. Doc",{"$f":"+J673*P673","v":10.0852608},0.12]
[2022,1257,"165 del 19/10/2022 (rett.)",9435286452,"BUONI PASTO LOTTO 6",null,null,5252.74,105.0548,84.043840000000003,21.010960000000001,null,null,"Coll. Inc. Pred. Doc",{"$f":"+J674*P674","v":6.3032880000000002},7.4999999999999997E-2]
[2022,1257,"165 del 19/10/2022 (rett.)",9435286452,"BUONI PASTO LOTTO 6",null,null,5252.74,105.0548,84.043840000000003,{"$f":"+(I675)*0.2","v":21.010960000000001},null,null,"RUP Affidamento",{"$f":"+J675*P675","v":12.606576},0.15]
[2022,1257,"165 del 19/10/2022 (rett.)",9435286452,"BUONI PASTO LOTTO 6",null,null,5252.74,105.0548,84.043840000000003,21.010960000000001,null,null,"Coll RUP Aff.",{"$f":"+J676*P676","v":6.7235072000000002},0.08]
[2022,1257,"165 del 19/10/2022 (rett.)","9435319F8A","BUONI PASTO LOTTO 7",null,null,116659.84,{"$f":"+H677*1.9/100","v":2216.5369599999999},1773.229568,443.30739199999999,{"$f":"+M677","v":753.6225664000001},{"$f":"+O677++O679+O680+O678","v":753.6225664000001},"Inc. Pred. Doc",{"$f":"+J677*P677","v":212.78754816},0.12]
[2022,1257,"165 del 19/10/2022 (rett.)","9435319F8A","BUONI PASTO LOTTO 7",null,null,116659.84,{"$f":"+H678*1.9/100","v":2216.5369599999999},{"$f":"+(I678)*0.8","v":1773.229568},{"$f":"+(I678)*0.2","v":443.30739199999999},null,null,"Coll. Inc. Pred. Doc",{"$f":"+J678*P678","v":132.9922176},7.4999999999999997E-2]
[2022,1257,"165 del 19/10/2022 (rett.)","9435319F8A","BUONI PASTO LOTTO 7",null,null,116659.84,2216.5369599999999,1773.229568,443.30739199999999,null,null,"RUP Affidamento",{"$f":"+J679*P679","v":265.98443520000001},0.15]
[2022,1257,"165 del 19/10/2022 (rett.)","9435319F8A","BUONI PASTO LOTTO 7",null,null,116659.84,2216.5369599999999,1773.229568,443.30739199999999,null,null,"Coll RUP Aff.",{"$f":"+J680*P680","v":141.85836544},0.08]
[2022,1257,"165 del 19/10/2022 (rett.)","9435353B9A","BUONI PASTO LOTTO 8",null,null,8193.2800000000007,{"$f":"+H681*0.02","v":163.86560000000003},{"$f":"+(I681)*0.8","v":131.09248000000002},{"$f":"+(I681)*0.2","v":32.773120000000006},{"$f":"+M681","v":55.714304000000006},{"$f":"+O681+O683+O684+O682","v":55.714304000000006},"Inc. Pred. Doc",{"$f":"+J681*P681","v":15.731097600000002},0.12]
[2022,1257,"165 del 19/10/2022 (rett.)","9435353B9A","BUONI PASTO LOTTO 8",null,null,8193.2800000000007,{"$f":"+H682*0.02","v":163.86560000000003},{"$f":"+(I682)*0.8","v":131.09248000000002},{"$f":"+(I682)*0.2","v":32.773120000000006},null,null,"Coll. Inc. Pred. Doc",{"$f":"+J682*P682","v":9.8319360000000007},7.4999999999999997E-2]
[2022,1257,"165 del 19/10/2022 (rett.)","9435353B9A","BUONI PASTO LOTTO 8",null,null,8193.2800000000007,163.86560000000003,131.09248000000002,32.773120000000006,null,null,"RUP Affidamento",{"$f":"+J683*P683","v":19.663872000000001},0.15]
[2022,1257,"165 del 19/10/2022 (rett.)","9435353B9A","BUONI PASTO LOTTO 8",null,null,8193.2800000000007,163.86560000000003,131.09248000000002,32.773120000000006,null,null,"Coll RUP Aff.",{"$f":"+J684*P684","v":10.487398400000002},0.08]
[2022,1257,"165 del 19/10/2022 (rett.)","943727802D","BUONI PASTO LOTTO 10",null,null,15363.04,{"$f":"+H685*0.02","v":307.26080000000002},{"$f":"+(I685)*0.8","v":245.80864000000003},{"$f":"+(I685)*0.2","v":61.452160000000006},{"$f":"+M685","v":104.46867200000001},{"$f":"+O685+O687+O688+O686","v":104.46867200000001},"Inc. Pred. Doc",{"$f":"+J685*P685","v":29.497036800000004},0.12]
[2022,1257,"165 del 19/10/2022 (rett.)","943727802D","BUONI PASTO LOTTO 10",null,null,15363.04,{"$f":"+H686*0.02","v":307.26080000000002},{"$f":"+(I686)*0.8","v":245.80864000000003},{"$f":"+(I686)*0.2","v":61.452160000000006},null,null,"Coll. Inc. Pred. Doc",{"$f":"+J686*P686","v":18.435648},7.4999999999999997E-2]
[2022,1257,"165 del 19/10/2022 (rett.)","943727802D","BUONI PASTO LOTTO 10",null,null,15363.04,307.26080000000002,245.80864000000003,61.452160000000006,null,null,"RUP Affidamento",{"$f":"+J687*P687","v":36.871296000000001},0.15]
[2022,1257,"165 del 19/10/2022 (rett.)","943727802D","BUONI PASTO LOTTO 10",null,null,15363.04,307.26080000000002,245.80864000000003,61.452160000000006,null,null,"Coll RUP Aff.",{"$f":"+J688*P688","v":19.664691200000004},0.08]
[2022,1257,"165 del 19/10/2022 (rett.)","94372855F2","BUONI PASTO LOTTO 11",null,null,6326.32,{"$f":"+H689*0.02","v":126.5264},{"$f":"+(I689)*0.8","v":101.22112},{"$f":"+(I689)*0.2","v":25.30528},{"$f":"+M689","v":43.018975999999995},{"$f":"+O689+O691+O692+O690","v":43.018975999999995},"Inc. Pred. Doc",{"$f":"+J689*P689","v":12.1465344},0.12]
[2022,1257,"165 del 19/10/2022 (rett.)","94372855F2","BUONI PASTO LOTTO 11",null,null,6326.32,{"$f":"+H690*0.02","v":126.5264},{"$f":"+(I690)*0.8","v":101.22112},{"$f":"+(I690)*0.2","v":25.30528},null,null,"Coll. Inc. Pred. Doc",{"$f":"+J690*P690","v":7.5915839999999992},7.4999999999999997E-2]
[2022,1257,"165 del 19/10/2022 (rett.)","94372855F2","BUONI PASTO LOTTO 11",null,null,6326.32,126.5264,101.22112,25.30528,null,null,"RUP Affidamento",{"$f":"+J691*P691","v":15.183167999999998},0.15]
[2022,1257,"165 del 19/10/2022 (rett.)","94372855F2","BUONI PASTO LOTTO 11",null,null,6326.32,126.5264,101.22112,25.30528,null,null,"Coll RUP Aff.",{"$f":"+J692*P692","v":8.0976896000000007},0.08]
[2022,1257,"165 del 19/10/2022 (rett.)",9437301327,"BUONI PASTO LOTTO 12",null,null,12218.58,{"$f":"+H693*0.02","v":244.3716},{"$f":"+(I693)*0.8","v":195.49728000000002},{"$f":"+(I693)*0.2","v":48.874320000000004},{"$f":"+M693","v":83.08},83.08,"Inc. Pred. Doc",{"$f":"+J693*P693","v":23.459673600000002},0.12]
[2022,1257,"165 del 19/10/2022 (rett.)",9437301327,"BUONI PASTO LOTTO 12",null,null,12218.58,{"$f":"+H694*0.02","v":244.3716},{"$f":"+(I694)*0.8","v":195.49728000000002},{"$f":"+(I694)*0.2","v":48.874320000000004},null,null,"Coll. Inc. Pred. Doc",{"$f":"+J694*P694","v":14.662296000000001},7.4999999999999997E-2]
[2022,1257,"165 del 19/10/2022 (rett.)",9437301327,"BUONI PASTO LOTTO 12",null,null,12218.58,244.3716,195.49728000000002,48.874320000000004,null,null,"RUP Affidamento",{"$f":"+J695*P695","v":29.324592000000003},0.15]
[2022,1257,"165 del 19/10/2022 (rett.)",9437301327,"BUONI PASTO LOTTO 12",null,null,12218.58,244.3716,195.49728000000002,48.874320000000004,null,null,"Coll RUP Aff.",{"$f":"+J696*P696","v":15.639782400000001},0.08]
[2022,1265,"165 del 19/10/2022 (rett.)",9434743439,"BUONI PASTO LOTTO 1",null,null,71062.22,{"$f":"+H697*0.02","v":1421.2444},1136.99,{"$f":"+(I697)*0.2","v":284.24888000000004},{"$f":"+M697","v":483.21154999999999},{"$f":"+O697+O699+O700+O698","v":483.21154999999999},"Inc. Pred. Doc",{"$f":"+J697*P697","v":136.43879999999999},0.12]
[2022,1265,"165 del 19/10/2022 (rett.)",9434743439,"BUONI PASTO LOTTO 1",null,null,71062.22,1421.2444,1136.99,{"$f":"+(I698)*0.2","v":284.24888000000004},null,null,"Coll. Inc. Pred. Doc",{"$f":"+J698*P698","v":85.274249999999995},7.4999999999999997E-2]
[2022,1265,"165 del 19/10/2022 (rett.)",9434743439,"BUONI PASTO LOTTO 1",null,null,71062.22,1421.2444,1136.99,284.24888000000004,null,null,"RUP Affidamento",{"$f":"+J699*P699","v":170.54849999999999},0.15]
[2022,1265,"165 del 19/10/2022 (rett.)",9434743439,"BUONI PASTO LOTTO 1",null,null,71062.22,1421.2444,1136.99,284.24888000000004,null,null,"Coll RUP Aff.",90.95,0.08]
[2022,1265,"165 del 19/10/2022 (rett.)",9434801416,"BUONI PASTO LOTTO 3",null,null,52551.66,1051.0332000000001,{"$f":"+(I701)*0.8","v":840.82656000000009},{"$f":"+(I701)*0.2","v":210.20664000000002},{"$f":"+M701","v":357.35128800000007},{"$f":"+O701+O703+O704+O702","v":357.35128800000007},"Inc. Pred. Doc",{"$f":"+J701*P701","v":100.8991872},0.12]
[2022,1265,"165 del 19/10/2022 (rett.)",9434801416,"BUONI PASTO LOTTO 3",null,null,52551.66,{"$f":"+H702*0.02","v":1051.0332000000001},{"$f":"+(I702)*0.8","v":840.82656000000009},{"$f":"+(I702)*0.2","v":210.20664000000002},null,null,"Coll. Inc. Pred. Doc",{"$f":"+J702*P702","v":63.061992000000004},7.4999999999999997E-2]
[2022,1265,"165 del 19/10/2022 (rett.)",9434801416,"BUONI PASTO LOTTO 3",null,null,52551.66,1051.0332000000001,840.82656000000009,210.20664000000002,null,null,"RUP Affidamento",{"$f":"+J703*P703","v":126.12398400000001},0.15]
[2022,1265,"165 del 19/10/2022 (rett.)",9434801416,"BUONI PASTO LOTTO 3",null,null,52551.66,1051.0332000000001,840.82656000000009,210.20664000000002,null,null,"Coll RUP Aff.",{"$f":"+J704*P704","v":67.266124800000014},0.08]
[2022,1265,"165 del 19/10/2022 (rett.)","94348268b6","BUONI PASTO LOTTO 4",null,null,42296.52,{"$f":"+H705*0.02","v":845.93039999999996},{"$f":"+(I705)*0.8","v":676.74432000000002},{"$f":"+(I705)*0.2","v":169.18608},{"$f":"+M705","v":287.61633600000005},{"$f":"+O705+O707+O708+O706","v":287.61633600000005},"Inc. Pred. Doc",{"$f":"+J705*P705","v":81.209318400000001},0.12]
[2022,1265,"165 del 19/10/2022 (rett.)","94348268b6","BUONI PASTO LOTTO 4",null,null,42296.52,{"$f":"+H706*0.02","v":845.93039999999996},{"$f":"+(I706)*0.8","v":676.74432000000002},{"$f":"+(I706)*0.2","v":169.18608},null,null,"Coll. Inc. Pred. Doc",{"$f":"+J706*P706","v":50.755823999999997},7.4999999999999997E-2]
[2022,1265,"165 del 19/10/2022 (rett.)","94348268b6","BUONI PASTO LOTTO 4",null,null,42296.52,845.93039999999996,676.74432000000002,169.18608,null,null,"RUP Affidamento",{"$f":"+J707*P707","v":101.51164799999999},0.15]
[2022,1265,"165 del 19/10/2022 (rett.)","94348268b6","BUONI PASTO LOTTO 4",null,null,42296.52,845.93039999999996,676.74432000000002,169.18608,null,null,"Coll RUP Aff.",{"$f":"+J708*P708","v":54.139545600000005},0.08]
[2022,1265,"165 del 19/10/2022 (rett.)","9435260EDA","BUONI PASTO LOTTO 5",null,null,30630.6,{"$f":"+H709*0.02","v":612.61199999999997},{"$f":"+(I709)*0.8","v":490.08960000000002},{"$f":"+(I709)*0.2","v":122.5224},{"$f":"+M709","v":208.28808000000001},{"$f":"+O709+O711+O712+O710","v":208.28808000000001},"Inc. Pred. Doc",{"$f":"+J709*P709","v":58.810752000000001},0.12]
[2022,1265,"165 del 19/10/2022 (rett.)","9435260EDA","BUONI PASTO LOTTO 5",null,null,30630.6,{"$f":"+H710*0.02","v":612.61199999999997},{"$f":"+(I710)*0.8","v":490.08960000000002},{"$f":"+(I710)*0.2","v":122.5224},null,null,"Coll. Inc. Pred. Doc",{"$f":"+J710*P710","v":36.756720000000001},7.4999999999999997E-2]
[2022,1265,"165 del 19/10/2022 (rett.)","9435260EDA","BUONI PASTO LOTTO 5",null,null,30630.6,612.61199999999997,490.08960000000002,122.5224,null,null,"RUP Affidamento",{"$f":"+J711*P711","v":73.513440000000003},0.15]
[2022,1265,"165 del 19/10/2022 (rett.)","9435260EDA","BUONI PASTO LOTTO 5",null,null,30630.6,612.61199999999997,490.08960000000002,122.5224,null,null,"Coll RUP Aff.",{"$f":"+J712*P712","v":39.207168000000003},0.08]
[2022,1265,"165 del 19/10/2022 (rett.)",9435286452,"BUONI PASTO LOTTO 6",null,null,35014.26,700.28,{"$f":"+(I713)*0.8","v":560.22400000000005},{"$f":"+(I713)*0.2","v":140.05600000000001},{"$f":"+M713","v":238.08728000000002},{"$f":"+O713+O715+O716+O714","v":238.08728000000002},"Inc. Pred. Doc",{"$f":"+J713*P713","v":67.226880000000008},0.12]
[2022,1265,"165 del 19/10/2022 (rett.)",9435286452,"BUONI PASTO LOTTO 6",null,null,35014.26,700.28,{"$f":"+(I714)*0.8","v":560.22400000000005},{"$f":"+(I714)*0.2","v":140.05600000000001},null,null,"Coll. Inc. Pred. Doc",{"$f":"+J714*P714","v":42.016800000000003},7.4999999999999997E-2]
[2022,1265,"165 del 19/10/2022 (rett.)",9435286452,"BUONI PASTO LOTTO 6",null,null,35014.26,700.28,560.22400000000005,140.05600000000001,null,null,"RUP Affidamento",{"$f":"+J715*P715","v":84.033600000000007},0.15]
[2022,1265,"165 del 19/10/2022 (rett.)",9435286452,"BUONI PASTO LOTTO 6",null,null,35014.26,700.28,560.22400000000005,140.05600000000001,null,null,"Coll RUP Aff.",44.81,0.08]
[2022,1265,"165 del 19/10/2022 (rett.)","9435319F8A","BUONI PASTO LOTTO 7",null,null,837012.16,{"$f":"+H717*1.9/100","v":15903.231040000001},{"$f":"+(I717)*0.8","v":12722.584832},{"$f":"+(I717)*0.2","v":3180.6462080000001},{"$f":"+M717","v":5407.0985536000007},{"$f":"+O717+O718+O719+O720","v":5407.0985536000007},"Inc. Pred. Doc",{"$f":"+J717*P717","v":1526.7101798399999},0.12]
[2022,1265,"165 del 19/10/2022 (rett.)","9435319F8A","BUONI PASTO LOTTO 7",null,null,837012.16,15903.231040000001,12722.584832,3180.6462080000001,null,null,"Coll. Inc. Pred. Doc",{"$f":"+J718*P718","v":954.19386239999994},7.4999999999999997E-2]
[2022,1265,"165 del 19/10/2022 (rett.)","9435319F8A","BUONI PASTO LOTTO 7",null,null,837012.16,15903.231040000001,12722.584832,3180.6462080000001,null,null,"RUP Affidamento",{"$f":"+J719*P719","v":1908.3877247999999},0.15]
[2022,1265,"165 del 19/10/2022 (rett.)","9435319F8A","BUONI PASTO LOTTO 7",null,null,837012.16,15903.231040000001,12722.584832,3180.6462080000001,null,null,"Coll RUP Aff.",{"$f":"+J720*P720","v":1017.8067865600001},0.08]
[2022,1265,"165 del 19/10/2022 (rett.)","9435353B9A","BUONI PASTO LOTTO 8",null,null,65214.720000000001,{"$f":"+H721*0.02","v":1304.2944},1043.43,{"$f":"+(I721)*0.2","v":260.85888},{"$f":"+M721","v":443.45774999999998},{"$f":"+O721+O722+O723+O724","v":443.45774999999998},"Inc. Pred. Doc",{"$f":"+J721*P721","v":125.2116},0.12]
[2022,1265,"165 del 19/10/2022 (rett.)","9435353B9A","BUONI PASTO LOTTO 8",null,null,65214.720000000001,{"$f":"+H722*0.02","v":1304.2944},1043.43,{"$f":"+(I722)*0.2","v":260.85888},null,null,"Coll. Inc. Pred. Doc",{"$f":"+J722*P722","v":78.257249999999999},7.4999999999999997E-2]
[2022,1265,"165 del 19/10/2022 (rett.)","9435353B9A","BUONI PASTO LOTTO 8",null,null,65214.720000000001,1304.2944,1043.43,260.85888,null,null,"RUP Affidamento",{"$f":"+J723*P723","v":156.5145},0.15]
[2022,1265,"165 del 19/10/2022 (rett.)","9435353B9A","BUONI PASTO LOTTO 8",null,null,65214.720000000001,1304.2944,1043.43,260.85888,null,null,"Coll RUP Aff.",{"$f":"+J724*P724","v":83.474400000000003},0.08]
[2022,1265,"165 del 19/10/2022 (rett.)","943727802D","BUONI PASTO LOTTO 10",null,null,80354.960000000006,{"$f":"+H725*0.02","v":1607.0992000000001},{"$f":"+(I725)*0.8","v":1285.6793600000001},{"$f":"+(I725)*0.2","v":321.41984000000002},{"$f":"+M725","v":546.41372800000011},{"$f":"+O725+O726+O727+O728","v":546.41372800000011},"Inc. Pred. Doc",{"$f":"+J725*P725","v":154.28152320000001},0.12]
[2022,1265,"165 del 19/10/2022 (rett.)","943727802D","BUONI PASTO LOTTO 10",null,null,80354.960000000006,{"$f":"+H726*0.02","v":1607.0992000000001},{"$f":"+(I726)*0.8","v":1285.6793600000001},{"$f":"+(I726)*0.2","v":321.41984000000002},null,null,"Coll. Inc. Pred. Doc",{"$f":"+J726*P726","v":96.425952000000009},7.4999999999999997E-2]
[2022,1265,"165 del 19/10/2022 (rett.)","943727802D","BUONI PASTO LOTTO 10",null,null,80354.960000000006,1607.0992000000001,1285.6793600000001,321.41984000000002,null,null,"RUP Affidamento",{"$f":"+J727*P727","v":192.85190400000002},0.15]
[2022,1265,"165 del 19/10/2022 (rett.)","943727802D","BUONI PASTO LOTTO 10",null,null,80354.960000000006,1607.0992000000001,1285.6793600000001,321.41984000000002,null,null,"Coll RUP Aff.",{"$f":"+J728*P728","v":102.85434880000001},0.08]
[2022,1265,"165 del 19/10/2022 (rett.)","94372855F2","BUONI PASTO LOTTO 11",null,null,45379.18,{"$f":"+H729*0.02","v":907.58360000000005},{"$f":"+(I729)*0.8","v":726.06688000000008},{"$f":"+(I729)*0.2","v":181.51672000000002},{"$f":"+M729","v":308.58},308.58,"Inc. Pred. Doc",{"$f":"+J729*P729","v":87.128025600000001},0.12]
[2022,1265,"165 del 19/10/2022 (rett.)","94372855F2","BUONI PASTO LOTTO 11",null,null,45379.18,{"$f":"+H730*0.02","v":907.58360000000005},{"$f":"+(I730)*0.8","v":726.06688000000008},{"$f":"+(I730)*0.2","v":181.51672000000002},null,null,"Coll. Inc. Pred. Doc",54.45,7.4999999999999997E-2]
[2022,1265,"165 del 19/10/2022 (rett.)","94372855F2","BUONI PASTO LOTTO 11",null,null,45379.18,907.58360000000005,726.06688000000008,181.51672000000002,null,null,"RUP Affidamento",{"$f":"+J731*P731","v":108.91003200000002},0.15]
[2022,1265,"165 del 19/10/2022 (rett.)","94372855F2","BUONI PASTO LOTTO 11",null,null,45379.18,907.58360000000005,726.06688000000008,181.51672000000002,null,null,"Coll RUP Aff.",{"$f":"+J732*P732","v":58.08535040000001},0.08]
[2022,1265,"165 del 19/10/2022 (rett.)",9437301327,"BUONI PASTO LOTTO 12",null,null,109237.92,2184.75,{"$f":"+(I733)*0.8","v":1747.8000000000002},{"$f":"+(I733)*0.2","v":436.95000000000005},{"$f":"+M733","v":742.81000000000006},{"$f":"+O733+O735+O736+O734","v":742.81000000000006},"Inc. Pred. Doc",{"$f":"+J733*P733","v":209.73600000000002},0.12]
[2022,1265,"165 del 19/10/2022 (rett.)",9437301327,"BUONI PASTO LOTTO 12",null,null,109237.92,2184.75,1747.8000000000002,436.95000000000005,null,null,"Coll. Inc. Pred. Doc",131.08000000000001,7.4999999999999997E-2]
[2022,1265,"165 del 19/10/2022 (rett.)",9437301327,"BUONI PASTO LOTTO 12",null,null,109237.92,2184.75,1747.8000000000002,436.95000000000005,null,null,"RUP Affidamento",{"$f":"+J735*P735","v":262.17},0.15]
[2022,1265,"165 del 19/10/2022 (rett.)",9437301327,"BUONI PASTO LOTTO 12",null,null,109237.92,2184.75,1747.8000000000002,436.95000000000005,null,null,"Coll RUP Aff.",{"$f":"+J736*P736","v":139.82400000000001},0.08]
[2021,1307,"16 del 05/02/2021","ZED307DB96 ","CORRIERE ESPRESSO (solo esecuzione)","2021-10-01","2024-09-30",39900,{"$f":"+H737*0.02","v":798},{"$f":"+I737*80/100","v":638.4},{"$f":"+I737-J737","v":159.60000000000002},274.51,{"$f":"+O737+O738+O739+O740+O741+O742+O743","v":274.512},"RUP esecuzione",{"$f":"+J737*P737","v":114.91199999999999},0.18,null,null,363.89,{"$f":"+J737-M737-S737","v":-2.0000000000095497E-3}]
[2021,1307,"16 del 05/02/2021","ZED307DB96 ","CORRIERE ESPRESSO (solo esecuzione)","2021-10-01","2024-09-30",39900,798,{"$f":"+I738*80/100","v":638.4},{"$f":"+I738-J738","v":159.60000000000002},null,null,"Coll. RUP esecuzione",{"$f":"+J738*P738","v":25.536000000000001},0.04]
[2021,1307,"16 del 05/02/2021","ZED307DB96 ","CORRIERE ESPRESSO (solo esecuzione)","2021-10-01","2024-09-30",39900,{"$f":"+H739*0.02","v":798},638.4,159.60000000000002,null,null,"DEC",{"$f":"+J739*P739","v":73.415999999999997},0.115]
[2021,1307,"16 del 05/02/2021","ZED307DB96 ","CORRIERE ESPRESSO (solo esecuzione)","2021-10-01","2024-09-30",39900,798,638.4,159.60000000000002,null,null,"Coll. DEC",{"$f":"+J740*P740","v":14.363999999999999},2.2499999999999999E-2]
[2021,1307,"16 del 05/02/2021","ZED307DB96 ","CORRIERE ESPRESSO (solo esecuzione)","2021-10-01","2024-09-30",39900,798,638.4,159.60000000000002,null,null,"Coll. DEC",{"$f":"+J741*P741","v":14.363999999999999},2.2499999999999999E-2]
[2021,1307,"16 del 05/02/2021","ZED307DB96 ","CORRIERE ESPRESSO (solo esecuzione)","2021-10-01","2024-09-30",39900,798,638.4,159.60000000000002,null,null,"Inc. Ver. Conf.",{"$f":"+J742*P742","v":22.344000000000001},3.5000000000000003E-2]
[2021,1307,"16 del 05/02/2021","ZED307DB96 ","CORRIERE ESPRESSO (solo esecuzione)","2021-10-01","2024-09-30",39900,798,638.4,159.60000000000002,null,null,"Coll inc. ver. conf.",{"$f":"+J743*P743","v":9.5759999999999987},1.4999999999999999E-2]
[2022,1307,"74 DEL 20/05/2022","ZE1366CD1D","affidamento del servizio di raccolta e recapito degli  invii postali del Consiglio di Stato – Pick up mail (gara deserta)",null,null,39900,798,{"$f":"+(I744)*0.8","v":638.40000000000009},{"$f":"+(I744)*0.2","v":159.60000000000002},{"$f":"+M744","v":363.88800000000003},{"$f":"+O744+O745+O746+O747+O748+O749","v":363.88800000000003},"Incaricato programm.",{"$f":"+J744*P744","v":19.152000000000001},0.03]
[2022,1307,"74 DEL 20/05/2022","ZE1366CD1D","affidamento del servizio di raccolta e recapito degli  invii postali del Consiglio di Stato – Pick up mail (gara deserta)",null,null,39900,{"$f":"+H745*0.02","v":798},638.40000000000009,159.60000000000002,null,null,"Coll. Inc. prog.",{"$f":"+J745*P745","v":12.768000000000002},0.02]
[2022,1307,"74 DEL 20/05/2022","ZE1366CD1D","affidamento del servizio di raccolta e recapito degli  invii postali del Consiglio di Stato – Pick up mail (gara deserta)",null,null,39900,798,638.40000000000009,159.60000000000002,null,null,"Inc. Pred. Doc. ",{"$f":"+J746*P746","v":86.184000000000012},0.13500000000000001]
[2022,1307,"74 DEL 20/05/2022","ZE1366CD1D","affidamento del servizio di raccolta e recapito degli  invii postali del Consiglio di Stato – Pick up mail (gara deserta)",null,null,39900,798,638.40000000000009,159.60000000000002,null,null,"Coll. Inc. Pred.",{"$f":"+J747*P747","v":19.152000000000001},0.03]
[2022,1307,"74 DEL 20/05/2022","ZE1366CD1D","affidamento del servizio di raccolta e recapito degli  invii postali del Consiglio di Stato – Pick up mail (gara deserta)",null,null,39900,798,638.40000000000009,159.60000000000002,null,null,"RUP Affidamento",{"$f":"+J748*P748","v":185.13600000000002},0.28999999999999998]
[2022,1307,"74 DEL 20/05/2022","ZE1366CD1D","affidamento del servizio di raccolta e recapito degli  invii postali del Consiglio di Stato – Pick up mail (gara deserta)",null,null,39900,798,638.40000000000009,159.60000000000002,null,null,"Coll. RUP Affidamento",{"$f":"+J749*P749","v":41.496000000000009},6.5000000000000002E-2]
[2022,1307,"83 del 31/05/2022","Z7036A230A","affidamento del servizio di raccolta e recapito degli  invii postali del Consiglio di Stato – Pick up mail",null,null,39900,798,{"$f":"+(I750)*0.8","v":638.40000000000009},{"$f":"+(I750)*0.2","v":159.60000000000002},{"$f":"+M750","v":373.41},373.41,"Incaricato programm.",{"$f":"+J750*P750","v":19.152000000000001},0.03,null,null,null,{"$f":"+J750-M750","v":264.99000000000007}]
[2022,1307,"83 del 31/05/2022","Z7036A230A","affidamento del servizio di raccolta e recapito degli  invii postali del Consiglio di Stato – Pick up mail",null,null,39900,{"$f":"+H751*0.02","v":798},{"$f":"+(I751)*0.8","v":638.40000000000009},{"$f":"+(I751)*0.2","v":159.60000000000002},null,null,"Coll. Inc. prog.",{"$f":"+J751*P751","v":6.3840000000000012},0.01]
[2022,1307,"83 del 31/05/2022","Z7036A230A","affidamento del servizio di raccolta e recapito degli  invii postali del Consiglio di Stato – Pick up mail",null,null,39900,798,638.40000000000009,159.60000000000002,null,null,"Coll. Inc. prog.",{"$f":"+J752*P752","v":6.3840000000000012},0.01]
[2022,1307,"83 del 31/05/2022","Z7036A230A","affidamento del servizio di raccolta e recapito degli  invii postali del Consiglio di Stato – Pick up mail",null,null,39900,798,638.40000000000009,159.60000000000002,null,null,"Inc. Pred. Doc. ",{"$f":"+J753*P753","v":86.184000000000012},0.13500000000000001]
[2022,1307,"83 del 31/05/2022","Z7036A230A","affidamento del servizio di raccolta e recapito degli  invii postali del Consiglio di Stato – Pick up mail",null,null,39900,798,638.40000000000009,159.60000000000002,null,null,"Coll. Inc. Pred.",{"$f":"+J754*P754","v":19.152000000000001},0.03]
[2022,1307,"83 del 31/05/2022","Z7036A230A","affidamento del servizio di raccolta e recapito degli  invii postali del Consiglio di Stato – Pick up mail",null,null,39900,798,638.40000000000009,159.60000000000002,null,null,"RUP Affidamento",{"$f":"+J755*P755","v":185.13600000000002},0.28999999999999998]
[2022,1307,"83 del 31/05/2022","Z7036A230A","affidamento del servizio di raccolta e recapito degli  invii postali del Consiglio di Stato – Pick up mail",null,null,39900,798,638.40000000000009,159.60000000000002,null,null,"Coll. RUP Affidamento",{"$f":"+J756*P756","v":41.496000000000009},6.5000000000000002E-2]
[2022,1307,"83 del 31/05/2022","Z7036A230A","affidamento del servizio di raccolta e recapito degli  invii postali del Consiglio di Stato – Pick up mail",null,null,39900,798,638.40000000000009,159.60000000000002,null,null,"RUP Esecuzione",3.99,0.18]
[2022,1307,"83 del 31/05/2022","Z7036A230A","affidamento del servizio di raccolta e recapito degli  invii postali del Consiglio di Stato – Pick up mail",null,null,39900,798,638.40000000000009,159.60000000000002,null,null,"Coll. RUP esecuzione",0.44,0.01]
[2022,1307,"83 del 31/05/2022","Z7036A230A","affidamento del servizio di raccolta e recapito degli  invii postali del Consiglio di Stato – Pick up mail",null,null,39900,798,638.40000000000009,159.60000000000002,null,null,"Coll. RUP esecuzione",0.44,0.01]
[2022,1307,"83 del 31/05/2022","Z7036A230A","affidamento del servizio di raccolta e recapito degli  invii postali del Consiglio di Stato – Pick up mail",null,null,39900,798,638.40000000000009,159.60000000000002,null,null,"DEC",2.5499999999999998,0.115]
[2022,1307,"83 del 31/05/2022","Z7036A230A","affidamento del servizio di raccolta e recapito degli  invii postali del Consiglio di Stato – Pick up mail",null,null,39900,798,638.40000000000009,159.60000000000002,null,null,"Coll. DEC",0.5,2.2499999999999999E-2]
[2022,1307,"83 del 31/05/2022","Z7036A230A","affidamento del servizio di raccolta e recapito degli  invii postali del Consiglio di Stato – Pick up mail",null,null,39900,798,638.40000000000009,159.60000000000002,null,null,"Coll. DEC",0.5,2.2499999999999999E-2]
[2022,1307,"83 del 31/05/2022","Z7036A230A","affidamento del servizio di raccolta e recapito degli  invii postali del Consiglio di Stato – Pick up mail",null,null,39900,{"$f":"+H763*0.02","v":798},{"$f":"+(I763)*0.8","v":638.40000000000009},{"$f":"+(I763)*0.2","v":159.60000000000002},null,null,"Inc. Ver. Conf",0.78,3.5000000000000003E-2]
[2022,1307,"83 del 31/05/2022","Z7036A230A","affidamento del servizio di raccolta e recapito degli  invii postali del Consiglio di Stato – Pick up mail",null,null,39900,798,638.40000000000009,159.60000000000002,null,null,"Coll. Inc. Ver. Conf",0.33,1.4999999999999999E-2]
[2022,2298,"117 del 19/07/2022","Z37373518C","Convenzione Consip Salute Tar Trento",null,null,3053.1,{"$f":"+H765*2/100","v":61.061999999999998},{"$f":"+(I765)*0.8","v":48.849600000000002},{"$f":"+(I765)*0.2","v":12.212400000000001},24.67,{"$f":"+O765+O766+O767+O768+O769+O770","v":24.669048},"Incaricato programm.",{"$f":"J765*P765","v":2.4424800000000002},0.05,null,null,null,{"$f":"+L765-M765","v":9.5200000000161822E-4}]
[2022,2298,"117 del 19/07/2022","Z37373518C","Convenzione Consip Salute Tar Trento",null,null,3053.1,61.061999999999998,{"$f":"+(I766)*0.8","v":48.849600000000002},{"$f":"+(I766)*0.2","v":12.212400000000001},null,null,"Coll. Inc. prog.",{"$f":"J766*P766","v":1.4654880000000001},0.03]
[2022,2298,"117 del 19/07/2022","Z37373518C","Convenzione Consip Salute Tar Trento",null,null,3053.1,61.061999999999998,48.849600000000002,12.212400000000001,null,null,"Inc. Pred. Doc. ",{"$f":"J767*P767","v":5.8619520000000005},0.12]
[2022,2298,"117 del 19/07/2022","Z37373518C","Convenzione Consip Salute Tar Trento",null,null,3053.1,61.061999999999998,48.849600000000002,12.212400000000001,null,null,"Coll. Inc. Pred.",{"$f":"J768*P768","v":3.6637200000000001},7.4999999999999997E-2]
[2022,2298,"117 del 19/07/2022","Z37373518C","Convenzione Consip Salute Tar Trento",null,null,3053.1,61.061999999999998,48.849600000000002,12.212400000000001,null,null,"RUP Affidamento",{"$f":"J769*P769","v":7.3274400000000002},0.15]
[2022,2298,"117 del 19/07/2022","Z37373518C","Convenzione Consip Salute Tar Trento",null,null,3053.1,61.061999999999998,48.849600000000002,12.212400000000001,null,null,"Coll. RUP Affidamento",{"$f":"J770*P770","v":3.9079680000000003},0.08]
[2022,2298,"118 del 19/07/2022","ZBF37351ED","Convenzione Consip Salute Tar Bolzano",null,null,3809.7,76.194000000000003,60.955200000000005,15.238800000000001,30.78,{"$f":"+O771+O772+O773+O774+O775+O776","v":30.782376000000006},"Incaricato programm.",{"$f":"J771*P771","v":3.0477600000000002},0.05,null,null,null,{"$f":"+L771-M771","v":-2.3760000000052628E-3}]
[2022,2298,"118 del 19/07/2022","ZBF37351ED","Convenzione Consip Salute Tar Bolzano",null,null,3809.7,76.194000000000003,{"$f":"+(I772)*0.8","v":60.955200000000005},{"$f":"+(I772)*0.2","v":15.238800000000001},null,null,"Coll. Inc. prog.",{"$f":"J772*P772","v":1.8286560000000001},0.03]
[2022,2298,"118 del 19/07/2022","ZBF37351ED","Convenzione Consip Salute Tar Bolzano",null,null,3809.7,76.194000000000003,{"$f":"+(I773)*0.8","v":60.955200000000005},{"$f":"+(I773)*0.2","v":15.238800000000001},null,null,"Inc. Pred. Doc. ",{"$f":"J773*P773","v":7.3146240000000002},0.12]
[2022,2298,"118 del 19/07/2022","ZBF37351ED","Convenzione Consip Salute Tar Bolzano",null,null,3809.7,76.194000000000003,{"$f":"+(I774)*0.8","v":60.955200000000005},{"$f":"+(I774)*0.2","v":15.238800000000001},null,null,"Coll. Inc. Pred.",{"$f":"J774*P774","v":4.5716400000000004},7.4999999999999997E-2]
[2022,2298,"118 del 19/07/2022","ZBF37351ED","Convenzione Consip Salute Tar Bolzano",null,null,3809.7,76.194000000000003,{"$f":"+(I775)*0.8","v":60.955200000000005},{"$f":"+(I775)*0.2","v":15.238800000000001},null,null,"RUP Affidamento",{"$f":"J775*P775","v":9.1432800000000007},0.15]
[2022,2298,"118 del 19/07/2022","ZBF37351ED","Convenzione Consip Salute Tar Bolzano",null,null,3809.7,76.194000000000003,{"$f":"+(I776)*0.8","v":60.955200000000005},{"$f":"+(I776)*0.2","v":15.238800000000001},null,null,"Coll. RUP Affidamento",{"$f":"J776*P776","v":4.8764160000000007},0.08]
[2022,3306,"57 del 14/04/2022"," Z9A360314C","servizio di noleggio di n. 2 autovetture",null,null,31892.04,{"$f":"+H777*2/100","v":637.84080000000006},{"$f":"+(I777)*0.8","v":510.27264000000008},{"$f":"+(I777)*0.2","v":127.56816000000002},{"$f":"+M777","v":257.68},257.68,"Incaricato programm.",{"$f":"J777*P777","v":25.513632000000005},0.05]
[2022,3306,"57 del 14/04/2022"," Z9A360314C","servizio di noleggio di n. 2 autovetture",null,null,31892.04,{"$f":"+H778*2/100","v":637.84080000000006},{"$f":"+(I778)*0.8","v":510.27264000000008},{"$f":"+(I778)*0.2","v":127.56816000000002},null,null,"Coll. Inc. prog.",{"$f":"J778*P778","v":15.308179200000001},0.03]
[2022,3306,"57 del 14/04/2022"," Z9A360314C","servizio di noleggio di n. 2 autovetture",null,null,31892.04,637.84080000000006,510.27264000000008,127.56816000000002,null,null,"Inc. Pred. Doc. ",{"$f":"J779*P779","v":61.232716800000006},0.12]
[2022,3306,"57 del 14/04/2022"," Z9A360314C","servizio di noleggio di n. 2 autovetture",null,null,31892.04,637.84080000000006,510.27264000000008,127.56816000000002,null,null,"Coll. Inc. Pred.",{"$f":"J780*P780","v":38.270448000000002},7.4999999999999997E-2]
[2022,3306,"57 del 14/04/2022"," Z9A360314C","servizio di noleggio di n. 2 autovetture",null,null,31892.04,637.84080000000006,510.27264000000008,127.56816000000002,null,null,"RUP Affidamento",{"$f":"J781*P781","v":76.540896000000004},0.15]
[2022,3306,"57 del 14/04/2022"," Z9A360314C","servizio di noleggio di n. 2 autovetture",null,null,31892.04,637.84080000000006,510.27264000000008,127.56816000000002,null,null,"Coll. RUP Affidamento",{"$f":"J782*P782","v":40.821811200000006},0.08]
[2022,1290,"82 del 31/05/2022","92590455A5","Rinnovo della polizza assicurativa per la responsabilità patrimoniale del personale con qualifica dirigenziale in servizio presso gli uffici della Giustizia amministrativa - Responsabilità civile verso terzi e tutela legale (solo affidamento)","2022-07-03","2024-12-31",36410.43,728.2,{"$f":"+I783*0.8","v":582.56000000000006},{"$f":"+I783*0.2","v":145.64000000000001},{"$f":"+M783","v":302.93},302.93,"Inc. Pred. Doc. ",{"$f":"+J783*P783","v":78.645600000000016},0.13500000000000001,null,null,null,0]
[2022,1290,"82 del 31/05/2022","92590455A5","Rinnovo della polizza assicurativa per la responsabilità patrimoniale del personale con qualifica dirigenziale in servizio presso gli uffici della Giustizia amministrativa - Responsabilità civile verso terzi e tutela legale (solo affidamento)","2022-07-03","2024-12-31",36410.43,728.2,582.56000000000006,145.64000000000001,null,null,"Coll. Inc. Pred.",{"$f":"+J784*P784","v":17.476800000000001},0.03]
[2022,1290,"82 del 31/05/2022","92590455A5","Rinnovo della polizza assicurativa per la responsabilità patrimoniale del personale con qualifica dirigenziale in servizio presso gli uffici della Giustizia amministrativa - Responsabilità civile verso terzi e tutela legale (solo affidamento)","2022-07-03","2024-12-31",36410.43,728.2,582.56000000000006,145.64000000000001,null,null,"RUP Affidamento",{"$f":"+J785*P785","v":168.94239999999999},0.28999999999999998]
[2022,1290,"82 del 31/05/2022","92590455A5","Rinnovo della polizza assicurativa per la responsabilità patrimoniale del personale con qualifica dirigenziale in servizio presso gli uffici della Giustizia amministrativa - Responsabilità civile verso terzi e tutela legale (solo affidamento)","2022-07-03","2024-12-31",36410.43,728.2,582.56000000000006,145.64000000000001,null,null,"Coll. RUP Affidamento",37.86,6.5000000000000002E-2]
[2022,3320,"28 DEL 16/02/2022","ZE1353D6D0.","Affidamento del servizio TVCC con videoproiettore",null,null,13000,{"$f":"+H787*0.02","v":260},{"$f":"+(I787)*0.8","v":208},{"$f":"+(I787)*0.2","v":52},{"$f":"+M787","v":208.00000000000003},{"$f":"+O787+O788+O789+O790+O791+O792+O793+O794+O795+O796+O797+O798+O799+O800","v":208.00000000000003},"Incaricato programm.",{"$f":"+J787*P787","v":6.24},0.03,null,null,null,{"$f":"+J787-L787","v":0}]
[2022,3320,"28 DEL 16/02/2022","ZE1353D6D0.","Affidamento del servizio TVCC con videoproiettore",null,null,13000,{"$f":"+H788*0.02","v":260},{"$f":"+(I788)*0.8","v":208},{"$f":"+(I788)*0.2","v":52},null,null,"Coll. Inc. prog.",{"$f":"+J788*P788","v":4.16},0.02]
[2022,3320,"28 DEL 16/02/2022","ZE1353D6D0.","Affidamento del servizio TVCC con videoproiettore",null,null,13000,260,208,52,null,null,"Inc. Pred. Doc. ",{"$f":"+J789*P789","v":28.080000000000002},0.13500000000000001]
[2022,3320,"28 DEL 16/02/2022","ZE1353D6D0.","Affidamento del servizio TVCC con videoproiettore",null,null,13000,260,208,52,null,null,"Coll. Inc. Pred. Doc. ",{"$f":"+J790*P790","v":6.24},0.03]
[2022,3320,"28 DEL 16/02/2022","ZE1353D6D0.","Affidamento del servizio TVCC con videoproiettore",null,null,13000,260,208,52,null,null,"RUP Affidamento",{"$f":"+J791*P791","v":60.319999999999993},0.28999999999999998]
[2022,3320,"28 DEL 16/02/2022","ZE1353D6D0.","Affidamento del servizio TVCC con videoproiettore",null,null,13000,260,208,52,null,null,"Coll. RUP Affidamento",{"$f":"+J792*P792","v":13.52},6.5000000000000002E-2]
[2022,3320,"28 DEL 16/02/2022","ZE1353D6D0.","Affidamento del servizio TVCC con videoproiettore",null,null,13000,260,208,52,null,null,"RUP Esecuzione",{"$f":"+J793*P793","v":37.44},0.18]
[2022,3320,"28 DEL 16/02/2022","ZE1353D6D0.","Affidamento del servizio TVCC con videoproiettore",null,null,13000,260,208,52,null,null,"Coll. RUP esecuzione",{"$f":"+J787*P794","v":4.16},0.02]
[2022,3320,"28 DEL 16/02/2022","ZE1353D6D0.","Affidamento del servizio TVCC con videoproiettore",null,null,13000,260,208,52,null,null,"Coll. RUP esecuzione",{"$f":"+J787*P795","v":4.16},0.02]
[2022,3320,"28 DEL 16/02/2022","ZE1353D6D0.","Affidamento del servizio TVCC con videoproiettore",null,null,13000,260,208,52,null,null,"DEC",{"$f":"+J787*P796","v":23.92},0.115]
[2022,3320,"28 DEL 16/02/2022","ZE1353D6D0.","Affidamento del servizio TVCC con videoproiettore",null,null,13000,260,208,52,null,null,"Coll. DEC",{"$f":"+J787*P797","v":4.68},2.2499999999999999E-2]
[2022,3320,"28 DEL 16/02/2022","ZE1353D6D0.","Affidamento del servizio TVCC con videoproiettore",null,null,13000,260,208,52,null,null,"Coll. DEC",{"$f":"+J788*P798","v":4.68},2.2499999999999999E-2]
[2022,3320,"28 DEL 16/02/2022","ZE1353D6D0.","Affidamento del servizio TVCC con videoproiettore",null,null,13000,260,208,52,null,null,"Inc. Ver. Conf",{"$f":"+J789*P799","v":7.2800000000000011},3.5000000000000003E-2]
[2022,3320,"28 DEL 16/02/2022","ZE1353D6D0.","Affidamento del servizio TVCC con videoproiettore",null,null,13000,260,208,52,null,null,"Coll. Inc. Ver. Conf",{"$f":"+J790*P800","v":3.12},1.4999999999999999E-2]
[2022,3322,"80 DEL 27/05/2022","Z993692658","Servizio di sanificazione dei libri presso la Biblioteca del Consiglio di Stato (MANCA INVIO DETERMINA)",null,null,16000,{"$f":"+H801*0.02","v":320},{"$f":"+(I801)*0.8","v":256},{"$f":"+(I801)*0.2","v":64},{"$f":"+M801","v":256},{"$f":"+O801+O802+O803+O804+O805+O806+O807+O808+O809+O810+O811+O812+O813+O814","v":256},"Incaricato programm.",{"$f":"+J801*P801","v":7.68},0.03,null,null,null,{"$f":"+J801-L801","v":0}]
[2022,3322,"80 DEL 27/05/2022","Z993692658","Servizio di sanificazione dei libri presso la Biblioteca del Consiglio di Stato (MANCA INVIO DETERMINA)",null,null,16000,{"$f":"+H802*0.02","v":320},{"$f":"+(I802)*0.8","v":256},{"$f":"+(I802)*0.2","v":64},null,null,"Coll. Inc. prog.",{"$f":"+J802*P802","v":5.12},0.02]
[2022,3322,"80 DEL 27/05/2022","Z993692658","Servizio di sanificazione dei libri presso la Biblioteca del Consiglio di Stato (MANCA INVIO DETERMINA)",null,null,16000,320,256,64,null,null,"Inc. Pred. Doc. ",{"$f":"+J803*P803","v":34.56},0.13500000000000001]
[2022,3322,"80 DEL 27/05/2022","Z993692658","Servizio di sanificazione dei libri presso la Biblioteca del Consiglio di Stato (MANCA INVIO DETERMINA)",null,null,16000,320,256,64,null,null,"Coll. Inc. Pred. Doc. ",{"$f":"+J804*P804","v":7.68},0.03]
[2022,3322,"80 DEL 27/05/2022","Z993692658","Servizio di sanificazione dei libri presso la Biblioteca del Consiglio di Stato (MANCA INVIO DETERMINA)",null,null,16000,320,256,64,null,null,"RUP Affidamento",{"$f":"+J805*P805","v":74.239999999999995},0.28999999999999998]
[2022,3322,"80 DEL 27/05/2022","Z993692658","Servizio di sanificazione dei libri presso la Biblioteca del Consiglio di Stato (MANCA INVIO DETERMINA)",null,null,16000,320,256,64,null,null,"Coll. RUP Affidamento",{"$f":"+J806*P806","v":16.64},6.5000000000000002E-2]
[2022,3322,"80 DEL 27/05/2022","Z993692658","Servizio di sanificazione dei libri presso la Biblioteca del Consiglio di Stato (MANCA INVIO DETERMINA)",null,null,16000,320,256,64,null,null,"RUP Esecuzione",{"$f":"+J807*P807","v":46.08},0.18]
[2022,3322,"80 DEL 27/05/2022","Z993692658","Servizio di sanificazione dei libri presso la Biblioteca del Consiglio di Stato (MANCA INVIO DETERMINA)",null,null,16000,320,256,64,null,null,"Coll. RUP esecuzione",{"$f":"+J801*P808","v":5.12},0.02]
[2022,3322,"80 DEL 27/05/2022","Z993692658","Servizio di sanificazione dei libri presso la Biblioteca del Consiglio di Stato (MANCA INVIO DETERMINA)",null,null,16000,320,256,64,null,null,"Coll. RUP esecuzione",{"$f":"+J801*P809","v":5.12},0.02]
[2022,3322,"80 DEL 27/05/2022","Z993692658","Servizio di sanificazione dei libri presso la Biblioteca del Consiglio di Stato (MANCA INVIO DETERMINA)",null,null,16000,320,256,64,null,null,"DEC",{"$f":"+J801*P810","v":29.44},0.115]
[2022,3322,"80 DEL 27/05/2022","Z993692658","Servizio di sanificazione dei libri presso la Biblioteca del Consiglio di Stato (MANCA INVIO DETERMINA)",null,null,16000,320,256,64,null,null,"Coll. DEC",{"$f":"+J801*P811","v":5.76},2.2499999999999999E-2]
[2022,3322,"80 DEL 27/05/2022","Z993692658","Servizio di sanificazione dei libri presso la Biblioteca del Consiglio di Stato (MANCA INVIO DETERMINA)",null,null,16000,320,256,64,null,null,"Coll. DEC",{"$f":"+J802*P812","v":5.76},2.2499999999999999E-2]
[2022,3322,"80 DEL 27/05/2022","Z993692658","Servizio di sanificazione dei libri presso la Biblioteca del Consiglio di Stato (MANCA INVIO DETERMINA)",null,null,16000,320,256,64,null,null,"Inc. Ver. Conf",{"$f":"+J803*P813","v":8.9600000000000009},3.5000000000000003E-2]
[2022,3322,"80 DEL 27/05/2022","Z993692658","Servizio di sanificazione dei libri presso la Biblioteca del Consiglio di Stato (MANCA INVIO DETERMINA)",null,null,16000,320,256,64,null,null,"Coll. Inc. Ver. Conf",{"$f":"+J804*P814","v":3.84},1.4999999999999999E-2]
[null,null,null,null,null,null,null,null,null,null,null,null,null,null,null,null,null,null,null,{"$f":"SUBTOTAL(9,T2:T814)","v":34372.659748888895}]